Workbook

Sheet Wolman Count Worksheet
A1: G&B-108b (4/16/2019)
A3: Wolman Count for Riprap Gradation (G&B .211)
A5: Project No: | F5: Tester Name: | N5: Date:
A7: Material Type: | F7: Pit Number or Stockpile Location: | N7: Sample #
A9: Pay Item Number | E9: Riprap Class | H9: Quantity
A12: Particle # | C12: Measured Intermediate Axis (inches) | E12: Particle # | G12: Measured Intermediate Axis (inches) | I12: Particle # | K12: Measured Intermediate Axis (inches) | M12: Particle # | O12: Measured Intermediate Axis (inches)
A13: 1 | E13: 26 | I13: 51 | M13: 76 | T13: 1 | U13: =C13 -> 0 | V13: =COUNTIF(U$13:U$112,"<=1") -> 100
A14: 2 | E14: 27 | I14: 52 | M14: 77 | T14: 2 | U14: =C14 -> 0 | V14: =COUNTIF(U$13:U$112,"<=2") -> 100
A15: 3 | E15: 28 | I15: 53 | M15: 78 | T15: 3 | U15: =C15 -> 0 | V15: =COUNTIF(U$13:U$112,"<=3") -> 100
A16: 4 | E16: 29 | I16: 54 | M16: 79 | T16: 4 | U16: =C16 -> 0 | V16: =COUNTIF(U$13:U$112,"<=4") -> 100
A17: 5 | E17: 30 | I17: 55 | M17: 80 | T17: 5 | U17: =C17 -> 0 | V17: =COUNTIF(U$13:U$112,"<=6") -> 100
A18: 6 | E18: 31 | I18: 56 | M18: 81 | T18: 6 | U18: =C18 -> 0 | V18: =COUNTIF(U$13:U$112,"<=9") -> 100
A19: 7 | E19: 32 | I19: 57 | M19: 82 | T19: 7 | U19: =C19 -> 0 | V19: =COUNTIF(U$13:U$112,"<=12") -> 100
A20: 8 | E20: 33 | I20: 58 | M20: 83 | T20: 8 | U20: =C20 -> 0 | V20: =COUNTIF(U$13:U$112,"<=15") -> 100
A21: 9 | E21: 34 | I21: 59 | M21: 84 | T21: 9 | U21: =C21 -> 0 | V21: =COUNTIF(U$13:U$112,"<=18") -> 100
A22: 10 | E22: 35 | I22: 60 | M22: 85 | T22: 10 | U22: =C22 -> 0 | V22: =COUNTIF(U$13:U$112,"<=21") -> 100
A23: 11 | E23: 36 | I23: 61 | M23: 86 | T23: 11 | U23: =C23 -> 0 | V23: =COUNTIF(U$13:U$112,"<=24") -> 100
A24: 12 | E24: 37 | I24: 62 | M24: 87 | T24: 12 | U24: =C24 -> 0 | V24: =COUNTIF(U$13:U$112,"<=27") -> 100
A25: 13 | E25: 38 | I25: 63 | M25: 88 | T25: 13 | U25: =C25 -> 0 | V25: =COUNTIF(U$13:U$112,"<=33") -> 100
A26: 14 | E26: 39 | I26: 64 | M26: 89 | T26: 14 | U26: =C26 -> 0
A27: 15 | E27: 40 | I27: 65 | M27: 90 | T27: 15 | U27: =C27 -> 0
A28: 16 | E28: 41 | I28: 66 | M28: 91 | T28: 16 | U28: =C28 -> 0
A29: 17 | E29: 42 | I29: 67 | M29: 92 | T29: 17 | U29: =C29 -> 0
A30: 18 | E30: 43 | I30: 68 | M30: 93 | T30: 18 | U30: =C30 -> 0
A31: 19 | E31: 44 | I31: 69 | M31: 94 | T31: 19 | U31: =C31 -> 0
A32: 20 | E32: 45 | I32: 70 | M32: 95 | T32: 20 | U32: =C32 -> 0
A33: 21 | E33: 46 | I33: 71 | M33: 96 | T33: 21 | U33: =C33 -> 0
A34: 22 | E34: 47 | I34: 72 | M34: 97 | T34: 22 | U34: =C34 -> 0
A35: 23 | E35: 48 | I35: 73 | M35: 98 | T35: 23 | U35: =C35 -> 0
A36: 24 | E36: 49 | I36: 74 | M36: 99 | T36: 24 | U36: =C36 -> 0
A37: 25 | E37: 50 | I37: 75 | M37: 100 | T37: 25 | U37: =C37 -> 0
A38: Once all measurements have been recorded complete 'Wolman Grad._e-worksheet_X', for the applicable riprap class, to get gradation results. Submit this form with G&B 109b. | T38: 26 | U38: =G13 -> 0
T39: 27 | U39: =G14 -> 0
T40: 28 | U40: =G15 -> 0
T41: 29 | U41: =G16 -> 0
T42: 30 | U42: =G17 -> 0
T43: 31 | U43: =G18 -> 0
T44: 32 | U44: =G19 -> 0
T45: 33 | U45: =G20 -> 0
T46: 34 | U46: =G21 -> 0
...

Sheet Wolman Grad._e-worksheet_I
A2: Last Updated: | C2: 43571
A4: Riprap Gradation from Wolman Count
A5: Project No: | D5: Tester Name: | G5: Date:
A6: Material Type: Class I Riprap
A7: Sample #: | D7: Pit Number or Stockpile Location:
A8: Pay Item Number | E8: Riprap Class | G8: Quantity | J8: Gradation Tests
J9: Required | M9: Attached
A13: Instructions:
A14: 1 | B14: Enter the number of rocks, from Wolman Count Worksheet, that fall within the given size range.
A15: 2 | B15: Based the Semi-log Gradation Plot, determine the particle size corresponding to the cumulative percent smaller values at 15, 50, 85, and 100 percent.
A17: 3 | B17: Record the D15, D50, D85, and D100 values on G&B 109b form
A18: 4 | B18: Submit this form and Semi-log Gradation Plot with G&B 109b
B20: Table XX - Rock Count and Particle Size Distribution
B21: Size (inches) | C21: Size Range | D21: Rock Count (1) | E21: Cumulative Rock Count | F21: Cumulative Percent Smaller | M21: Class I Spec Ranges
B22: 1 | C22: ≤ 1.00 | D22: ='Wolman Count Worksheet'!V13 -> 100 | E22: =D22 -> 100 | F22: =E22/100 -> 1 | M22: Percent Passing | N22: Size (inches)
B23: 2 | C23: 1.0 < x ≤ 2.0 | D23: ='Wolman Count Worksheet'!V14-E22 -> 0 | E23: =D23+E22 -> 100 | F23: =E23/100 -> 1 | N23: min | O23: max
B24: 3 | C24: 2.0 < x ≤ 3.0 | D24: ='Wolman Count Worksheet'!V15-E23 -> 0 | E24: =D24+E23 -> 100 | F24: =E24/100 -> 1 | M24: 0.15 | N24: 1 | O24: 3
B25: 4 | C25: 3.0 < x ≤ 4.0 | D25: ='Wolman Count Worksheet'!V16-E24 -> 0 | E25: =D25+E24 -> 100 | F25: =E25/100 -> 1 | M25: 0.5 | N25: 2 | O25: 4
B26: 6 | C26: 4.0 < x ≤ 6.0 | D26: ='Wolman Count Worksheet'!V17-E25 -> 0 | E26: =D26+E25 -> 100 | F26: =E26/100 -> 1 | M26: 0.85 | N26: 3 | O26: 5
B27: 9 | C27: 6.0 < x ≤ 9.0 | D27: ='Wolman Count Worksheet'!V18-E26 -> 0 | E27: =D27+E26 -> 100 | F27: =E27/100 -> 1 | M27: 1 | N27: 4 | O27: 6
B28: 12 | C28: 9.0 < x ≤ 12.0 | D28: ='Wolman Count Worksheet'!V19-E27 -> 0 | E28: =D28+E27 -> 100 | F28: =E28/100 -> 1
B29: 15 | C29: 12.0 < x ≤ 15.0 | D29: ='Wolman Count Worksheet'!V20-E28 -> 0 | E29: =D29+E28 -> 100 | F29: =E29/100 -> 1
B30: 18 | C30: 15.0 < x ≤ 18.0 | D30: ='Wolman Count Worksheet'!V21-E29 -> 0 | E30: =D30+E29 -> 100 | F30: =E30/100 -> 1
B31: 21 | C31: 18.0 < x ≤ 21.0 | D31: ='Wolman Count Worksheet'!V22-E30 -> 0 | E31: =D31+E30 -> 100 | F31: =E31/100 -> 1
B32: 24 | C32: 21.0 < x ≤ 24.0 | D32: ='Wolman Count Worksheet'!V23-E31 -> 0 | E32: =D32+E31 -> 100 | F32: =E32/100 -> 1
B33: 27 | C33: 24.0 < x ≤ 27.0 | D33: ='Wolman Count Worksheet'!V24-E32 -> 0 | E33: =D33+E32 -> 100 | F33: =E33/100 -> 1
B34: 30 | C34: 27.0 < x ≤ 33.0 | D34: ='Wolman Count Worksheet'!V25-E33 -> 0 | E34: =D34+E33 -> 100 | F34: =E34/100 -> 1

Sheet Wolman Grad._e-worksheet_II
A2: Last Updated: | C2: 43571
A4: Riprap Gradation from Wolman Count
A5: Project No: | D5: Tester Name: | G5: Date:
A6: Material Type: Class II Riprap
A7: Sample #: | D7: Pit Number or Stockpile Location:
A8: Pay Item Number | E8: Riprap Class | G8: Quantity | J8: Gradation Tests
J9: Required | M9: Attached
A13: Instructions:
A14: 1 | B14: Enter the number of rocks, from Wolman Count Worksheet, that fall within the given size range.
A15: 2 | B15: Based the Semi-log Gradation Plot, determine the particle size corresponding to the cumulative percent smaller values at 15, 50, 85, and 100 percent.
A17: 3 | B17: Record the D15, D50, D85, and D100 values on G&B 109b form
A18: 4 | B18: Submit this form and Semi-log Gradation Plot with G&B 109b
B20: Table XX - Rock Count and Particle Size Distribution
B21: Size (inches) | C21: Size Range | D21: Rock Count (1) | E21: Cumulative Rock Count | F21: Cumulative Percent Smaller | M21: Class II Spec Ranges
B22: 1 | C22: ≤ 1.00 | D22: ='Wolman Count Worksheet'!V13 -> 100 | E22: =D22 -> 100 | F22: =E22/100 -> 1 | M22: Percent Passing | N22: Size (inches)
B23: 2 | C23: 1.0 < x ≤ 2.0 | D23: ='Wolman Count Worksheet'!V14-E22 -> 0 | E23: =D23+E22 -> 100 | F23: =E23/100 -> 1 | N23: min | O23: max
B24: 3 | C24: 2.0 < x ≤ 3.0 | D24: ='Wolman Count Worksheet'!V15-E23 -> 0 | E24: =D24+E23 -> 100 | F24: =E24/100 -> 1 | M24: 0.15 | N24: 3 | O24: 6
B25: 4 | C25: 3.0 < x ≤ 4.0 | D25: ='Wolman Count Worksheet'!V16-E24 -> 0 | E25: =D25+E24 -> 100 | F25: =E25/100 -> 1 | M25: 0.5 | N25: 5 | O25: 8
B26: 6 | C26: 4.0 < x ≤ 6.0 | D26: ='Wolman Count Worksheet'!V17-E25 -> 0 | E26: =D26+E25 -> 100 | F26: =E26/100 -> 1 | M26: 0.85 | N26: 7 | O26: 11
B27: 9 | C27: 6.0 < x ≤ 9.0 | D27: ='Wolman Count Worksheet'!V18-E26 -> 0 | E27: =D27+E26 -> 100 | F27: =E27/100 -> 1 | M27: 1 | N27: 9 | O27: 12
B28: 12 | C28: 9.0 < x ≤ 12.0 | D28: ='Wolman Count Worksheet'!V19-E27 -> 0 | E28: =D28+E27 -> 100 | F28: =E28/100 -> 1
B29: 15 | C29: 12.0 < x ≤ 15.0 | D29: ='Wolman Count Worksheet'!V20-E28 -> 0 | E29: =D29+E28 -> 100 | F29: =E29/100 -> 1
B30: 18 | C30: 15.0 < x ≤ 18.0 | D30: ='Wolman Count Worksheet'!V21-E29 -> 0 | E30: =D30+E29 -> 100 | F30: =E30/100 -> 1
B31: 21 | C31: 18.0 < x ≤ 21.0 | D31: ='Wolman Count Worksheet'!V22-E30 -> 0 | E31: =D31+E30 -> 100 | F31: =E31/100 -> 1
B32: 24 | C32: 21.0 < x ≤ 24.0 | D32: ='Wolman Count Worksheet'!V23-E31 -> 0 | E32: =D32+E31 -> 100 | F32: =E32/100 -> 1
B33: 27 | C33: 24.0 < x ≤ 27.0 | D33: ='Wolman Count Worksheet'!V24-E32 -> 0 | E33: =D33+E32 -> 100 | F33: =E33/100 -> 1
B34: 30 | C34: 27.0 < x ≤ 33.0 | D34: ='Wolman Count Worksheet'!V25-E33 -> 0 | E34: =D34+E33 -> 100 | F34: =E34/100 -> 1

Sheet Wolman Grad._e-worksheet_III
A2: Last Updated: | C2: 43571
A4: Riprap Gradation from Wolman Count
A5: Project No: | D5: Tester Name: | G5: Date:
A6: Material Type: Class III Riprap
A7: Sample #: | D7: Pit Number or Stockpile Location:
A8: Pay Item Number | E8: Riprap Class | G8: Quantity | J8: Gradation Tests
J9: Required | M9: Attached
A13: Instructions:
A14: 1 | B14: Enter the number of rocks, from Wolman Count Worksheet, that fall within the given size range.
A15: 2 | B15: Based the Semi-log Gradation Plot, determine the particle size corresponding to the cumulative percent smaller values at 15, 50, 85, and 100 percent.
A17: 3 | B17: Record the D15, D50, D85, and D100 values on G&B 109b form
A18: 4 | B18: Submit this form and Semi-log Gradation Plot with G&B 109b
B20: Table XX - Rock Count and Particle Size Distribution
B21: Size (inches) | C21: Size Range | D21: Rock Count (1) | E21: Cumulative Rock Count | F21: Cumulative Percent Smaller | M21: Class III Spec Ranges
B22: 1 | C22: ≤ 1.00 | D22: ='Wolman Count Worksheet'!V13 -> 100 | E22: =D22 -> 100 | F22: =E22/100 -> 1 | M22: Percent Passing | N22: Size (inches)
B23: 2 | C23: 1.0 < x ≤ 2.0 | D23: ='Wolman Count Worksheet'!V14-E22 -> 0 | E23: =D23+E22 -> 100 | F23: =E23/100 -> 1 | N23: min | O23: max
B24: 3 | C24: 2.0 < x ≤ 3.0 | D24: ='Wolman Count Worksheet'!V15-E23 -> 0 | E24: =D24+E23 -> 100 | F24: =E24/100 -> 1 | M24: 0.15 | N24: 6 | O24: 8
B25: 4 | C25: 3.0 < x ≤ 4.0 | D25: ='Wolman Count Worksheet'!V16-E24 -> 0 | E25: =D25+E24 -> 100 | F25: =E25/100 -> 1 | M25: 0.5 | N25: 8 | O25: 11
B26: 6 | C26: 4.0 < x ≤ 6.0 | D26: ='Wolman Count Worksheet'!V17-E25 -> 0 | E26: =D26+E25 -> 100 | F26: =E26/100 -> 1 | M26: 0.85 | N26: 11 | O26: 15
B27: 9 | C27: 6.0 < x ≤ 9.0 | D27: ='Wolman Count Worksheet'!V18-E26 -> 0 | E27: =D27+E26 -> 100 | F27: =E27/100 -> 1 | M27: 1 | N27: 15 | O27: 18
B28: 12 | C28: 9.0 < x ≤ 12.0 | D28: ='Wolman Count Worksheet'!V19-E27 -> 0 | E28: =D28+E27 -> 100 | F28: =E28/100 -> 1
B29: 15 | C29: 12.0 < x ≤ 15.0 | D29: ='Wolman Count Worksheet'!V20-E28 -> 0 | E29: =D29+E28 -> 100 | F29: =E29/100 -> 1
B30: 18 | C30: 15.0 < x ≤ 18.0 | D30: ='Wolman Count Worksheet'!V21-E29 -> 0 | E30: =D30+E29 -> 100 | F30: =E30/100 -> 1
B31: 21 | C31: 18.0 < x ≤ 21.0 | D31: ='Wolman Count Worksheet'!V22-E30 -> 0 | E31: =D31+E30 -> 100 | F31: =E31/100 -> 1
B32: 24 | C32: 21.0 < x ≤ 24.0 | D32: ='Wolman Count Worksheet'!V23-E31 -> 0 | E32: =D32+E31 -> 100 | F32: =E32/100 -> 1
B33: 27 | C33: 24.0 < x ≤ 27.0 | D33: ='Wolman Count Worksheet'!V24-E32 -> 0 | E33: =D33+E32 -> 100 | F33: =E33/100 -> 1
B34: 30 | C34: 27.0 < x ≤ 33.0 | D34: ='Wolman Count Worksheet'!V25-E33 -> 0 | E34: =D34+E33 -> 100 | F34: =E34/100 -> 1

Sheet Wolman Grad._e-worksheet_IV
A2: Last Updated: | C2: 43206
A4: Riprap Gradation from Wolman Count
A5: Project No: | D5: Tester Name: | G5: Date:
A6: Material Type: Class IV Riprap
A7: Sample #: | D7: Pit Number or Stockpile Location:
A8: Pay Item Number | E8: Riprap Class | G8: Quantity | J8: Gradation Tests
J9: Required | M9: Attached
A13: Instructions:
A14: 1 | B14: Enter the number of rocks, from Wolman Count Worksheet, that fall within the given size range.
A15: 2 | B15: Based the Semi-log Gradation Plot, determine the particle size corresponding to the cumulative percent smaller values at 15, 50, 85, and 100 percent.
A17: 3 | B17: Record the D15, D50, D85, and D100 values on G&B 109b form
A18: 4 | B18: Submit this form and Semi-log Gradation Plot with G&B 109b
B20: Table XX - Rock Count and Particle Size Distribution
B21: Size (inches) | C21: Size Range | D21: Rock Count (1) | E21: Cumulative Rock Count | F21: Cumulative Percent Smaller | M21: Class IV Spec Ranges
B22: 1 | C22: ≤ 1.00 | D22: ='Wolman Count Worksheet'!V13 -> 100 | E22: =D22 -> 100 | F22: =E22/100 -> 1 | M22: Percent Passing | N22: Size (inches)
B23: 2 | C23: 1.0 < x ≤ 2.0 | D23: ='Wolman Count Worksheet'!V14-E22 -> 0 | E23: =D23+E22 -> 100 | F23: =E23/100 -> 1 | N23: min | O23: max
B24: 3 | C24: 2.0 < x ≤ 3.0 | D24: ='Wolman Count Worksheet'!V15-E23 -> 0 | E24: =D24+E23 -> 100 | F24: =E24/100 -> 1 | M24: 0.15 | N24: 8 | O24: 10
B25: 4 | C25: 3.0 < x ≤ 4.0 | D25: ='Wolman Count Worksheet'!V16-E24 -> 0 | E25: =D25+E24 -> 100 | F25: =E25/100 -> 1 | M25: 0.5 | N25: 10 | O25: 14
B26: 6 | C26: 4.0 < x ≤ 6.0 | D26: ='Wolman Count Worksheet'!V17-E25 -> 0 | E26: =D26+E25 -> 100 | F26: =E26/100 -> 1 | M26: 0.85 | N26: 15 | O26: 19
B27: 9 | C27: 6.0 < x ≤ 9.0 | D27: ='Wolman Count Worksheet'!V18-E26 -> 0 | E27: =D27+E26 -> 100 | F27: =E27/100 -> 1 | M27: 1 | N27: 21 | O27: 24
B28: 12 | C28: 9.0 < x ≤ 12.0 | D28: ='Wolman Count Worksheet'!V19-E27 -> 0 | E28: =D28+E27 -> 100 | F28: =E28/100 -> 1
B29: 15 | C29: 12.0 < x ≤ 15.0 | D29: ='Wolman Count Worksheet'!V20-E28 -> 0 | E29: =D29+E28 -> 100 | F29: =E29/100 -> 1
B30: 18 | C30: 15.0 < x ≤ 18.0 | D30: ='Wolman Count Worksheet'!V21-E29 -> 0 | E30: =D30+E29 -> 100 | F30: =E30/100 -> 1
B31: 21 | C31: 18.0 < x ≤ 21.0 | D31: ='Wolman Count Worksheet'!V22-E30 -> 0 | E31: =D31+E30 -> 100 | F31: =E31/100 -> 1
B32: 24 | C32: 21.0 < x ≤ 24.0 | D32: ='Wolman Count Worksheet'!V23-E31 -> 0 | E32: =D32+E31 -> 100 | F32: =E32/100 -> 1
B33: 27 | C33: 24.0 < x ≤ 27.0 | D33: ='Wolman Count Worksheet'!V24-E32 -> 0 | E33: =D33+E32 -> 100 | F33: =E33/100 -> 1
B34: 30 | C34: 27.0 < x ≤ 33.0 | D34: ='Wolman Count Worksheet'!V25-E33 -> 0 | E34: =D34+E33 -> 100 | F34: =E34/100 -> 1

Sheet Wolman Grad._e-worksheet_V
A2: Last Updated: | C2: 43571
A4: Riprap Gradation from Wolman Count
A5: Project No: | D5: Tester Name: | G5: Date:
A6: Material Type: Class V Riprap
A7: Sample #: | D7: Source or Stockpile Location:
A8: Pay Item Number | E8: Riprap Class | G8: Quantity | J8: Gradation Tests
J9: Required | M9: Attached
A13: Instructions:
A14: 1 | B14: Enter the number of rocks, from Wolman Count Worksheet, that fall within the given size range.
A15: 2 | B15: Based the Semi-log Gradation Plot, determine the particle size corresponding to the cumulative percent smaller values at 15, 50, 85, and 100 percent.
A17: 3 | B17: Record the D15, D50, D85, and D100 values on G&B 109b form
A18: 4 | B18: Submit this form and Semi-log Gradation Plot with G&B 109b
B20: Table XX - Rock Count and Particle Size Distribution
B21: Size (inches) | C21: Size Range | D21: Rock Count (1) | E21: Cumulative Rock Count | F21: Cumulative Percent Smaller | M21: Class V Spec Ranges
B22: 1 | C22: ≤ 1.00 | D22: ='Wolman Count Worksheet'!V13 -> 100 | E22: =D22 -> 100 | F22: =E22/100 -> 1 | M22: Percent Passing | N22: Size (inches)
B23: 2 | C23: 1.0 < x ≤ 2.0 | D23: ='Wolman Count Worksheet'!V14-E22 -> 0 | E23: =D23+E22 -> 100 | F23: =E23/100 -> 1 | N23: min | O23: max
B24: 3 | C24: 2.0 < x ≤ 3.0 | D24: ='Wolman Count Worksheet'!V15-E23 -> 0 | E24: =D24+E23 -> 100 | F24: =E24/100 -> 1 | M24: 0.15 | N24: 9 | O24: 12
B25: 4 | C25: 3.0 < x ≤ 4.0 | D25: ='Wolman Count Worksheet'!V16-E24 -> 0 | E25: =D25+E24 -> 100 | F25: =E25/100 -> 1 | M25: 0.5 | N25: 12 | O25: 17
B26: 6 | C26: 4.0 < x ≤ 6.0 | D26: ='Wolman Count Worksheet'!V17-E25 -> 0 | E26: =D26+E25 -> 100 | F26: =E26/100 -> 1 | M26: 0.85 | N26: 19 | O26: 23
B27: 9 | C27: 6.0 < x ≤ 9.0 | D27: ='Wolman Count Worksheet'!V18-E26 -> 0 | E27: =D27+E26 -> 100 | F27: =E27/100 -> 1 | M27: 1 | N27: 27 | O27: 30
B28: 12 | C28: 9.0 < x ≤ 12.0 | D28: ='Wolman Count Worksheet'!V19-E27 -> 0 | E28: =D28+E27 -> 100 | F28: =E28/100 -> 1
B29: 15 | C29: 12.0 < x ≤ 15.0 | D29: ='Wolman Count Worksheet'!V20-E28 -> 0 | E29: =D29+E28 -> 100 | F29: =E29/100 -> 1
B30: 18 | C30: 15.0 < x ≤ 18.0 | D30: ='Wolman Count Worksheet'!V21-E29 -> 0 | E30: =D30+E29 -> 100 | F30: =E30/100 -> 1
B31: 21 | C31: 18.0 < x ≤ 21.0 | D31: ='Wolman Count Worksheet'!V22-E30 -> 0 | E31: =D31+E30 -> 100 | F31: =E31/100 -> 1
B32: 24 | C32: 21.0 < x ≤ 24.0 | D32: ='Wolman Count Worksheet'!V23-E31 -> 0 | E32: =D32+E31 -> 100 | F32: =E32/100 -> 1
B33: 27 | C33: 24.0 < x ≤ 27.0 | D33: ='Wolman Count Worksheet'!V24-E32 -> 0 | E33: =D33+E32 -> 100 | F33: =E33/100 -> 1
B34: 30 | C34: 27.0 < x ≤ 33.0 | D34: ='Wolman Count Worksheet'!V25-E33 -> 0 | E34: =D34+E33 -> 100 | F34: =E34/100 -> 1
