Workbook

Sheet Design Reference Tables
B1: Instructions: | N1: Version 1.1. Last Updated 4-30-2019
B2: This sheet provides a summary of the computed bedding quantities per linear foot for the specified culvert type. Enter the length of the pipe runs in the highlighted cells to get bedding quantities.
B3: For tabulating apron bedding quantities use the appropriate sheet, apron quantities are tabulated for each apron (includes entire length of apron).
B4: NOTE:
B5: Culvert bedding quantities are based on standard pipe bedding installation without treatments (bedding details shown in Standard Plans 5-297.441 Culvert Bedding for Rigid Pipe, and 5-297.440 Culvert Bedding for Flexible Pipe); when culvert treatments are used, these bedding quantities should not be used.
B8: Table 1 - Culvert Bedding Compacted Volume for Rigid Pipe1 | J8: Table 2 - Culvert Bedding Compacted Volume for Flexible Pipe2, 3, 4
B10: Round | E10: Arch | J10: Round | M10: Arch
B11: Diameter (inches) | C11: Linear Feet of Pipe | D11: Bedding (CY) | E11: Span (inches) | F11: Linear Feet of Pipe | G11: Bedding (CY) | J11: Diameter (inches) | K11: Linear Feet of Pipe | L11: Bedding (CY) | M11: Span (inches) | N11: Linear Feet of Pipe | O11: Bedding (CY)
B12: ='Rigid Round Culvert '!A6 -> 12 | C12: 1 | D12: ='Rigid Round Culvert '!N6*C12 -> 0.52558362 | E12: - | F12: - | G12: - | J12: ='Flex Round Culv_3040'!A6 -> 6 | L12: ='Flex Round Culv_3040'!O6*K12 -> 0 | M12: - | N12: - | O12: -
B13: ='Rigid Round Culvert '!A7 -> 15 | D13: ='Rigid Round Culvert '!N7*C13 -> 0 | E13: - | F13: - | G13: - | J13: ='Flex Round Culv_3040'!A7 -> 8 | L13: ='Flex Round Culv_3040'!O7*K13 -> 0 | M13: - | N13: - | O13: -
B14: ='Rigid Round Culvert '!A8 -> 18 | D14: ='Rigid Round Culvert '!N8*C14 -> 0 | E14: ='Rigid Arch Culvert'!C6 -> 22 | G14: ='Rigid Arch Culvert'!Y6*F14 -> 0 | J14: ='Flex Round Culv_3040'!A8 -> 10 | L14: ='Flex Round Culv_3040'!O8*K14 -> 0 | M14: - | N14: - | O14: -
B15: ='Rigid Round Culvert '!A9 -> 21 | D15: ='Rigid Round Culvert '!N9*C15 -> 0 | E15: - | F15: - | G15: - | J15: ='Flex Round Culv_3040'!A9 -> 12 | L15: ='Flex Round Culv_3040'!O9*K15 -> 0 | M15: - | N15: - | O15: -
B16: ='Rigid Round Culvert '!A10 -> 24 | D16: ='Rigid Round Culvert '!N10*C16 -> 0 | E16: ='Rigid Arch Culvert'!C7 -> 28.5 | G16: ='Rigid Arch Culvert'!Y7*F16 -> 0 | J16: ='Flex Round Culv_3040'!A10 -> 15 | L16: ='Flex Round Culv_3040'!O10*K16 -> 0 | M16: ='Flex Arch Culv_3040'!$B6 -> 17 | O16: ='Flex Arch Culv_3040'!$R6*N16 -> 0
B17: ='Rigid Round Culvert '!A11 -> 27 | D17: ='Rigid Round Culvert '!N11*C17 -> 0 | E17: - | F17: - | G17: - | J17: ='Flex Round Culv_3040'!A11 -> 18 | L17: ='Flex Round Culv_3040'!O11*K17 -> 0 | M17: ='Flex Arch Culv_3040'!$B7 -> 21 | O17: ='Flex Arch Culv_3040'!$R7*N17 -> 0
B18: ='Rigid Round Culvert '!A12 -> 30 | D18: ='Rigid Round Culvert '!N12*C18 -> 0 | E18: ='Rigid Arch Culvert'!C8 -> 36.25 | G18: ='Rigid Arch Culvert'!Y8*F18 -> 0 | J18: ='Flex Round Culv_3040'!A12 -> 21 | L18: ='Flex Round Culv_3040'!O12*K18 -> 0 | M18: ='Flex Arch Culv_3040'!$B8 -> 24 | O18: ='Flex Arch Culv_3040'!$R8*N18 -> 0
B19: ='Rigid Round Culvert '!A13 -> 33 | D19: ='Rigid Round Culvert '!N13*C19 -> 0 | E19: - | F19: - | G19: - | J19: ='Flex Round Culv_3040'!A13 -> 24 | L19: ='Flex Round Culv_3040'!O13*K19 -> 0 | M19: ='Flex Arch Culv_3040'!$B9 -> 28 | O19: ='Flex Arch Culv_3040'!$R9*N19 -> 0
B20: ='Rigid Round Culvert '!A14 -> 36 | D20: ='Rigid Round Culvert '!N14*C20 -> 0 | E20: ='Rigid Arch Culvert'!C9 -> 43.75 | G20: ='Rigid Arch Culvert'!Y9*F20 -> 0 | J20: ='Flex Round Culv_3040'!A14 -> 30 | L20: ='Flex Round Culv_3040'!O14*K20 -> 0 | M20: ='Flex Arch Culv_3040'!$B10 -> 35 | O20: ='Flex Arch Culv_3040'!$R10*N20 -> 0
B21: ='Rigid Round Culvert '!A15 -> 42 | D21: ='Rigid Round Culvert '!N15*C21 -> 0 | E21: ='Rigid Arch Culvert'!C10 -> 51.125 | G21: ='Rigid Arch Culvert'!Y10*F21 -> 0 | J21: ='Flex Round Culv_3040'!A15 -> 36 | L21: ='Flex Round Culv_3040'!O15*K21 -> 0 | M21: ='Flex Arch Culv_3040'!$B11 -> 42 | O21: ='Flex Arch Culv_3040'!$R11*N21 -> 0
B22: ='Rigid Round Culvert '!A16 -> 48 | D22: ='Rigid Round Culvert '!N16*C22 -> 0 | E22: ='Rigid Arch Culvert'!C11 -> 58.5 | G22: ='Rigid Arch Culvert'!Y11*F22 -> 0 | J22: ='Flex Round Culv_3040'!A16 -> 42 | L22: ='Flex Round Culv_3040'!O16*K22 -> 0 | M22: ='Flex Arch Culv_3040'!$B12 -> 49 | O22: ='Flex Arch Culv_3040'!$R12*N22 -> 0
B23: ='Rigid Round Culvert '!A17 -> 54 | D23: ='Rigid Round Culvert '!N17*C23 -> 0 | E23: ='Rigid Arch Culvert'!C12 -> 65 | G23: ='Rigid Arch Culvert'!Y12*F23 -> 0 | J23: ='Flex Round Culv_3040'!A17 -> 48 | L23: ='Flex Round Culv_3040'!O17*K23 -> 0 | M23: ='Flex Arch Culv_3040'!$B13 -> 57 | O23: ='Flex Arch Culv_3040'!$R13*N23 -> 0
B24: ='Rigid Round Culvert '!A18 -> 60 | D24: ='Rigid Round Culvert '!N18*C24 -> 0 | E24: ='Rigid Arch Culvert'!C13 -> 73 | G24: ='Rigid Arch Culvert'!Y13*F24 -> 0 | J24: ='Flex Round Culv_3040'!A18 -> 54 | L24: ='Flex Round Culv_3040'!O18*K24 -> 0 | M24: ='Flex Arch Culv_3040'!$B14 -> 64 | O24: ='Flex Arch Culv_3040'!$R14*N24 -> 0
B25: ='Rigid Round Culvert '!A19 -> 66 | D25: ='Rigid Round Culvert '!N19*C25 -> 0 | E25: - | F25: - | G25: - | J25: ='Flex Round Culv_3040'!A19 -> 60 | L25: ='Flex Round Culv_3040'!O19*K25 -> 0 | M25: ='Flex Arch Culv_3040'!$B15 -> 71 | O25: ='Flex Arch Culv_3040'!$R15*N25 -> 0
B26: ='Rigid Round Culvert '!A20 -> 72 | D26: ='Rigid Round Culvert '!N20*C26 -> 0 | E26: ='Rigid Arch Culvert'!C14 -> 88 | G26: ='Rigid Arch Culvert'!Y14*F26 -> 0 | J26: ='Flex Round Culv_3040'!A20 -> 66 | L26: ='Flex Round Culv_3040'!O20*K26 -> 0 | M26: ='Flex Arch Culv_3040'!$B16 -> 77 | O26: ='Flex Arch Culv_3040'!$R16*N26 -> 0
B27: ='Rigid Round Culvert '!A21 -> 78 | D27: ='Rigid Round Culvert '!N21*C27 -> 0 | E27: - | F27: - | G27: - | J27: ='Flex Round Culv_3040'!A21 -> 72 | L27: ='Flex Round Culv_3040'!O21*K27 -> 0 | M27: ='Flex Arch Culv_3040'!$B17 -> 83 | O27: ='Flex Arch Culv_3040'!$R17*N27 -> 0
B28: ='Rigid Round Culvert '!A22 -> 84 | D28: ='Rigid Round Culvert '!N22*C28 -> 0 | E28: ='Rigid Arch Culvert'!C15 -> 102 | G28: ='Rigid Arch Culvert'!Y15*F28 -> 0 | J28: ='Flex Round Culv_3041'!A6 -> 78 | L28: ='Flex Round Culv_3041'!O6*K28 -> 0 | M28: ='Flex Arch Culv_3041'!B13 -> 87 | O28: ='Flex Arch Culv_3041'!R13*N28 -> 0
B29: ='Rigid Round Culvert '!A23 -> 90 | D29: ='Rigid Round Culvert '!N23*C29 -> 0 | E29: ='Rigid Arch Culvert'!C16 -> 115.5 | G29: ='Rigid Arch Culvert'!Y16*F29 -> 0 | J29: ='Flex Round Culv_3041'!A7 -> 84 | L29: ='Flex Round Culv_3041'!O7*K29 -> 0 | M29: ='Flex Arch Culv_3041'!B14 -> 95 | O29: ='Flex Arch Culv_3041'!R14*N29 -> 0
B30: ='Rigid Round Culvert '!A24 -> 96 | D30: ='Rigid Round Culvert '!N24*C30 -> 0 | E30: ='Rigid Arch Culvert'!C17 -> 122.375 | G30: ='Rigid Arch Culvert'!Y17*F30 -> 0 | J30: ='Flex Round Culv_3041'!A8 -> 90 | L30: ='Flex Round Culv_3041'!O8*K30 -> 0 | M30: ='Flex Arch Culv_3041'!B15 -> 103 | O30: ='Flex Arch Culv_3041'!R15*N30 -> 0
B31: ='Rigid Round Culvert '!A25 -> 102 | D31: ='Rigid Round Culvert '!N25*C31 -> 0 | E31: - | F31: - | G31: - | J31: ='Flex Round Culv_3041'!A9 -> 96 | L31: ='Flex Round Culv_3041'!O9*K31 -> 0 | M31: ='Flex Arch Culv_3041'!B16 -> 112 | O31: ='Flex Arch Culv_3041'!R16*N31 -> 0
B32: ='Rigid Round Culvert '!A26 -> 108 | D32: ='Rigid Round Culvert '!N26*C32 -> 0 | E32: ='Rigid Arch Culvert'!C18 -> 138.5 | G32: ='Rigid Arch Culvert'!Y18*F32 -> 0 | J32: ='Flex Round Culv_3041'!A10 -> 102 | L32: ='Flex Round Culv_3041'!O10*K32 -> 0 | M32: ='Flex Arch Culv_3041'!B17 -> 117 | O32: ='Flex Arch Culv_3041'!R17*N32 -> 0
B33: 120 | C33: - | D33: - | E33: ='Rigid Arch Culvert'!C19 -> 154 | G33: ='Rigid Arch Culvert'!Y19*F33 -> 0 | J33: ='Flex Round Culv_3041'!A11 -> 108 | L33: ='Flex Round Culv_3041'!O11*K33 -> 0 | M33: ='Flex Arch Culv_3041'!B18 -> 128 | O33: ='Flex Arch Culv_3041'!R18*N33 -> 0
B34: 132 | C34: - | D34: - | E34: ='Rigid Arch Culvert'!C20 -> 168.75 | G34: ='Rigid Arch Culvert'!Y20*F34 -> 0 | J34: ='Flex Round Culv_3041'!A12 -> 114 | L34: ='Flex Round Culv_3041'!O12*K34 -> 0 | M34: ='Flex Arch Culv_3041'!B19 -> 137 | O34: ='Flex Arch Culv_3041'!R19*N34 -> 0
J35: ='Flex Round Culv_3041'!A13 -> 120 | L35: ='Flex Round Culv_3041'!O13*K35 -> 0 | M35: ='Flex Arch Culv_3041'!B20 -> 142 | O35: ='Flex Arch Culv_3041'!R20*N35 -> 0
B36: RIGID PIPE NOTES:
B37: 1 Pipe geometry based on Standard Plates 3000, B Wall (round pipe) and 3014 (arch pipe).
B38: FLEXIBLE PIPE NOTES:
B39: 2 For shallow pipe installations, where the top of pipe is not 12" below the pavement aggregate base/sub-base, bedding quantities should be reduced to reflect the fill cover height of fine aggregate bedding between the top of pipe and the base aggregate.
B40: 3 These quantities do not apply to thermoplastic pipe with greater than 10 ft of fill. See Standard Plan 5-297.440 for applicable trench widths.
B41: 4 Pipe sizes up to 72" diameter, or corresponding span, were calculated using gage size and geometry as listed in Standard Plate 3040; sizes larger than 72" were calculated using gage size and geometry listed in Standard Plate 3041.

Sheet Rigid Round Culvert 
A1: ROUND RIGID CULVERT BEDDING (QTY BASED ON STANDARD PLATE 3000L, B WALL)
A2: Trench Excavation Slope Taper (V:H) : | C2: 1.5 | D2: <-- enter horizontal value of slope
F4: Trench Width | H4: Compact Bottom | I4: Loose Bottom | J4: Haunches | K4: Sides | L4: Taper Sides (V:H)
A5: Inside Diameter(in) | B5: Thickness (in) | C5: Do (in) | D5: Do (ft) | E5: Radius (ft) | F5: B (in) | G5: B (ft) | H5: A1 (ft2) | I5: A2 (ft2) | J5: 2 x A3 (ft2) | K5: 2 x A4 (ft2) | L5: 2 x A5 (ft2) | M5: Fine Aggregate Bedding (ft2) | N5: Compacted Volume Fine Aggregate Bedding (CY/LF) | O5: <--- Multiply this number by LF of Pipe to get volume needed
A6: 12 | B6: 2 | C6: =2*B6+A6 -> 16 | D6: =C6/12 -> 1.3333333 | E6: =D6/2 -> 0.66666667 | F6: =C6+48 -> 64 | G6: =F6/12 -> 5.3333333 | H6: =G6*1.5 -> 8 | I6: =G6*0.5 -> 2.6666667 | J6: =2*(E6^2-(3.14159*E6^2/4)) -> 0.19075778 | K6: =(D6/2)*2*2 -> 2.6666667 | L6: =C$2*(D6/2)^2 -> 0.66666667 | M6: =H6+I6+J6+K6+L6 -> 14.190758 | N6: =M6/27 -> 0.52558362
A7: 15 | B7: 2.25 | C7: =2*B7+A7 -> 19.5 | D7: =C7/12 -> 1.625 | E7: =D7/2 -> 0.8125 | F7: =C7+48 -> 67.5 | G7: =F7/12 -> 5.625 | H7: =G7*1.5 -> 8.4375 | I7: =G7*0.5 -> 2.8125 | J7: =2*(E7^2-(3.14159*E7^2/4)) -> 0.28334236 | K7: =(D7/2)*2*2 -> 3.25 | L7: =C$2*(D7/2)^2 -> 0.99023438 | M7: =H7+I7+J7+K7+L7 -> 15.773577 | N7: =M7/27 -> 0.58420655
A8: 18 | B8: 2.5 | C8: =2*B8+A8 -> 23 | D8: =C8/12 -> 1.9166667 | E8: =D8/2 -> 0.95833333 | F8: =C8+48 -> 71 | G8: =F8/12 -> 5.9166667 | H8: =G8*1.5 -> 8.875 | I8: =G8*0.5 -> 2.9583333 | J8: =2*(E8^2-(3.14159*E8^2/4)) -> 0.39418306 | K8: =(D8/2)*2*2 -> 3.8333333 | L8: =C$2*(D8/2)^2 -> 1.3776042 | M8: =H8+I8+J8+K8+L8 -> 17.438454 | N8: =M8/27 -> 0.64586866
A9: 21 | B9: 2.75 | C9: =2*B9+A9 -> 26.5 | D9: =C9/12 -> 2.2083333 | E9: =D9/2 -> 1.1041667 | F9: =C9+48 -> 74.5 | G9: =F9/12 -> 6.2083333 | H9: =G9*1.5 -> 9.3125 | I9: =G9*0.5 -> 3.1041667 | J9: =2*(E9^2-(3.14159*E9^2/4)) -> 0.52327988 | K9: =(D9/2)*2*2 -> 4.4166667 | L9: =C$2*(D9/2)^2 -> 1.828776 | M9: =H9+I9+J9+K9+L9 -> 19.185389 | N9: =M9/27 -> 0.71056997
A10: 24 | B10: 3 | C10: =2*B10+A10 -> 30 | D10: =C10/12 -> 2.5 | E10: =D10/2 -> 1.25 | F10: =C10+48 -> 78 | G10: =F10/12 -> 6.5 | H10: =G10*1.5 -> 9.75 | I10: =G10*0.5 -> 3.25 | J10: =2*(E10^2-(3.14159*E10^2/4)) -> 0.67063281 | K10: =(D10/2)*2*2 -> 5 | L10: =C$2*(D10/2)^2 -> 2.34375 | M10: =H10+I10+J10+K10+L10 -> 21.014383 | N10: =M10/27 -> 0.77831047
A11: 27 | B11: 3.25 | C11: =2*B11+A11 -> 33.5 | D11: =C11/12 -> 2.7916667 | E11: =D11/2 -> 1.3958333 | F11: =C11+48 -> 81.5 | G11: =F11/12 -> 6.7916667 | H11: =G11*1.5 -> 10.1875 | I11: =G11*0.5 -> 3.3958333 | J11: =2*(E11^2-(3.14159*E11^2/4)) -> 0.83624186 | K11: =(D11/2)*2*2 -> 5.5833333 | L11: =C$2*(D11/2)^2 -> 2.922526 | M11: =H11+I11+J11+K11+L11 -> 22.925435 | N11: =M11/27 -> 0.84909017
A12: 30 | B12: 3.5 | C12: =2*B12+A12 -> 37 | D12: =C12/12 -> 3.0833333 | E12: =D12/2 -> 1.5416667 | F12: =C12+48 -> 85 | G12: =F12/12 -> 7.0833333 | H12: =G12*1.5 -> 10.625 | I12: =G12*0.5 -> 3.5416667 | J12: =2*(E12^2-(3.14159*E12^2/4)) -> 1.020107 | K12: =(D12/2)*2*2 -> 6.1666667 | L12: =C$2*(D12/2)^2 -> 3.5651042 | M12: =H12+I12+J12+K12+L12 -> 24.918545 | N12: =M12/27 -> 0.92290906
A13: 33 | B13: 3.75 | C13: =2*B13+A13 -> 40.5 | D13: =C13/12 -> 3.375 | E13: =D13/2 -> 1.6875 | F13: =C13+48 -> 88.5 | G13: =F13/12 -> 7.375 | H13: =G13*1.5 -> 11.0625 | I13: =G13*0.5 -> 3.6875 | J13: =2*(E13^2-(3.14159*E13^2/4)) -> 1.2222283 | K13: =(D13/2)*2*2 -> 6.75 | L13: =C$2*(D13/2)^2 -> 4.2714844 | M13: =H13+I13+J13+K13+L13 -> 26.993713 | N13: =M13/27 -> 0.99976714
A14: 36 | B14: 4 | C14: =2*B14+A14 -> 44 | D14: =C14/12 -> 3.6666667 | E14: =D14/2 -> 1.8333333 | F14: =C14+48 -> 92 | G14: =F14/12 -> 7.6666667 | H14: =G14*1.5 -> 11.5 | I14: =G14*0.5 -> 3.8333333 | J14: =2*(E14^2-(3.14159*E14^2/4)) -> 1.4426057 | K14: =(D14/2)*2*2 -> 7.3333333 | L14: =C$2*(D14/2)^2 -> 5.0416667 | M14: =H14+I14+J14+K14+L14 -> 29.150939 | N14: =M14/27 -> 1.0796644
A15: 42 | B15: 4.5 | C15: =2*B15+A15 -> 51 | D15: =C15/12 -> 4.25 | E15: =D15/2 -> 2.125 | F15: =C15+48 -> 99 | G15: =F15/12 -> 8.25 | H15: =G15*1.5 -> 12.375 | I15: =G15*0.5 -> 4.125 | J15: =2*(E15^2-(3.14159*E15^2/4)) -> 1.9381288 | K15: =(D15/2)*2*2 -> 8.5 | L15: =C$2*(D15/2)^2 -> 6.7734375 | M15: =H15+I15+J15+K15+L15 -> 33.711566 | N15: =M15/27 -> 1.2485765
A16: 48 | B16: 5 | C16: =2*B16+A16 -> 58 | D16: =C16/12 -> 4.8333333 | E16: =D16/2 -> 2.4166667 | F16: =C16+48 -> 106 | G16: =F16/12 -> 8.8333333 | H16: =G16*1.5 -> 13.25 | I16: =G16*0.5 -> 4.4166667 | J16: =2*(E16^2-(3.14159*E16^2/4)) -> 2.5066764 | K16: =(D16/2)*2*2 -> 9.6666667 | L16: =C$2*(D16/2)^2 -> 8.7604167 | M16: =H16+I16+J16+K16+L16 -> 38.600426 | N16: =M16/27 -> 1.4296454
A17: 54 | B17: 5.5 | C17: =2*B17+A17 -> 65 | D17: =C17/12 -> 5.4166667 | E17: =D17/2 -> 2.7083333 | F17: =C17+48 -> 113 | G17: =F17/12 -> 9.4166667 | H17: =G17*1.5 -> 14.125 | I17: =G17*0.5 -> 4.7083333 | J17: =2*(E17^2-(3.14159*E17^2/4)) -> 3.1482485 | K17: =(D17/2)*2*2 -> 10.833333 | L17: =C$2*(D17/2)^2 -> 11.002604 | M17: =H17+I17+J17+K17+L17 -> 43.817519 | N17: =M17/27 -> 1.6228711
... A26: 108 | B26: 10 | C26: =2*B26+A26 -> 128 | D26: =C26/12 -> 10.666667 | E26: =D26/2 -> 5.3333333 | F26: =C26+48 -> 176 | G26: =F26/12 -> 14.666667 | H26: =G26*1.5 -> 22 | I26: =G26*0.5 -> 7.3333333 | J26: =2*(E26^2-(3.14159*E26^2/4)) -> 12.208498 | K26: =(D26/2)*2*2 -> 21.333333 | L26: =C$2*(D26/2)^2 -> 42.666667 | M26: =H26+I26+J26+K26+L26 -> 105.54183 | N26: =M26/27 -> 3.9089567

Sheet Rigid Arch Culvert
A1: CULVERT BEDDING FOR RIGID ARCH PIPE (Pipe geometry based on Standard Plate 3014J)
A2: Trench Excavation Slope Taper (V:H) : | C2: 1.5 | D2: <-- enter horizontal value of slope
O4: Trench Width | Q4: Beneath Pipe | S4: Haunches | V4: Sides of Pipe | W4: Taper Sides (V:H)
A5: Nominal Span (in) | B5: Rise (in) | C5: Span (in) | D5: Wall Thickness (in) | E5: So (in) | F5: So (ft) | G5: R1 (in) | H5: R2 (in) | I5: R3 (in) | J5: A | K5: B | L5: C | M5: Height to Springline (in) | N5: Height to Springline (ft) | O5: B (in) | P5: B (ft) | Q5: A1 (ft2) | R5: A2 (ft2) | S5: A3 (ft2) | T5: A0 (ft2) | U5: Haunch Area (ft2) | V5: 2 x A4 (ft2) | W5: 2 x A5 (ft2) | X5: Fine Aggregate Bedding (ft2) | Y5: Compacted Volume Fine Aggregate Bedding (CY/LF) | Z5: <--- Multiply this number by LF of Pipe to get volume needed
A6: 22 | B6: 13.5 | C6: 22 | D6: 2.5 | E6: =C6+2*D6 -> 27 | F6: =E6/12 -> 2.25 | G6: 27.5 | H6: =13+3/4 -> 13.75 | I6: =5+1/4 -> 5.25 | J6: =B6-H6 -> -0.25 | K6: =J6+(SQRT(((H6-I6)^2)-(L6^2))) -> 6.009992 | L6: =(C6/2)-I6 -> 5.75 | M6: =K6+D6 -> 8.509992 | N6: =M6/12 -> 0.709166 | O6: =E6+48 -> 75 | P6: =O6/12 -> 6.25 | Q6: =1.5*P6 -> 9.375 | R6: =P6*0.5 -> 3.125 | S6: =F6*N6 -> 1.5956235 | T6: 1.3223978 | U6: =S6-T6 -> 0.27322568 | V6: =(P6-F6)*N6 -> 2.836664 | W6: =N6*(C$2*N6) -> 0.75437463 | X6: =Q6+R6+U6+V6+W6 -> 16.364264 | Y6: =X6/27 -> 0.60608386
A7: 28 | B7: 18 | C7: 28.5 | D7: 3.5 | E7: =C7+2*D7 -> 35.5 | F7: =E7/12 -> 2.9583333 | G7: =40+11/16 -> 40.6875 | H7: =14+9/16 -> 14.5625 | I7: =4+19/32 -> 4.59375 | J7: =B7-H7 -> 3.4375 | K7: =J7+(SQRT(((H7-I7)^2)-(L7^2))) -> 5.9139516 | L7: =(C7/2)-I7 -> 9.65625 | M7: =K7+D7 -> 9.4139516 | N7: =M7/12 -> 0.78449597 | O7: =E7+48 -> 83.5 | P7: =O7/12 -> 6.9583333 | Q7: =1.5*P7 -> 10.4375 | R7: =P7*0.5 -> 3.4791667 | S7: =F7*N7 -> 2.3208006 | T7: 1.9310036 | U7: =S7-T7 -> 0.38979695 | V7: =(P7-F7)*N7 -> 3.1379839 | W7: =N7*(C$2*N7) -> 0.92315088 | X7: =Q7+R7+U7+V7+W7 -> 18.367598 | Y7: =X7/27 -> 0.68028142
A8: 36 | B8: 22.5 | C8: 36.25 | D8: 4 | E8: =C8+2*D8 -> 44.25 | F8: =E8/12 -> 3.6875 | G8: 51 | H8: 18.75 | I8: =6+1/32 -> 6.03125 | J8: =B8-H8 -> 3.75 | K8: =J8+(SQRT(((H8-I8)^2)-(L8^2))) -> 7.687996 | L8: =(C8/2)-I8 -> 12.09375 | M8: =K8+D8 -> 11.687996 | N8: =M8/12 -> 0.97399967 | O8: =E8+48 -> 92.25 | P8: =O8/12 -> 7.6875 | Q8: =1.5*P8 -> 11.53125 | R8: =P8*0.5 -> 3.84375 | S8: =F8*N8 -> 3.5916238 | T8: 2.9911671 | U8: =S8-T8 -> 0.60045667 | V8: =(P8-F8)*N8 -> 3.8959987 | W8: =N8*(C$2*N8) -> 1.423013 | X8: =Q8+R8+U8+V8+W8 -> 21.294468 | Y8: =X8/27 -> 0.78868401
A9: 44 | B9: 26.625 | C9: 43.75 | D9: 4.5 | E9: =C9+2*D9 -> 52.75 | F9: =E9/12 -> 4.3958333 | G9: 62 | H9: 22.5 | I9: =6+3/8 -> 6.375 | J9: =B9-H9 -> 4.125 | K9: =J9+(SQRT(((H9-I9)^2)-(L9^2))) -> 8.5708548 | L9: =(C9/2)-I9 -> 15.5 | M9: =K9+D9 -> 13.070855 | N9: =M9/12 -> 1.0892379 | O9: =E9+48 -> 100.75 | P9: =O9/12 -> 8.3958333 | Q9: =1.5*P9 -> 12.59375 | R9: =P9*0.5 -> 4.1979167 | S9: =F9*N9 -> 4.7881083 | T9: 3.9800465 | U9: =S9-T9 -> 0.80806174 | V9: =(P9-F9)*N9 -> 4.3569516 | W9: =N9*(C$2*N9) -> 1.7796588 | X9: =Q9+R9+U9+V9+W9 -> 23.736339 | Y9: =X9/27 -> 0.87912366
A10: 51 | B10: 31.3125 | C10: 51.125 | D10: 4.5 | E10: =C10+2*D10 -> 60.125 | F10: =E10/12 -> 5.0104167 | G10: 73 | H10: 26.25 | I10: =7+9/16 -> 7.5625 | J10: =B10-H10 -> 5.0625 | K10: =J10+(SQRT(((H10-I10)^2)-(L10^2))) -> 10.084716 | L10: =(C10/2)-I10 -> 18 | M10: =K10+D10 -> 14.584716 | N10: =M10/12 -> 1.215393 | O10: =E10+48 -> 108.125 | P10: =O10/12 -> 9.0104167 | Q10: =1.5*P10 -> 13.515625 | R10: =P10*0.5 -> 4.5052083 | S10: =F10*N10 -> 6.0896255 | T10: 5.0668811 | U10: =S10-T10 -> 1.0227444 | V10: =(P10-F10)*N10 -> 4.8615721 | W10: =N10*(C$2*N10) -> 2.2157703 | X10: =Q10+R10+U10+V10+W10 -> 26.12092 | Y10: =X10/27 -> 0.96744149
A11: 58 | B11: 36 | C11: 58.5 | D11: 5 | E11: =C11+2*D11 -> 68.5 | F11: =E11/12 -> 5.7083333 | G11: 84 | H11: 30 | I11: 8.75 | J11: =B11-H11 -> 6 | K11: =J11+(SQRT(((H11-I11)^2)-(L11^2))) -> 11.595757 | L11: =(C11/2)-I11 -> 20.5 | M11: =K11+D11 -> 16.595757 | N11: =M11/12 -> 1.3829798 | O11: =E11+48 -> 116.5 | P11: =O11/12 -> 9.7083333 | Q11: =1.5*P11 -> 14.5625 | R11: =P11*0.5 -> 4.8541667 | S11: =F11*N11 -> 7.8945096 | T11: 6.5718392 | U11: =S11-T11 -> 1.3226704 | V11: =(P11-F11)*N11 -> 5.5319191 | W11: =N11*(C$2*N11) -> 2.8689496 | X11: =Q11+R11+U11+V11+W11 -> 29.140206 | Y11: =X11/27 -> 1.0792669
A12: 65 | B12: 40 | C12: 65 | D12: 5.5 | E12: =C12+2*D12 -> 76 | F12: =E12/12 -> 6.3333333 | G12: 92.5 | H12: =33+3/8 -> 33.375 | I12: =9+13/16 -> 9.8125 | J12: =B12-H12 -> 6.625 | K12: =J12+(SQRT(((H12-I12)^2)-(L12^2))) -> 12.986505 | L12: =(C12/2)-I12 -> 22.6875 | M12: =K12+D12 -> 18.486505 | N12: =M12/12 -> 1.5405421 | O12: =E12+48 -> 124 | P12: =O12/12 -> 10.333333 | Q12: =1.5*P12 -> 15.5 | R12: =P12*0.5 -> 5.1666667 | S12: =F12*N12 -> 9.7567667 | T12: 8.1184418 | U12: =S12-T12 -> 1.6383249 | V12: =(P12-F12)*N12 -> 6.1621684 | W12: =N12*(C$2*N12) -> 3.559905 | X12: =Q12+R12+U12+V12+W12 -> 32.027065 | Y12: =X12/27 -> 1.1861876
A13: 73 | B13: 45 | C13: 73 | D13: 6 | E13: =C13+2*D13 -> 85 | F13: =E13/12 -> 7.0833333 | G13: 105 | H13: 37.5 | I13: =11+7/32 -> 11.21875 | J13: =B13-H13 -> 7.5 | K13: =J13+(SQRT(((H13-I13)^2)-(L13^2))) -> 14.680703 | L13: =(C13/2)-I13 -> 25.28125 | M13: =K13+D13 -> 20.680703 | N13: =M13/12 -> 1.7233919 | O13: =E13+48 -> 133 | P13: =O13/12 -> 11.083333 | Q13: =1.5*P13 -> 16.625 | R13: =P13*0.5 -> 5.5416667 | S13: =F13*N13 -> 12.20736 | T13: 10.162764 | U13: =S13-T13 -> 2.0445952 | V13: =(P13-F13)*N13 -> 6.8935678 | W13: =N13*(C$2*N13) -> 4.4551197 | X13: =Q13+R13+U13+V13+W13 -> 35.559949 | Y13: =X13/27 -> 1.3170352
A14: 88 | B14: 54 | C14: 88 | D14: 7 | E14: =C14+2*D14 -> 102 | F14: =E14/12 -> 8.5 | G14: 126 | H14: 45 | I14: =12+9/16 -> 12.5625 | J14: =B14-H14 -> 9 | K14: =J14+(SQRT(((H14-I14)^2)-(L14^2))) -> 16.992184 | L14: =(C14/2)-I14 -> 31.4375 | M14: =K14+D14 -> 23.992184 | N14: =M14/12 -> 1.9993486 | O14: =E14+48 -> 150 | P14: =O14/12 -> 12.5 | Q14: =1.5*P14 -> 18.75 | R14: =P14*0.5 -> 6.25 | S14: =F14*N14 -> 16.994463 | T14: 14.13852 | U14: =S14-T14 -> 2.8559433 | V14: =(P14-F14)*N14 -> 7.9973946 | W14: =N14*(C$2*N14) -> 5.9960925 | X14: =Q14+R14+U14+V14+W14 -> 41.84943 | Y14: =X14/27 -> 1.5499789
A15: 102 | B15: 62 | C15: 102 | D15: 8 | E15: =C15+2*D15 -> 118 | F15: =E15/12 -> 9.8333333 | G15: 162.5 | H15: 52 | I15: =13+31/32 -> 13.96875 | J15: =B15-H15 -> 10 | K15: =J15+(SQRT(((H15-I15)^2)-(L15^2))) -> 18.663862 | L15: =(C15/2)-I15 -> 37.03125 | M15: =K15+D15 -> 26.663862 | N15: =M15/12 -> 2.2219885 | O15: =E15+48 -> 166 | P15: =O15/12 -> 13.833333 | Q15: =1.5*P15 -> 20.75 | R15: =P15*0.5 -> 6.9166667 | S15: =F15*N15 -> 21.849553 | T15: 18.312467 | U15: =S15-T15 -> 3.5370862 | V15: =(P15-F15)*N15 -> 8.8879539 | W15: =N15*(C$2*N15) -> 7.4058492 | X15: =Q15+R15+U15+V15+W15 -> 47.497556 | Y15: =X15/27 -> 1.7591687
A16: 115 | B16: 72 | C16: 115.5 | D16: 8.5 | E16: =C16+2*D16 -> 132.5 | F16: =E16/12 -> 11.041667 | G16: 183 | H16: 59 | I16: =19+9/32 -> 19.28125 | J16: =B16-H16 -> 13 | K16: =J16+(SQRT(((H16-I16)^2)-(L16^2))) -> 22.88607 | L16: =(C16/2)-I16 -> 38.46875 | M16: =K16+D16 -> 31.38607 | N16: =M16/12 -> 2.6155058 | O16: =E16+48 -> 180.5 | P16: =O16/12 -> 15.041667 | Q16: =1.5*P16 -> 22.5625 | R16: =P16*0.5 -> 7.5208333 | S16: =F16*N16 -> 28.879543 | T16: 24.387768 | U16: =S16-T16 -> 4.4917752 | V16: =(P16-F16)*N16 -> 10.462023 | W16: =N16*(C$2*N16) -> 10.261306 | X16: =Q16+R16+U16+V16+W16 -> 55.298438 | Y16: =X16/27 -> 2.0480903
A17: 122 | B17: 77.5 | C17: 122.375 | D17: 9 | E17: =C17+2*D17 -> 140.375 | F17: =E17/12 -> 11.697917 | G17: 218 | H17: 62 | I17: =20+1/16 -> 20.0625 | J17: =B17-H17 -> 15.5 | K17: =J17+(SQRT(((H17-I17)^2)-(L17^2))) -> 23.715125 | L17: =(C17/2)-I17 -> 41.125 | M17: =K17+D17 -> 32.715125 | N17: =M17/12 -> 2.7262604 | O17: =E17+48 -> 188.375 | P17: =O17/12 -> 15.697917 | Q17: =1.5*P17 -> 23.546875 | R17: =P17*0.5 -> 7.8489583 | S17: =F17*N17 -> 31.891567 | T17: 27.145783 | U17: =S17-T17 -> 4.745784 | V17: =(P17-F17)*N17 -> 10.905042 | W17: =N17*(C$2*N17) -> 11.148744 | X17: =Q17+R17+U17+V17+W17 -> 58.195403 | Y17: =X17/27 -> 2.1553853
A18: 138 | B18: 87.125 | C18: 138.5 | D18: 10 | E18: =C18+2*D18 -> 158.5 | F18: =E18/12 -> 13.208333 | G18: 269 | H18: 70 | I18: =22+3/8 -> 22.375 | J18: =B18-H18 -> 17.125 | K18: =J18+(SQRT(((H18-I18)^2)-(L18^2))) -> 25.543729 | L18: =(C18/2)-I18 -> 46.875 | M18: =K18+D18 -> 35.543729 | N18: =M18/12 -> 2.9619774 | O18: =E18+48 -> 206.5 | P18: =O18/12 -> 17.208333 | Q18: =1.5*P18 -> 25.8125 | R18: =P18*0.5 -> 8.6041667 | S18: =F18*N18 -> 39.122785 | T18: 33.609959 | U18: =S18-T18 -> 5.5128262 | V18: =(P18-F18)*N18 -> 11.84791 | W18: =N18*(C$2*N18) -> 13.159965 | X18: =Q18+R18+U18+V18+W18 -> 64.937368 | Y18: =X18/27 -> 2.4050877
A19: 154 | B19: 96.875 | C19: 154 | D19: 11 | E19: =C19+2*D19 -> 176 | F19: =E19/12 -> 14.666667 | G19: 301.375 | H19: 78 | I19: 24 | J19: =B19-H19 -> 18.875 | K19: =J19+(SQRT(((H19-I19)^2)-(L19^2))) -> 29.21908 | L19: =(C19/2)-I19 -> 53 | M19: =K19+D19 -> 40.21908 | N19: =M19/12 -> 3.35159 | O19: =E19+48 -> 224 | P19: =O19/12 -> 18.666667 | Q19: =1.5*P19 -> 28 | R19: =P19*0.5 -> 9.3333333 | S19: =F19*N19 -> 49.156654 | T19: 41.888542 | U19: =S19-T19 -> 7.2681116 | V19: =(P19-F19)*N19 -> 13.40636 | W19: =N19*(C$2*N19) -> 16.849734 | X19: =Q19+R19+U19+V19+W19 -> 74.857539 | Y19: =X19/27 -> 2.7725014
A20: 169 | B20: 106.5 | C20: 168.75 | D20: 10 | E20: =C20+2*D20 -> 188.75 | F20: =E20/12 -> 15.729167 | G20: 329 | H20: =85+5/8 -> 85.625 | I20: =26+7/8 -> 26.875 | J20: =B20-H20 -> 20.875 | K20: =J20+(SQRT(((H20-I20)^2)-(L20^2))) -> 32.929563 | L20: =(C20/2)-I20 -> 57.5 | M20: =K20+D20 -> 42.929563 | N20: =M20/12 -> 3.5774636 | O20: =E20+48 -> 236.75 | P20: =O20/12 -> 19.729167 | Q20: =1.5*P20 -> 29.59375 | R20: =P20*0.5 -> 9.8645833 | S20: =F20*N20 -> 56.270522 | T20: 47.865597 | U20: =S20-T20 -> 8.4049245 | V20: =(P20-F20)*N20 -> 14.309854 | W20: =N20*(C$2*N20) -> 19.197369 | X20: =Q20+R20+U20+V20+W20 -> 81.370481 | Y20: =X20/27 -> 3.0137215

Sheet Flex Round Culv_3040
A1: CORRUGATED METAL PIPE CULVERT 2-2/3" x 1/2" CORRUGATION (Pipe geometry based on Standard Plate 3040F)
A2: Trench Excavation Slope Taper (V:H) : | D2: 1.5 | E2: <-- enter horizontal value of slope
H4: Trench Width | J4: Compact Bottom | K4: Loose Bottom | L4: Sides, Top, and Haunches of Pipe | M4: Taper Sides (V:H)
A5: Inside Diameter | B5: Gage | C5: Depth of Corrugation (in) | D5: Wall Thickness (in) | E5: Do (in) | F5: Do (ft) | G5: Radius (ft) | H5: B (in) | I5: B (ft) | J5: A1 (ft2) | K5: A2 (ft2) | L5: A4-A3 (ft2) * | M5: 2 x A5 (ft2) | N5: Fine Aggregate Bedding (ft2) | O5: Compacted Volume Fine Aggregate Bedding (CY/LF) | P5: <--- Multiply this number by LF of Pipe to get volume needed
A6: 6 | B6: 18 | C6: 0.5 | D6: 0.0516 | E6: =A6+C6+2*D6 -> 6.6032 | F6: =E6/12 -> 0.55026667 | G6: =F6/2 -> 0.27513333 | H6: =E6+48 -> 54.6032 | I6: =H6/12 -> 4.5502667 | J6: =1.5*I6 -> 6.8254 | K6: =0.5*I6 -> 2.2751333 | L6: =((I6*(F6+1))-(((3.14159*G6^2)+(3.14159*(G6-(C6/12))^2))/2)) -> 6.8496013 | M6: =((F6+1)*((F6+1)*D$2)) -> 3.6049901 | N6: =J6+K6+L6+M6 -> 19.555125 | O6: =N6/27 -> 0.72426388
A7: 8 | B7: 16 | C7: 0.5 | D7: 0.0635 | E7: =A7+C7+2*D7 -> 8.627 | F7: =E7/12 -> 0.71891667 | G7: =F7/2 -> 0.35945833 | H7: =E7+48 -> 56.627 | I7: =H7/12 -> 4.7189167 | J7: =1.5*I7 -> 7.078375 | K7: =0.5*I7 -> 2.3594583 | L7: =((I7*(F7+1))-(((3.14159*G7^2)+(3.14159*(G7-(C7/12))^2))/2)) -> 7.7498246 | M7: =((F7+1)*((F7+1)*D$2)) -> 4.4320118 | N7: =J7+K7+L7+M7 -> 21.61967 | O7: =N7/27 -> 0.80072851
A8: 10 | B8: 16 | C8: 0.5 | D8: 0.0635 | E8: =A8+C8+2*D8 -> 10.627 | F8: =E8/12 -> 0.88558333 | G8: =F8/2 -> 0.44279167 | H8: =E8+48 -> 58.627 | I8: =H8/12 -> 4.8855833 | J8: =1.5*I8 -> 7.328375 | K8: =0.5*I8 -> 2.4427917 | L8: =((I8*(F8+1))-(((3.14159*G8^2)+(3.14159*(G8-(C8/12))^2))/2)) -> 8.6514545 | M8: =((F8+1)*((F8+1)*D$2)) -> 5.3331368 | N8: =J8+K8+L8+M8 -> 23.755758 | O8: =N8/27 -> 0.87984289
A9: 12 | B9: 16 | C9: 0.5 | D9: 0.0635 | E9: =A9+C9+2*D9 -> 12.627 | F9: =E9/12 -> 1.05225 | G9: =F9/2 -> 0.526125 | H9: =E9+48 -> 60.627 | I9: =H9/12 -> 5.05225 | J9: =1.5*I9 -> 7.578375 | K9: =0.5*I9 -> 2.526125 | L9: =((I9*(F9+1))-(((3.14159*G9^2)+(3.14159*(G9-(C9/12))^2))/2)) -> 9.5650068 | M9: =((F9+1)*((F9+1)*D$2)) -> 6.3175951 | N9: =J9+K9+L9+M9 -> 25.987102 | O9: =N9/27 -> 0.96248526
A10: 15 | B10: 16 | C10: 0.5 | D10: 0.0635 | E10: =A10+C10+2*D10 -> 15.627 | F10: =E10/12 -> 1.30225 | G10: =F10/2 -> 0.651125 | H10: =E10+48 -> 63.627 | I10: =H10/12 -> 5.30225 | J10: =1.5*I10 -> 7.953375 | K10: =0.5*I10 -> 2.651125 | L10: =((I10*(F10+1))-(((3.14159*G10^2)+(3.14159*(G10-(C10/12))^2))/2)) -> 10.95769 | M10: =((F10+1)*((F10+1)*D$2)) -> 7.9505326 | N10: =J10+K10+L10+M10 -> 29.512722 | O10: =N10/27 -> 1.0930638
A11: 18 | B11: 16 | C11: 0.5 | D11: 0.0635 | E11: =A11+C11+2*D11 -> 18.627 | F11: =E11/12 -> 1.55225 | G11: =F11/2 -> 0.776125 | H11: =E11+48 -> 66.627 | I11: =H11/12 -> 5.55225 | J11: =1.5*I11 -> 8.328375 | K11: =0.5*I11 -> 2.776125 | L11: =((I11*(F11+1))-(((3.14159*G11^2)+(3.14159*(G11-(C11/12))^2))/2)) -> 12.377198 | M11: =((F11+1)*((F11+1)*D$2)) -> 9.7709701 | N11: =J11+K11+L11+M11 -> 33.252668 | O11: =N11/27 -> 1.2315803
A12: 21 | B12: 16 | C12: 0.5 | D12: 0.0635 | E12: =A12+C12+2*D12 -> 21.627 | F12: =E12/12 -> 1.80225 | G12: =F12/2 -> 0.901125 | H12: =E12+48 -> 69.627 | I12: =H12/12 -> 5.80225 | J12: =1.5*I12 -> 8.703375 | K12: =0.5*I12 -> 2.901125 | L12: =((I12*(F12+1))-(((3.14159*G12^2)+(3.14159*(G12-(C12/12))^2))/2)) -> 13.823531 | M12: =((F12+1)*((F12+1)*D$2)) -> 11.778908 | N12: =J12+K12+L12+M12 -> 37.206939 | O12: =N12/27 -> 1.3780348
A13: 24 | B13: 16 | C13: 0.5 | D13: 0.0635 | E13: =A13+C13+2*D13 -> 24.627 | F13: =E13/12 -> 2.05225 | G13: =F13/2 -> 1.026125 | H13: =E13+48 -> 72.627 | I13: =H13/12 -> 6.05225 | J13: =1.5*I13 -> 9.078375 | K13: =0.5*I13 -> 3.026125 | L13: =((I13*(F13+1))-(((3.14159*G13^2)+(3.14159*(G13-(C13/12))^2))/2)) -> 15.29669 | M13: =((F13+1)*((F13+1)*D$2)) -> 13.974345 | N13: =J13+K13+L13+M13 -> 41.375535 | O13: =N13/27 -> 1.5324272
A14: 30 | B14: 14 | C14: 0.5 | D14: 0.0785 | E14: =A14+C14+2*D14 -> 30.657 | F14: =E14/12 -> 2.55475 | G14: =F14/2 -> 1.277375 | H14: =E14+48 -> 78.657 | I14: =H14/12 -> 6.55475 | J14: =1.5*I14 -> 9.832125 | K14: =0.5*I14 -> 3.277375 | L14: =((I14*(F14+1))-(((3.14159*G14^2)+(3.14159*(G14-(C14/12))^2))/2)) -> 18.338887 | M14: =((F14+1)*((F14+1)*D$2)) -> 18.954371 | N14: =J14+K14+L14+M14 -> 50.402758 | O14: =N14/27 -> 1.8667688
A15: 36 | B15: 14 | C15: 0.5 | D15: 0.0785 | E15: =A15+C15+2*D15 -> 36.657 | F15: =E15/12 -> 3.05475 | G15: =F15/2 -> 1.527375 | H15: =E15+48 -> 84.657 | I15: =H15/12 -> 7.05475 | J15: =1.5*I15 -> 10.582125 | K15: =0.5*I15 -> 3.527375 | L15: =((I15*(F15+1))-(((3.14159*G15^2)+(3.14159*(G15-(C15/12))^2))/2)) -> 21.473518 | M15: =((F15+1)*((F15+1)*D$2)) -> 24.661496 | N15: =J15+K15+L15+M15 -> 60.244515 | O15: =N15/27 -> 2.2312783
A16: 42 | B16: 12 | C16: 0.5 | D16: 0.1084 | E16: =A16+C16+2*D16 -> 42.7168 | F16: =E16/12 -> 3.5597333 | G16: =F16/2 -> 1.7798667 | H16: =E16+48 -> 90.7168 | I16: =H16/12 -> 7.5597333 | J16: =1.5*I16 -> 11.3396 | K16: =0.5*I16 -> 3.7798667 | L16: =((I16*(F16+1))-(((3.14159*G16^2)+(3.14159*(G16-(C16/12))^2))/2)) -> 24.748302 | M16: =((F16+1)*((F16+1)*D$2)) -> 31.186752 | N16: =J16+K16+L16+M16 -> 71.054521 | O16: =N16/27 -> 2.6316489
A17: 48 | B17: 12 | C17: 0.5 | D17: 0.1084 | E17: =A17+C17+2*D17 -> 48.7168 | F17: =E17/12 -> 4.0597333 | G17: =F17/2 -> 2.0298667 | H17: =E17+48 -> 96.7168 | I17: =H17/12 -> 8.0597333 | J17: =1.5*I17 -> 12.0896 | K17: =0.5*I17 -> 4.0298667 | L17: =((I17*(F17+1))-(((3.14159*G17^2)+(3.14159*(G17-(C17/12))^2))/2)) -> 28.098605 | M17: =((F17+1)*((F17+1)*D$2)) -> 38.401352 | N17: =J17+K17+L17+M17 -> 82.619424 | O17: =N17/27 -> 3.0599787
... A21: 72 | B21: 10 | C21: 0.5 | D21: 0.1382 | E21: =A21+C21+2*D21 -> 72.7764 | F21: =E21/12 -> 6.0647 | G21: =F21/2 -> 3.03235 | H21: =E21+48 -> 120.7764 | I21: =H21/12 -> 10.0647 | J21: =1.5*I21 -> 15.09705 | K21: =0.5*I21 -> 5.03235 | L21: =((I21*(F21+1))-(((3.14159*G21^2)+(3.14159*(G21-(C21/12))^2))/2)) -> 42.610912 | M21: =((F21+1)*((F21+1)*D$2)) -> 74.864979 | N21: =J21+K21+L21+M21 -> 137.60529 | O21: =N21/27 -> 5.0964923
A22: *Pipe area is calculated from an average radius at low and high points of corrugation

Sheet Flex Round Culv_3041
A1: CORRUGATED METAL PIPE CULVERT 3" x 1" CORRUGATION (Pipe geometry based on Standard Plate 3041D)
A2: Trench Excavation Slope Taper (V:H) : | D2: 1.5 | E2: <-- enter horizontal value of slope
H4: Trench Width | J4: Compact Bottom | K4: Loose Bottom | L4: Sides, Top, and Haunches of Pipe | M4: Taper Sides (V:H)
A5: Inside Diameter | B5: Gage | C5: Depth of Corrugation (in) | D5: Wall Thickness (in) | E5: Do (in) | F5: Do (ft) | G5: Radius (ft) | H5: B (in) | I5: B (ft) | J5: A1 (ft2) | K5: A2 (ft2) | L5: A4-A3 (ft2) | M5: 2 x A5 (ft2) | N5: Fine Aggregate Bedding (ft2) | O5: Compacted Volume Fine Aggregate Bedding (CY/LF) | P5: <--- Multiply this number by LF of Pipe to get volume needed
A6: 78 | B6: 14 | C6: 1 | D6: 0.0785 | E6: =A6+C6+2*D6 -> 79.157 | F6: =E6/12 -> 6.5964167 | G6: =F6/2 -> 3.2982083 | H6: =E6+48 -> 127.157 | I6: =H6/12 -> 10.596417 | J6: =1.5*I6 -> 15.894625 | K6: =0.5*I6 -> 5.2982083 | L6: =((I6*(F6+1))-(((3.14159*G6^2)+(3.14159*(G6-(C6/12))^2))/2)) -> 47.17258 | M6: =((F6+1)*((F6+1)*D$2)) -> 86.558319 | N6: =J6+K6+L6+M6 -> 154.92373 | O6: =N6/27 -> 5.737916
A7: 84 | B7: 12 | C7: 1 | D7: 0.1084 | E7: =A7+C7+2*D7 -> 85.2168 | F7: =E7/12 -> 7.1014 | G7: =F7/2 -> 3.5507 | H7: =E7+48 -> 133.2168 | I7: =H7/12 -> 11.1014 | J7: =1.5*I7 -> 16.6521 | K7: =0.5*I7 -> 5.5507 | L7: =((I7*(F7+1))-(((3.14159*G7^2)+(3.14159*(G7-(C7/12))^2))/2)) -> 51.248041 | M7: =((F7+1)*((F7+1)*D$2)) -> 98.449023 | N7: =J7+K7+L7+M7 -> 171.89986 | O7: =N7/27 -> 6.3666616
A8: 90 | B8: 12 | C8: 1 | D8: 0.1084 | E8: =A8+C8+2*D8 -> 91.2168 | F8: =E8/12 -> 7.6014 | G8: =F8/2 -> 3.8007 | H8: =E8+48 -> 139.2168 | I8: =H8/12 -> 11.6014 | J8: =1.5*I8 -> 17.4021 | K8: =0.5*I8 -> 5.8007 | L8: =((I8*(F8+1))-(((3.14159*G8^2)+(3.14159*(G8-(C8/12))^2))/2)) -> 55.391119 | M8: =((F8+1)*((F8+1)*D$2)) -> 110.97612 | N8: =J8+K8+L8+M8 -> 189.57004 | O8: =N8/27 -> 7.0211127
A9: 96 | B9: 12 | C9: 1 | D9: 0.1084 | E9: =A9+C9+2*D9 -> 97.2168 | F9: =E9/12 -> 8.1014 | G9: =F9/2 -> 4.0507 | H9: =E9+48 -> 145.2168 | I9: =H9/12 -> 12.1014 | J9: =1.5*I9 -> 18.1521 | K9: =0.5*I9 -> 6.0507 | L9: =((I9*(F9+1))-(((3.14159*G9^2)+(3.14159*(G9-(C9/12))^2))/2)) -> 59.641499 | M9: =((F9+1)*((F9+1)*D$2)) -> 124.25322 | N9: =J9+K9+L9+M9 -> 208.09752 | O9: =N9/27 -> 7.7073156
A10: 102 | B10: 12 | C10: 1 | D10: 0.1084 | E10: =A10+C10+2*D10 -> 103.2168 | F10: =E10/12 -> 8.6014 | G10: =F10/2 -> 4.3007 | H10: =E10+48 -> 151.2168 | I10: =H10/12 -> 12.6014 | J10: =1.5*I10 -> 18.9021 | K10: =0.5*I10 -> 6.3007 | L10: =((I10*(F10+1))-(((3.14159*G10^2)+(3.14159*(G10-(C10/12))^2))/2)) -> 63.99918 | M10: =((F10+1)*((F10+1)*D$2)) -> 138.28032 | N10: =J10+K10+L10+M10 -> 227.4823 | O10: =N10/27 -> 8.4252705
A11: 108 | B11: 10 | C11: 1 | D11: 0.1382 | E11: =A11+C11+2*D11 -> 109.2764 | F11: =E11/12 -> 9.1063667 | G11: =F11/2 -> 4.5531833 | H11: =E11+48 -> 157.2764 | I11: =H11/12 -> 13.106367 | J11: =1.5*I11 -> 19.65955 | K11: =0.5*I11 -> 6.5531833 | L11: =((I11*(F11+1))-(((3.14159*G11^2)+(3.14159*(G11-(C11/12))^2))/2)) -> 68.509053 | M11: =((F11+1)*((F11+1)*D$2)) -> 153.20797 | N11: =J11+K11+L11+M11 -> 247.92976 | O11: =N11/27 -> 9.1825836
A12: 114 | B12: 8 | C12: 1 | D12: 0.1681 | E12: =A12+C12+2*D12 -> 115.3362 | F12: =E12/12 -> 9.61135 | G12: =F12/2 -> 4.805675 | H12: =E12+48 -> 163.3362 | I12: =H12/12 -> 13.61135 | J12: =1.5*I12 -> 20.417025 | K12: =0.5*I12 -> 6.805675 | L12: =((I12*(F12+1))-(((3.14159*G12^2)+(3.14159*(G12-(C12/12))^2))/2)) -> 73.128524 | M12: =((F12+1)*((F12+1)*D$2)) -> 168.90112 | N12: =J12+K12+L12+M12 -> 269.25235 | O12: =N12/27 -> 9.9723091
A13: 120 | B13: 8 | C13: 1 | D13: 0.1681 | E13: =A13+C13+2*D13 -> 121.3362 | F13: =E13/12 -> 10.11135 | G13: =F13/2 -> 5.055675 | H13: =E13+48 -> 169.3362 | I13: =H13/12 -> 14.11135 | J13: =1.5*I13 -> 21.167025 | K13: =0.5*I13 -> 7.055675 | L13: =((I13*(F13+1))-(((3.14159*G13^2)+(3.14159*(G13-(C13/12))^2))/2)) -> 77.810244 | M13: =((F13+1)*((F13+1)*D$2)) -> 185.19315 | N13: =J13+K13+L13+M13 -> 291.22609 | O13: =N13/27 -> 10.786152

Sheet Flex Arch Culv_3040
A1: CORRUGATED METAL PIPE CULVERT 2-2/3" x 1/2" CORRUGATION (Pipe geometry based on Standard Plate 3040F)
A2: Trench Excavation Slope Taper (V:H) : | D2: 1.5 | E2: <-- enter horizontal value of slope
K4: Trench Width | M4: Beneath Pipe | O4: Sides of Pipe | P4: Taper Sides (V:H)
A5: Nominal Span (in) | B5: Span (in) | C5: Rise (in) | D5: End Area (sq ft) | E5: Gage | F5: Wall Thickness (in) | G5: So (in) | H5: So (ft) | I5: Rise Outer (in) | J5: Rise Outer (ft) | K5: B (in) | L5: B (ft) | M5: A1 (ft2) | N5: A2 (ft2) | O5: A3 - Sides and top of Pipe (ft2) | P5: 2 x A4 (ft2) | Q5: Fine Aggregate Bedding (ft2) | R5: Compacted Volume Fine Aggregate Bedding (CY/LF) | S5: <--- Multiply this number by LF of Pipe to get volume needed
A6: 15 | B6: 17 | C6: 13 | D6: 1.1 | E6: 16 | F6: 0.0635 | G6: =B6+(2*F6) -> 17.127 | H6: =G6/12 -> 1.42725 | I6: =C6+2*F6 -> 13.127 | J6: =I6/12 -> 1.0939167 | K6: =G6+48 -> 65.127 | L6: =K6/12 -> 5.42725 | M6: =L6*1.5 -> 8.140875 | N6: =L6*0.5 -> 2.713625 | O6: =(L6*(J6+1))-D6 -> 10.264209 | P6: =(J6+1)*((J6+1)*D$2) -> 6.5767305 | Q6: =M6+N6+O6+P6 -> 27.69544 | R6: =Q6/27 -> 1.025757
A7: 18 | B7: 21 | C7: 15 | D7: 1.5 | E7: 16 | F7: 0.0635 | G7: =B7+(2*F7) -> 21.127 | H7: =G7/12 -> 1.7605833 | I7: =C7+2*F7 -> 15.127 | J7: =I7/12 -> 1.2605833 | K7: =G7+48 -> 69.127 | L7: =K7/12 -> 5.7605833 | M7: =L7*1.5 -> 8.640875 | N7: =L7*0.5 -> 2.8802917 | O7: =(L7*(J7+1))-D7 -> 11.522279 | P7: =(J7+1)*((J7+1)*D$2) -> 7.6653555 | Q7: =M7+N7+O7+P7 -> 30.708801 | R7: =Q7/27 -> 1.137363
A8: 21 | B8: 24 | C8: 18 | D8: 2.2 | E8: 16 | F8: 0.0635 | G8: =B8+(2*F8) -> 24.127 | H8: =G8/12 -> 2.0105833 | I8: =C8+2*F8 -> 18.127 | J8: =I8/12 -> 1.5105833 | K8: =G8+48 -> 72.127 | L8: =K8/12 -> 6.0105833 | M8: =L8*1.5 -> 9.015875 | N8: =L8*0.5 -> 3.0052917 | O8: =(L8*(J8+1))-D8 -> 12.89007 | P8: =(J8+1)*((J8+1)*D$2) -> 9.454543 | Q8: =M8+N8+O8+P8 -> 34.36578 | R8: =Q8/27 -> 1.2728067
A9: 24 | B9: 28 | C9: 20 | D9: 2.8 | E9: 16 | F9: 0.0635 | G9: =B9+(2*F9) -> 28.127 | H9: =G9/12 -> 2.3439167 | I9: =C9+2*F9 -> 20.127 | J9: =I9/12 -> 1.67725 | K9: =G9+48 -> 76.127 | L9: =K9/12 -> 6.3439167 | M9: =L9*1.5 -> 9.515875 | N9: =L9*0.5 -> 3.1719583 | O9: =(L9*(J9+1))-D9 -> 14.184251 | P9: =(J9+1)*((J9+1)*D$2) -> 10.751501 | Q9: =M9+N9+O9+P9 -> 37.623586 | R9: =Q9/27 -> 1.3934661
A10: 30 | B10: 35 | C10: 24 | D10: 4.4 | E10: 14 | F10: 0.0785 | G10: =B10+(2*F10) -> 35.157 | H10: =G10/12 -> 2.92975 | I10: =C10+2*F10 -> 24.157 | J10: =I10/12 -> 2.0130833 | K10: =G10+48 -> 83.157 | L10: =K10/12 -> 6.92975 | M10: =L10*1.5 -> 10.394625 | N10: =L10*0.5 -> 3.464875 | O10: =(L10*(J10+1))-D10 -> 16.479914 | P10: =(J10+1)*((J10+1)*D$2) -> 13.618007 | Q10: =M10+N10+O10+P10 -> 43.957421 | R10: =Q10/27 -> 1.6280526
A11: 36 | B11: 42 | C11: 29 | D11: 6.4 | E11: 14 | F11: 0.0785 | G11: =B11+(2*F11) -> 42.157 | H11: =G11/12 -> 3.5130833 | I11: =C11+2*F11 -> 29.157 | J11: =I11/12 -> 2.42975 | K11: =G11+48 -> 90.157 | L11: =K11/12 -> 7.5130833 | M11: =L11*1.5 -> 11.269625 | N11: =L11*0.5 -> 3.7565417 | O11: =(L11*(J11+1))-D11 -> 19.367998 | P11: =(J11+1)*((J11+1)*D$2) -> 17.644778 | Q11: =M11+N11+O11+P11 -> 52.038942 | R11: =Q11/27 -> 1.9273682
A12: 42 | B12: 49 | C12: 33 | D12: 8.7 | E12: 12 | F12: 0.1084 | G12: =B12+(2*F12) -> 49.2168 | H12: =G12/12 -> 4.1014 | I12: =C12+2*F12 -> 33.2168 | J12: =I12/12 -> 2.7680667 | K12: =G12+48 -> 97.2168 | L12: =K12/12 -> 8.1014 | M12: =L12*1.5 -> 12.1521 | N12: =L12*0.5 -> 4.0507 | O12: =(L12*(J12+1))-D12 -> 21.826615 | P12: =(J12+1)*((J12+1)*D$2) -> 21.29749 | Q12: =M12+N12+O12+P12 -> 59.326905 | R12: =Q12/27 -> 2.1972928
A13: 48 | B13: 57 | C13: 38 | D13: 11.4 | E13: 12 | F13: 0.1084 | G13: =B13+(2*F13) -> 57.2168 | H13: =G13/12 -> 4.7680667 | I13: =C13+2*F13 -> 38.2168 | J13: =I13/12 -> 3.1847333 | K13: =G13+48 -> 105.2168 | L13: =K13/12 -> 8.7680667 | M13: =L13*1.5 -> 13.1521 | N13: =L13*0.5 -> 4.3840333 | O13: =(L13*(J13+1))-D13 -> 25.292021 | P13: =(J13+1)*((J13+1)*D$2) -> 26.26799 | Q13: =M13+N13+O13+P13 -> 69.096144 | R13: =Q13/27 -> 2.5591164
A14: 54 | B14: 64 | C14: 43 | D14: 14.3 | E14: 12 | F14: 0.1084 | G14: =B14+(2*F14) -> 64.2168 | H14: =G14/12 -> 5.3514 | I14: =C14+2*F14 -> 43.2168 | J14: =I14/12 -> 3.6014 | K14: =G14+48 -> 112.2168 | L14: =K14/12 -> 9.3514 | M14: =L14*1.5 -> 14.0271 | N14: =L14*0.5 -> 4.6757 | O14: =(L14*(J14+1))-D14 -> 28.729532 | P14: =(J14+1)*((J14+1)*D$2) -> 31.759323 | Q14: =M14+N14+O14+P14 -> 79.191655 | R14: =Q14/27 -> 2.9330243
A15: 60 | B15: 71 | C15: 47 | D15: 17.6 | E15: 10 | F15: 0.1382 | G15: =B15+(2*F15) -> 71.2764 | H15: =G15/12 -> 5.9397 | I15: =C15+2*F15 -> 47.2764 | J15: =I15/12 -> 3.9397 | K15: =G15+48 -> 119.2764 | L15: =K15/12 -> 9.9397 | M15: =L15*1.5 -> 14.90955 | N15: =L15*0.5 -> 4.96985 | O15: =(L15*(J15+1))-D15 -> 31.499136 | P15: =(J15+1)*((J15+1)*D$2) -> 36.600954 | Q15: =M15+N15+O15+P15 -> 87.97949 | R15: =Q15/27 -> 3.2584996
A16: 66 | B16: 77 | C16: 52 | D16: 21.3 | E16: 8 | F16: 0.1681 | G16: =B16+(2*F16) -> 77.3362 | H16: =G16/12 -> 6.4446833 | I16: =C16+2*F16 -> 52.3362 | J16: =I16/12 -> 4.36135 | K16: =G16+48 -> 125.3362 | L16: =K16/12 -> 10.444683 | M16: =L16*1.5 -> 15.667025 | N16: =L16*0.5 -> 5.2223417 | O16: =(L16*(J16+1))-D16 -> 34.697603 | P16: =(J16+1)*((J16+1)*D$2) -> 43.116111 | Q16: =M16+N16+O16+P16 -> 98.70308 | R16: =Q16/27 -> 3.6556696
A17: 72 | B17: 83 | C17: 57 | D17: 25.3 | E17: 8 | F17: 0.1681 | G17: =B17+(2*F17) -> 83.3362 | H17: =G17/12 -> 6.9446833 | I17: =C17+2*F17 -> 57.3362 | J17: =I17/12 -> 4.7780167 | K17: =G17+48 -> 131.3362 | L17: =K17/12 -> 10.944683 | M17: =L17*1.5 -> 16.417025 | N17: =L17*0.5 -> 5.4723417 | O17: =(L17*(J17+1))-D17 -> 37.938563 | P17: =(J17+1)*((J17+1)*D$2) -> 50.078215 | Q17: =M17+N17+O17+P17 -> 109.90614 | R17: =Q17/27 -> 4.0705979

Sheet Flex Arch Culv_3041
A1: CORRUGATED METAL PIPE CULVERT 3" x 1" CORRUGATION (Pipe geometry based on Standard Plate 3041D)
A2: Trench Excavation Slope Taper (V:H) : | D2: 1.5 | E2: <-- enter horizontal value of slope
K4: Trench Width | M4: Beneath Pipe | O4: Sides of Pipe | P4: Taper Sides (V:H)
A5: Nominal Span (in) | B5: Span (in) | C5: Rise (in) | D5: End Area (sq ft) | E5: Gage | F5: Wall Thickness (in) | G5: So (in) | H5: So (ft) | I5: Rise Outer (in) | J5: Rise Outer (ft) | K5: B (in) | L5: B (ft) | M5: A1 (ft2) | N5: A2 (ft2) | O5: A3 - Sides and top of Pipe (ft2) | P5: 2 x A4 (ft2) | Q5: Fine Aggregate Bedding (ft2) | R5: Compacted Volume Fine Aggregate Bedding (CY/LF) | S5: <--- Multiply this number by LF of Pipe to get volume needed
A6: 36 | B6: 40 | C6: 31 | D6: 7 | E6: 14 | F6: 0.0785 | G6: =B6+(2*F6) -> 40.157 | H6: =G6/12 -> 3.3464167 | I6: =C6+2*F6 -> 31.157 | J6: =I6/12 -> 2.5964167 | K6: =G6+24 -> 64.157 | L6: =K6/12 -> 5.3464167 | M6: =L6*1.5 -> 8.019625 | N6: =L6*0.5 -> 2.6732083 | O6: =(L6*(J6+1))-D6 -> 12.227942 | P6: =(J6+1)*((J6+1)*D$2) -> 19.401319 | Q6: =M6+N6+O6+P6 -> 42.322095 | R6: =Q6/27 -> 1.567485
A7: 42 | B7: 46 | C7: 36 | D7: 9.4 | E7: 14 | F7: 0.0785 | G7: =B7+(2*F7) -> 46.157 | H7: =G7/12 -> 3.8464167 | I7: =C7+2*F7 -> 36.157 | J7: =I7/12 -> 3.0130833 | K7: =1.5*G7 -> 69.2355 | L7: =K7/12 -> 5.769625 | M7: =L7*1.5 -> 8.6544375 | N7: =L7*0.5 -> 2.8848125 | O7: =(L7*(J7+1))-D7 -> 13.753986 | P7: =(J7+1)*((J7+1)*D$2) -> 24.157257 | Q7: =M7+N7+O7+P7 -> 49.450493 | R7: =Q7/27 -> 1.8314997
A8: 48 | B8: 53 | C8: 41 | D8: 12.3 | E8: 14 | F8: 0.0785 | G8: =B8+(2*F8) -> 53.157 | H8: =G8/12 -> 4.42975 | I8: =C8+2*F8 -> 41.157 | J8: =I8/12 -> 3.42975 | K8: =1.5*G8 -> 79.7355 | L8: =K8/12 -> 6.644625 | M8: =L8*1.5 -> 9.9669375 | N8: =L8*0.5 -> 3.3223125 | O8: =(L8*(J8+1))-D8 -> 17.134028 | P8: =(J8+1)*((J8+1)*D$2) -> 29.434028 | Q8: =M8+N8+O8+P8 -> 59.857305 | R8: =Q8/27 -> 2.2169372
A9: 54 | B9: 60 | C9: 46 | D9: 15.6 | E9: 14 | F9: 0.0785 | G9: =B9+(2*F9) -> 60.157 | H9: =G9/12 -> 5.0130833 | I9: =C9+2*F9 -> 46.157 | J9: =I9/12 -> 3.8464167 | K9: =1.5*G9 -> 90.2355 | L9: =K9/12 -> 7.519625 | M9: =L9*1.5 -> 11.279438 | N9: =L9*0.5 -> 3.7598125 | O9: =(L9*(J9+1))-D9 -> 20.843236 | P9: =(J9+1)*((J9+1)*D$2) -> 35.231632 | Q9: =M9+N9+O9+P9 -> 71.114118 | R9: =Q9/27 -> 2.6338562
A10: 60 | B10: 66 | C10: 51 | D10: 19.3 | E10: 14 | F10: 0.0785 | G10: =B10+(2*F10) -> 66.157 | H10: =G10/12 -> 5.5130833 | I10: =C10+2*F10 -> 51.157 | J10: =I10/12 -> 4.2630833 | K10: =G10+36 -> 102.157 | L10: =K10/12 -> 8.5130833 | M10: =L10*1.5 -> 12.769625 | N10: =L10*0.5 -> 4.2565417 | O10: =(L10*(J10+1))-D10 -> 25.505067 | P10: =(J10+1)*((J10+1)*D$2) -> 41.550069 | Q10: =M10+N10+O10+P10 -> 84.081303 | R10: =Q10/27 -> 3.1141223
A11: 66 | B11: 73 | C11: 55 | D11: 23.2 | E11: 14 | F11: 0.0785 | G11: =B11+(2*F11) -> 73.157 | H11: =G11/12 -> 6.0964167 | I11: =C11+2*F11 -> 55.157 | J11: =I11/12 -> 4.5964167 | K11: =G11+36 -> 109.157 | L11: =K11/12 -> 9.0964167 | M11: =L11*1.5 -> 13.644625 | N11: =L11*0.5 -> 4.5482083 | O11: =(L11*(J11+1))-D11 -> 27.707338 | P11: =(J11+1)*((J11+1)*D$2) -> 46.979819 | Q11: =M11+N11+O11+P11 -> 92.87999 | R11: =Q11/27 -> 3.4399996
A12: 72 | B12: 81 | C12: 59 | D12: 27.4 | E12: 14 | F12: 0.0785 | G12: =B12+(2*F12) -> 81.157 | H12: =G12/12 -> 6.7630833 | I12: =C12+2*F12 -> 59.157 | J12: =I12/12 -> 4.92975 | K12: =G12+36 -> 117.157 | L12: =K12/12 -> 9.7630833 | M12: =L12*1.5 -> 14.644625 | N12: =L12*0.5 -> 4.8815417 | O12: =(L12*(J12+1))-D12 -> 30.492643 | P12: =(J12+1)*((J12+1)*D$2) -> 52.742903 | Q12: =M12+N12+O12+P12 -> 102.76171 | R12: =Q12/27 -> 3.8059894
A13: 78 | B13: 87 | C13: 63 | D13: 32.1 | E13: 14 | F13: 0.0785 | G13: =B13+(2*F13) -> 87.157 | H13: =G13/12 -> 7.2630833 | I13: =C13+2*F13 -> 63.157 | J13: =I13/12 -> 5.2630833 | K13: =G13+48 -> 135.157 | L13: =K13/12 -> 11.263083 | M13: =L13*1.5 -> 16.894625 | N13: =L13*0.5 -> 5.6315417 | O13: =(L13*(J13+1))-D13 -> 38.44163 | P13: =(J13+1)*((J13+1)*D$2) -> 58.839319 | Q13: =M13+N13+O13+P13 -> 119.80712 | R13: =Q13/27 -> 4.4373006
A14: 84 | B14: 95 | C14: 67 | D14: 37 | E14: 12 | F14: 0.1084 | G14: =B14+(2*F14) -> 95.2168 | H14: =G14/12 -> 7.9347333 | I14: =C14+2*F14 -> 67.2168 | J14: =I14/12 -> 5.6014 | K14: =G14+48 -> 143.2168 | L14: =K14/12 -> 11.934733 | M14: =L14*1.5 -> 17.9021 | N14: =L14*0.5 -> 5.9673667 | O14: =(L14*(J14+1))-D14 -> 41.785949 | P14: =(J14+1)*((J14+1)*D$2) -> 65.367723 | Q14: =M14+N14+O14+P14 -> 131.02314 | R14: =Q14/27 -> 4.8527088
A15: 90 | B15: 103 | C15: 71 | D15: 42.4 | E15: 12 | F15: 0.1084 | G15: =B15+(2*F15) -> 103.2168 | H15: =G15/12 -> 8.6014 | I15: =C15+2*F15 -> 71.2168 | J15: =I15/12 -> 5.9347333 | K15: =G15+48 -> 151.2168 | L15: =K15/12 -> 12.6014 | M15: =L15*1.5 -> 18.9021 | N15: =L15*0.5 -> 6.3007 | O15: =(L15*(J15+1))-D15 -> 44.987349 | P15: =(J15+1)*((J15+1)*D$2) -> 72.13579 | Q15: =M15+N15+O15+P15 -> 142.32594 | R15: =Q15/27 -> 5.271331
A16: 96 | B16: 112 | C16: 75 | D16: 48 | E16: 12 | F16: 0.1084 | G16: =B16+(2*F16) -> 112.2168 | H16: =G16/12 -> 9.3514 | I16: =C16+2*F16 -> 75.2168 | J16: =I16/12 -> 6.2680667 | K16: =G16+48 -> 160.2168 | L16: =K16/12 -> 13.3514 | M16: =L16*1.5 -> 20.0271 | N16: =L16*0.5 -> 6.6757 | O16: =(L16*(J16+1))-D16 -> 49.038865 | P16: =(J16+1)*((J16+1)*D$2) -> 79.23719 | Q16: =M16+N16+O16+P16 -> 154.97885 | R16: =Q16/27 -> 5.7399576
A17: 102 | B17: 117 | C17: 79 | D17: 54.2 | E17: 12 | F17: 0.1084 | G17: =B17+(2*F17) -> 117.2168 | H17: =G17/12 -> 9.7680667 | I17: =C17+2*F17 -> 79.2168 | J17: =I17/12 -> 6.6014 | K17: =G17+48 -> 165.2168 | L17: =K17/12 -> 13.768067 | M17: =L17*1.5 -> 20.6521 | N17: =L17*0.5 -> 6.8840333 | O17: =(L17*(J17+1))-D17 -> 50.456582 | P17: =(J17+1)*((J17+1)*D$2) -> 86.671923 | Q17: =M17+N17+O17+P17 -> 164.66464 | R17: =Q17/27 -> 6.0986903
A18: 108 | B18: 128 | C18: 83 | D18: 60.5 | E18: 10 | F18: 0.1382 | G18: =B18+(2*F18) -> 128.2764 | H18: =G18/12 -> 10.6897 | I18: =C18+2*F18 -> 83.2764 | J18: =I18/12 -> 6.9397 | K18: =G18+48 -> 176.2764 | L18: =K18/12 -> 14.6897 | M18: =L18*1.5 -> 22.03455 | N18: =L18*0.5 -> 7.34485 | O18: =(L18*(J18+1))-D18 -> 56.131811 | P18: =(J18+1)*((J18+1)*D$2) -> 94.558254 | Q18: =M18+N18+O18+P18 -> 180.06947 | R18: =Q18/27 -> 6.6692395
A19: 114 | B19: 137 | C19: 87 | D19: 67.4 | E19: 8 | F19: 0.1681 | G19: =B19+(2*F19) -> 137.3362 | H19: =G19/12 -> 11.444683 | I19: =C19+2*F19 -> 87.3362 | J19: =I19/12 -> 7.2780167 | K19: =G19+48 -> 185.3362 | L19: =K19/12 -> 15.444683 | M19: =L19*1.5 -> 23.167025 | N19: =L19*0.5 -> 7.7223417 | O19: =(L19*(J19+1))-D19 -> 60.451346 | P19: =(J19+1)*((J19+1)*D$2) -> 102.78834 | Q19: =M19+N19+O19+P19 -> 194.12905 | R19: =Q19/27 -> 7.1899649
A20: 120 | B20: 142 | C20: 91 | D20: 74.5 | E20: 8 | F20: 0.1681 | G20: =B20+(2*F20) -> 142.3362 | H20: =G20/12 -> 11.86135 | I20: =C20+2*F20 -> 91.3362 | J20: =I20/12 -> 7.61135 | K20: =G20+48 -> 190.3362 | L20: =K20/12 -> 15.86135 | M20: =L20*1.5 -> 23.792025 | N20: =L20*0.5 -> 7.930675 | O20: =(L20*(J20+1))-D20 -> 62.087636 | P20: =(J20+1)*((J20+1)*D$2) -> 111.23302 | Q20: =M20+N20+O20+P20 -> 205.04336 | R20: =Q20/27 -> 7.5941985

Sheet Round Pipe Aprons
B1: NOTE: | AF1: Version 1.1. Last Updated 4-30-2019
B2: Calculations are based on the assumption that aprons and pipes are the same material. For alternative configurations (e.g., metal aprons used with concrete pipe) bedding quantities are not computed.
B3: Quantities should not be used if plans specify a bedding thickness, under the apron, other than 6".
G5: Precast Concrete Safety Apron (Stnd. Plate 3022) | U5: CONCRETE APRON FOR REINFORCED CONCRETE PIPE (Stnd. Plate 3100) | X5: METAL APRON FOR C.S. PIPE (Stnd. Plate 3123)2 | AA5: METAL SAFETY APRON & GRATE (Stnd. Plate 3128) | AD5: SAFETY SLOPE METAL END SECTION (Stnd. Plate 3148)
G6: Design Option 1 | M6: Design Option 2 | S6: Multiple Piece End Sections1
G7: 1:4 Slopes | J7: 1:6 Slopes | M7: 1:4 Slopes | P7: 1:6 Slopes | S7: 1:4 Slopes | AA7: 1:6 Slopes | AD7: 1:4 Slopes | AG7: 1:6 Slopes
B8: Pipe Diameter (in) | C8: Rigid Round Culvert Trench Width (ft) | D8: Flex Round Culvert (3040) Trench Width (ft) | E8: Flex Round Culvert (3041) Trench Width (ft) | F8: Bedding Thickness (ft) | G8: Apron Length (in), 1:4 Slopes | H8: Apron Length (ft), 1:4 Slopes | I8: Compacted Volume Fine Aggregate Bedding (CY) | J8: Apron Length (in), 1:6 Slopes | K8: Apron Length (ft), 1:6 Slopes | L8: Compacted Volume Fine Aggregate Bedding (CY) | M8: Apron Length (in), 1:4 Slopes | N8: Apron Length (ft), 1:4 Slopes | O8: Compacted Volume Fine Aggregate Bedding (CY) | P8: Apron Length (in), 1:6 Slopes | Q8: Apron Length (ft), 1:6 Slopes | R8: Compacted Volume Fine Aggregate Bedding (CY) | S8: Apron Length (ft), 1:4 Slopes | T8: Compacted Volume Fine Aggregate Bedding (CY) | U8: Apron Length (in) | V8: Apron Length (ft) | W8: Compacted Volume Fine Aggregate Bedding (CY) | X8: Apron Length (in) | Y8: Apron Length (ft) | Z8: Compacted Volume Fine Aggregate Bedding (CY) | AA8: Apron Length (in) | AB8: Apron Length (ft) | AC8: Compacted Volume Fine Aggregate Bedding (CY) | AD8: Apron Length (in) | AE8: Apron Length (ft) | AF8: Compacted Volume Fine Aggregate Bedding (CY) | AG8: Apron Length (in) | AH8: Apron Length (ft) | AI8: Compacted Volume Fine Aggregate Bedding (CY)
B9: 6
B10: 8
B11: 10
B12: 12 | C12: ='Rigid Round Culvert '!G6 -> 5.3333333 | D12: 5.05225 | F12: 0.5 | I12: - | L12: - | O12: - | P12: 72 | Q12: =P12/12 -> 6 | R12: =(B12*F12*Q12)/27 -> 1.3333333 | T12: - | U12: 72.875 | V12: =U12/12 -> 6.0729167 | W12: =(C12*F12*V12)/27 -> 0.59979424 | X12: 21 | Y12: =X12/12 -> 1.75 | Z12: =(D12*F12*Y12)/27 -> 0.16373032 | AC12: - | AF12: - | AI12: -
B13: 15 | C13: ='Rigid Round Culvert '!G7 -> 5.625 | D13: 5.30225 | F13: 0.5 | I13: - | J13: 112.5 | K13: =J13/12 -> 9.375 | L13: =(C13*F13*K13)/27 -> 0.9765625 | O13: - | P13: 84 | Q13: =P13/12 -> 7 | R13: =(B13*F13*Q13)/27 -> 1.9444444 | T13: - | U13: 73 | V13: =U13/12 -> 6.0833333 | W13: =(C13*F13*V13)/27 -> 0.63368056 | X13: 26 | Y13: =X13/12 -> 2.1666667 | Z13: =(D13*F13*Y13)/27 -> 0.2127446 | AC13: - | AF13: - | AI13: -
B14: 18 | C14: ='Rigid Round Culvert '!G8 -> 5.9166667 | D14: 5.55225 | F14: 0.5 | I14: - | J14: 112.5 | K14: =J14/12 -> 9.375 | L14: =(C14*F14*K14)/27 -> 1.0271991 | M14: 72 | N14: =M14/12 -> 6 | O14: =(C14*F14*N14)/27 -> 0.65740741 | P14: 96 | Q14: =P14/12 -> 8 | R14: =(B14*F14*Q14)/27 -> 2.6666667 | T14: - | U14: 73 | V14: =U14/12 -> 6.0833333 | W14: =(C14*F14*V14)/27 -> 0.66653807 | X14: 31 | Y14: =X14/12 -> 2.5833333 | Z14: =(D14*F14*Y14)/27 -> 0.2656169 | AA14: 81 | AB14: =AA14/12 -> 6.75 | AC14: =(D14*F14*AB14)/27 -> 0.69403125 | AD14: 32 | AE14: =AD14/12 -> 2.6666667 | AF14: =(D14*F14*AE14)/27 -> 0.27418519 | AG14: 48 | AH14: =AG14/12 -> 4 | AI14: =(D14*F14*AH14)/27 -> 0.41127778
B15: 21 | C15: ='Rigid Round Culvert '!G9 -> 6.2083333 | D15: 5.80225 | F15: 0.5 | I15: - | L15: - | M15: 96 | N15: =M15/12 -> 8 | O15: =(C15*F15*N15)/27 -> 0.91975309 | R15: - | T15: - | U15: 73.5 | V15: =U15/12 -> 6.125 | W15: =(C15*F15*V15)/27 -> 0.70418596 | X15: 36 | Y15: =X15/12 -> 3 | Z15: =(D15*F15*Y15)/27 -> 0.32234722 | AA15: 90 | AB15: =AA15/12 -> 7.5 | AC15: =(D15*F15*AB15)/27 -> 0.80586806 | AD15: 44 | AE15: =AD15/12 -> 3.6666667 | AF15: =(D15*F15*AE15)/27 -> 0.39397994 | AG15: 66 | AH15: =AG15/12 -> 5.5 | AI15: =(D15*F15*AH15)/27 -> 0.59096991
B16: 24 | C16: ='Rigid Round Culvert '!G10 -> 6.5 | D16: 6.05225 | F16: 0.5 | G16: 101 | H16: =G16/12 -> 8.4166667 | I16: =(C16*F16*H16)/27 -> 1.0131173 | J16: 148 | K16: =J16/12 -> 12.333333 | L16: =(C16*F16*K16)/27 -> 1.4845679 | O16: - | P16: 144 | Q16: =P16/12 -> 12 | R16: =(B16*F16*Q16)/27 -> 5.3333333 | T16: - | U16: 73.5 | V16: =U16/12 -> 6.125 | W16: =(C16*F16*V16)/27 -> 0.73726852 | X16: 41 | Y16: =X16/12 -> 3.4166667 | Z16: =(D16*F16*Y16)/27 -> 0.38293557 | AA16: 111 | AB16: =AA16/12 -> 9.25 | AC16: =(D16*F16*AB16)/27 -> 1.036728 | AD16: 56 | AE16: =AD16/12 -> 4.6666667 | AF16: =(D16*F16*AE16)/27 -> 0.52303395 | AG16: 84 | AH16: =AG16/12 -> 7 | AI16: =(D16*F16*AH16)/27 -> 0.78455093
B17: 27 | C17: ='Rigid Round Culvert '!G11 -> 6.7916667 | F17: 0.5 | I17: - | L17: - | O17: - | R17: - | T17: - | U17: 73.5 | V17: =U17/12 -> 6.125 | W17: =(C17*F17*V17)/27 -> 0.77035108 | Z17: - | AC17: - | AF17: - | AI17: -
B18: 30 | C18: ='Rigid Round Culvert '!G12 -> 7.0833333 | D18: 6.55475 | F18: 0.5 | I18: - | L18: - | O18: - | R18: - | S18: 8.5 | T18: =(C18*S18*F18)/27 -> 1.1149691 | U18: 73.75 | V18: =U18/12 -> 6.1458333 | W18: =(C18*F18*V18)/27 -> 0.80616641 | X18: 51 | Y18: =X18/12 -> 4.25 | Z18: =(D18*F18*Y18)/27 -> 0.5158831 | AA18: 153 | AB18: =AA18/12 -> 12.75 | AC18: =(D18*F18*AB18)/27 -> 1.5476493 | AD18: 80 | AE18: =AD18/12 -> 6.6666667 | AF18: =(D18*F18*AE18)/27 -> 0.8092284 | AG18: 120 | AH18: =AG18/12 -> 10 | AI18: =(D18*F18*AH18)/27 -> 1.2138426
B19: 33 | C19: ='Rigid Round Culvert '!G13 -> 7.375 | F19: 0.5
B20: 36 | C20: ='Rigid Round Culvert '!G14 -> 7.6666667 | D20: 7.05475 | F20: 0.5 | I20: - | L20: - | O20: - | R20: - | S20: 8.5 | T20: =(C20*S20*F20)/27 -> 1.2067901 | U20: 97.75 | V20: =U20/12 -> 8.1458333 | W20: =(C20*F20*V20)/27 -> 1.1565072 | X20: 60 | Y20: =X20/12 -> 5 | Z20: =(D20*F20*Y20)/27 -> 0.65321759 | AA20: 183 | AB20: =AA20/12 -> 15.25 | AC20: =(D20*F20*AB20)/27 -> 1.9923137 | AD20: 104 | AE20: =AD20/12 -> 8.6666667 | AF20: =(D20*F20*AE20)/27 -> 1.1322438 | AG20: 156 | AH20: =AG20/12 -> 13 | AI20: =(D20*F20*AH20)/27 -> 1.6983657
B21: 42 | C21: ='Rigid Round Culvert '!G15 -> 8.25 | D21: 7.5597333 | F21: 0.5 | I21: - | L21: - | O21: - | R21: - | S21: 12 | T21: =(C21*S21*F21)/27 -> 1.8333333 | U21: 98 | V21: =U21/12 -> 8.1666667 | W21: =(C21*F21*V21)/27 -> 1.2476852 | X21: 69 | Y21: =X21/12 -> 5.75 | Z21: =(D21*F21*Y21)/27 -> 0.8049716 | AC21: - | AD21: 128 | AE21: =AD21/12 -> 10.666667 | AF21: =(D21*F21*AE21)/27 -> 1.4932807 | AG21: 192 | AH21: =AG21/12 -> 16 | AI21: =(D21*F21*AH21)/27 -> 2.239921
B22: 48 | C22: ='Rigid Round Culvert '!G16 -> 8.8333333 | D22: 8.0597333 | F22: 0.5 | I22: - | L22: - | O22: - | R22: - | S22: 14 | T22: =(C22*S22*F22)/27 -> 2.2901235 | U22: 98 | V22: =U22/12 -> 8.1666667 | W22: =(C22*F22*V22)/27 -> 1.3359053 | X22: 78 | Y22: =X22/12 -> 6.5 | Z22: =(D22*F22*Y22)/27 -> 0.97015309 | AC22: - | AD22: 152 | AE22: =AD22/12 -> 12.666667 | AF22: =(D22*F22*AE22)/27 -> 1.8905547 | AG22: 228 | AH22: =AG22/12 -> 19 | AI22: =(D22*F22*AH22)/27 -> 2.8358321
B23: 54 | C23: ='Rigid Round Culvert '!G17 -> 9.4166667 | D23: 8.5597333 | F23: 0.5 | I23: - | L23: - | O23: - | R23: - | S23: 16 | T23: =(C23*S23*F23)/27 -> 2.7901235 | U23: 98.25 | V23: =U23/12 -> 8.1875 | W23: =(C23*F23*V23)/27 -> 1.4277585 | X23: 84 | Y23: =X23/12 -> 7 | Z23: =(D23*F23*Y23)/27 -> 1.1095951 | AC23: - | AD23: 176 | AE23: =AD23/12 -> 14.666667 | AF23: =(D23*F23*AE23)/27 -> 2.3248658 | AG23: 264 | AH23: =AG23/12 -> 22 | AI23: =(D23*F23*AH23)/27 -> 3.4872988
B24: 60 | C24: ='Rigid Round Culvert '!G18 -> 10 | D24: 9.0647 | F24: 0.5 | I24: - | L24: - | O24: - | R24: - | S24: 18 | T24: =(C24*S24*F24)/27 -> 3.3333333 | U24: 99 | V24: =U24/12 -> 8.25 | W24: =(C24*F24*V24)/27 -> 1.5277778 | X24: 87 | Y24: =X24/12 -> 7.25 | Z24: =(D24*F24*Y24)/27 -> 1.2170199 | AC24: - | AD24: 200 | AE24: =AD24/12 -> 16.666667 | AF24: =(D24*F24*AE24)/27 -> 2.7977469 | AG24: 300 | AH24: =AG24/12 -> 25 | AI24: =(D24*F24*AH24)/27 -> 4.1966204
B25: 66 | C25: ='Rigid Round Culvert '!G19 -> 10.583333 | D25: 9.5647 | F25: 0.5 | I25: - | L25: - | O25: - | R25: - | S25: 22 | T25: =(C25*S25*F25)/27 -> 4.3117284 | U25: 99 | V25: =U25/12 -> 8.25 | W25: =(C25*F25*V25)/27 -> 1.6168981 | X25: 87 | Y25: =X25/12 -> 7.25 | Z25: =(D25*F25*Y25)/27 -> 1.2841495 | AC25: - | AF25: - | AI25: -
B26: 72 | C26: ='Rigid Round Culvert '!G20 -> 11.166667 | D26: 10.0647 | F26: 0.5 | I26: - | L26: - | O26: - | R26: - | T26: - | U26: 99 | V26: =U26/12 -> 8.25 | W26: =(C26*F26*V26)/27 -> 1.7060185 | X26: 87 | Y26: =X26/12 -> 7.25 | Z26: =(D26*F26*Y26)/27 -> 1.3512792 | AC26: - | AF26: - | AI26: -
B27: 78 | C27: ='Rigid Round Culvert '!G21 -> 11.75 | E27: ='Flex Round Culv_3041'!I6 -> 10.596417 | F27: 0.5 | I27: - | L27: - | O27: - | R27: - | T27: - | U27: 111 | V27: =U27/12 -> 9.25 | W27: =(C27*F27*V27)/27 -> 2.0127315 | X27: 87 | Y27: =X27/12 -> 7.25 | Z27: =(E27*Y27*F27)/27 -> 1.4226671 | AC27: - | AF27: - | AI27: -
B28: 84 | C28: ='Rigid Round Culvert '!G22 -> 12.333333 | E28: ='Flex Round Culv_3041'!I7 -> 11.1014 | F28: 0.5 | I28: - | L28: - | O28: - | R28: - | T28: - | U28: 111.5 | V28: =U28/12 -> 9.2916667 | W28: =(C28*F28*V28)/27 -> 2.1221708 | X28: 87 | Y28: =X28/12 -> 7.25 | Z28: =(E28*Y28*F28)/27 -> 1.4904657 | AC28: - | AF28: - | AI28: -
B29: 90 | C29: ='Rigid Round Culvert '!G23 -> 12.916667 | E29: ='Flex Round Culv_3041'!I8 -> 11.6014 | F29: 0.5 | I29: - | L29: - | O29: - | R29: - | T29: - | U29: 111.5 | V29: =U29/12 -> 9.2916667 | W29: =(C29*F29*V29)/27 -> 2.2225437 | Z29: - | AC29: - | AF29: - | AI29: -
B30: 96 | C30: ='Rigid Round Culvert '!G24 -> 13.5 | E30: ='Flex Round Culv_3041'!I9 -> 12.1014 | F30: 0.5
B31: 102 | C31: ='Rigid Round Culvert '!G25 -> 14.083333 | E31: ='Flex Round Culv_3041'!I10 -> 12.6014 | F31: 0.5
B32: 108 | C32: ='Rigid Round Culvert '!G26 -> 14.666667 | E32: ='Flex Round Culv_3041'!I11 -> 13.106367 | F32: 0.5
B33: 114 | E33: ='Flex Round Culv_3041'!I12 -> 13.61135
B34: 120 | E34: ='Flex Round Culv_3041'!I13 -> 14.11135
B36: Notes:
B37: 1 30" Precast concrete safety apron has 2 alternatives, 8' and 8.5', design used is Contractors option. Bedding Quanties computed for apron length 8.5'
B38: 2 78" & 84" flex pipe assumes trench widths were calculated with pipe geometry from Standard Plate 3041.

Sheet Arch Pipe Aprons
C1: NOTE: | AL1: Version 1.1. Last Updated 4-30-2019
C2: Calculations are based on the assumption that aprons and pipes are the same material. For alternative configurations (e.g., metal aprons used with concrete pipe) bedding quantities are not computed.
C3: Quantities should not be used if plans specify a bedding thickness, under the apron, other than 6".
C6: RIGID ARCH PIPE APRON BEDDING QUANTITIES | V6: FLEXIBLE ARCH PIPE APRON BEDDING QUANTITIES
F7: CONCRETE APRON FOR REINFORCED CONCRETE PIPE-ARCH (Stnd. Plate 3110) | J7: SECTIONAL CONCRETE APRON FOR REINFORCED CONCRETE PIPE-ARCH (Stnd. Plate 3114) | Y7: METAL APRON FOR C.M. PIPE-ARCH CULVERT (Stnd. Plate 3122) | AD7: METAL SAFETY APRON & GRATE (Stnd. Plate 3128) | AG7: SAFETY SLOPE METAL END SECTIONS FOR CIRCULAR & ARCHED PIPES (Stnd. Plate 3148)
J8: INLET APRON (apron tongue end) | O8: OUTLET APRON (apron groove end) | AD8: 1:6 Slope | AG8: 1:4 Slope | AJ8: 1:6 Slope
A9: Nominal Span (in) | C9: Equivalent Diameter / Size (in) | D9: Rise (in) | E9: Span (in) | F9: Rigid Arch Culvert (3014) Trench Width (ft) | G9: Apron Length (in) | H9: Apron Length (ft) | I9: Compacted Volume Fine Aggregate Bedding (CY) | J9: Apron Length (in) | K9: Section 1 from Standard Plate-Apron Tongue end (in) | L9: Section 3 from Standard Plate (in) | M9: Apron Length (ft) | N9: Compacted Volume Fine Aggregate Bedding (CY) | O9: Apron Length (in) | P9: Section 1 from Standard Plate- Apron groove end (in) | Q9: Section 3 from Standard Plate (in) | R9: Apron Length (ft) | S9: Compacted Volume Fine Aggregate Bedding (CY) | V9: Equivalent Diameter / Nominal Span (in) | W9: Span (in) | X9: Rise (in) | Y9: Flex Arch Culvert (3040) Trench Width (ft) | Z9: Flex Arch Culvert (3041) Trench Width (ft) | AA9: Apron Length (in) | AB9: Apron Length (ft) | AC9: Compacted Volume Fine Aggregate Bedding (CY) | AD9: Apron Length (in) | AE9: Apron Length (ft) | AF9: Compacted Volume Fine Aggregate Bedding (CY) | AG9: Apron Length (in) | AH9: Apron Length (ft) | AI9: Compacted Volume Fine Aggregate Bedding (CY) | AJ9: Apron Length (in) | AK9: Apron Length (ft) | AL9: Compacted Volume Fine Aggregate Bedding (CY)
A10: 22 | C10: 18 | D10: 13.5 | E10: 22 | F10: 6.25 | G10: 72 | H10: =G10/12 -> 6 | I10: =(F10*H10*0.5)/27 -> 0.69444444 | N10: - | S10: - | V10: 15 | W10: 17 | X10: 13 | Y10: 5.42725 | AA10: 19 | AB10: =AA10/12 -> 1.5833333 | AC10: =(Y10*AB10*0.5)/27 -> 0.15913233 | AF10: - | AI10: - | AL10: -
A11: 28 | C11: 24 | D11: 18 | E11: 28.5 | F11: 6.9583333 | G11: 72 | H11: =G11/12 -> 6 | I11: =(F11*H11*0.5)/27 -> 0.77314815 | N11: - | S11: - | V11: 18 | W11: 21 | X11: 15 | Y11: 5.7605833 | AA11: 23 | AB11: =AA11/12 -> 1.9166667 | AC11: =(Y11*AB11*0.5)/27 -> 0.20446515 | AD11: 60 | AE11: =AD11/12 -> 5 | AF11: =(Y11*AE11*0.5)/27 -> 0.53338735 | AG11: 20 | AH11: =AG11/12 -> 1.6666667 | AI11: =(Y11*AH11*0.5)/27 -> 0.17779578 | AJ11: 30 | AK11: =AJ11/12 -> 2.5 | AL11: =(Y11*AK11*0.5)/27 -> 0.26669367
A12: 36 | C12: 30 | D12: 22.5 | E12: 36.25 | F12: 7.6875 | G12: 96 | H12: =G12/12 -> 8 | I12: =(F12*H12*0.5)/27 -> 1.1388889 | N12: - | S12: - | V12: 21 | W12: 24 | X12: 18 | Y12: 6.0105833 | AA12: 28 | AB12: =AA12/12 -> 2.3333333 | AC12: =(Y12*AB12*0.5)/27 -> 0.25971656 | AD12: 81 | AE12: =AD12/12 -> 6.75 | AF12: =(Y12*AE12*0.5)/27 -> 0.75132292 | AG12: 32 | AH12: =AG12/12 -> 2.6666667 | AI12: =(Y12*AH12*0.5)/27 -> 0.29681893 | AJ12: 48 | AK12: =AJ12/12 -> 4 | AL12: =(Y12*AK12*0.5)/27 -> 0.4452284
A13: 44 | C13: 36 | D13: 26.625 | E13: 43.75 | F13: 8.3958333 | G13: 96 | H13: =G13/12 -> 8 | I13: =(F13*H13*0.5)/27 -> 1.2438272 | N13: - | S13: - | V13: 24 | W13: 28 | X13: 20 | Y13: 6.3439167 | AA13: 32 | AB13: =AA13/12 -> 2.6666667 | AC13: =(Y13*AB13*0.5)/27 -> 0.31327984 | AD13: 87 | AE13: =AD13/12 -> 7.25 | AF13: =(Y13*AE13*0.5)/27 -> 0.85172955 | AG13: 40 | AH13: =AG13/12 -> 3.3333333 | AI13: =(Y13*AH13*0.5)/27 -> 0.39159979 | AJ13: 60 | AK13: =AJ13/12 -> 5 | AL13: =(Y13*AK13*0.5)/27 -> 0.58739969
A14: 51 | C14: 42 | D14: 31.3125 | E14: 51.125 | F14: 9.0104167 | G14: 96 | H14: =G14/12 -> 8 | I14: =(F14*H14*0.5)/27 -> 1.3348765 | N14: - | S14: - | V14: 30 | W14: 35 | X14: 24 | Y14: 6.92975 | AA14: 39 | AB14: =AA14/12 -> 3.25 | AC14: =(Y14*AB14*0.5)/27 -> 0.41706829 | AD14: 111 | AE14: =AD14/12 -> 9.25 | AF14: =(Y14*AE14*0.5)/27 -> 1.1870405 | AG14: 56 | AH14: =AG14/12 -> 4.6666667 | AI14: =(Y14*AH14*0.5)/27 -> 0.59886728 | AJ14: 84 | AK14: =AJ14/12 -> 7 | AL14: =(Y14*AK14*0.5)/27 -> 0.89830093
A15: 58 | C15: 48 | D15: 36 | E15: 58.5 | F15: 9.7083333 | G15: 96 | H15: =G15/12 -> 8 | I15: =(F15*H15*0.5)/27 -> 1.4382716 | N15: - | S15: - | V15: 36 | W15: 42 | X15: 29 | Y15: 7.5130833 | AA15: 46 | AB15: =AA15/12 -> 3.8333333 | AC15: =(Y15*AB15*0.5)/27 -> 0.53333616 | AF15: - | AG15: 76 | AH15: =AG15/12 -> 6.3333333 | AI15: =(Y15*AH15*0.5)/27 -> 0.88116409 | AJ15: 114 | AK15: =AJ15/12 -> 9.5 | AL15: =(Y15*AK15*0.5)/27 -> 1.3217461
A16: 65 | C16: 54 | D16: 40 | E16: 65 | F16: 10.333333 | G16: 96 | H16: =G16/12 -> 8 | I16: =(F16*H16*0.5)/27 -> 1.5308642 | N16: - | S16: - | V16: 42 | W16: 49 | X16: 33 | Y16: 8.1014 | AA16: 53 | AB16: =AA16/12 -> 4.4166667 | AC16: =(Y16*AB16*0.5)/27 -> 0.66261451 | AF16: - | AG16: 92 | AH16: =AG16/12 -> 7.6666667 | AI16: =(Y16*AH16*0.5)/27 -> 1.1501988 | AJ16: 138 | AK16: =AJ16/12 -> 11.5 | AL16: =(Y16*AK16*0.5)/27 -> 1.7252981
A17: 73 | C17: 60 | D17: 45 | E17: 73 | F17: 11.083333 | G17: 96 | H17: =G17/12 -> 8 | I17: =(F17*H17*0.5)/27 -> 1.6419753 | N17: - | S17: - | V17: 48 | W17: 57 | X17: 38 | Y17: 8.7680667 | AA17: 63 | AB17: =AA17/12 -> 5.25 | AC17: =(Y17*AB17*0.5)/27 -> 0.85245093 | AF17: - | AG17: 112 | AH17: =AG17/12 -> 9.3333333 | AI17: =(Y17*AH17*0.5)/27 -> 1.5154683 | AJ17: 168 | AK17: =AJ17/12 -> 14 | AL17: =(Y17*AK17*0.5)/27 -> 2.2732025
A18: 88 | C18: 72 | D18: 54 | E18: 88 | F18: 12.5 | G18: 99 | H18: =G18/12 -> 8.25 | I18: =(F18*H18*0.5)/27 -> 1.9097222 | N18: - | S18: - | V18: 54 | W18: 64 | X18: 43 | Y18: 9.3514 | AA18: 70 | AB18: =AA18/12 -> 5.8333333 | AC18: =(Y18*AB18*0.5)/27 -> 1.0101821 | AF18: - | AG18: 132 | AH18: =AG18/12 -> 11 | AI18: =(Y18*AH18*0.5)/27 -> 1.9049148 | AJ18: 198 | AK18: =AJ18/12 -> 16.5 | AL18: =(Y18*AK18*0.5)/27 -> 2.8573722
A19: 102 | C19: 84 | D19: 62 | E19: 102 | F19: 13.833333 | G19: 102 | H19: =G19/12 -> 8.5 | I19: =(F19*H19*0.5)/27 -> 2.1774691 | N19: - | S19: - | V19: 60 | W19: 71 | X19: 47 | Y19: 9.9397 | AA19: 77 | AB19: =AA19/12 -> 6.4166667 | AC19: =(Y19*AB19*0.5)/27 -> 1.1811063 | AF19: - | AG19: 148 | AH19: =AG19/12 -> 12.333333 | AI19: =(Y19*AH19*0.5)/27 -> 2.2701784 | AJ19: 222 | AK19: =AJ19/12 -> 18.5 | AL19: =(Y19*AK19*0.5)/27 -> 3.4052676
A20: 115 | C20: 90 | D20: 72 | E20: 115.5 | F20: 15.041667 | I20: - | J20: 102.25 | K20: 31 | L20: 72 | M20: =(J20+K20+L20)/12 -> 17.104167 | N20: =(F20*M20*0.5)/27 -> 4.7643551 | O20: 102.25 | P20: 24 | Q20: 72 | R20: =(O20+P20+Q20)/12 -> 16.520833 | S20: =(F20*R20*0.5)/27 -> 4.6018679 | V20: 66 | W20: 77 | X20: 52 | Y20: 10.444683 | AA20: 77 | AB20: =AA20/12 -> 6.4166667 | AC20: =(Y20*AB20*0.5)/27 -> 1.2411121 | AF20: - | AI20: - | AL20: -
A21: 122 | C21: 96 | D21: 77.5 | E21: 122.375 | F21: 15.697917 | I21: - | J21: 112.5 | K21: 31 | L21: 72 | M21: =(J21+K21+L21)/12 -> 17.958333 | N21: =(F21*M21*0.5)/27 -> 5.2205263 | O21: 112.5 | P21: 24 | Q21: 72 | R21: =(O21+P21+Q21)/12 -> 17.375 | S21: =(F21*R21*0.5)/27 -> 5.05095 | V21: 72 | W21: 83 | X21: 57 | Y21: 10.944683 | AA21: 77 | AB21: =AA21/12 -> 6.4166667 | AC21: =(Y21*AB21*0.5)/27 -> 1.3005256 | AF21: - | AG21: 188 | AH21: =AG21/12 -> 15.666667 | AI21: =(Y21*AH21*0.5)/27 -> 3.1753094 | AJ21: 282 | AK21: =AJ21/12 -> 23.5 | AL21: =(Y21*AK21*0.5)/27 -> 4.762964
A22: 138 | C22: 108 | D22: 87.125 | E22: 138.5 | F22: 17.208333 | I22: - | J22: 129.5 | K22: 31 | L22: 72 | M22: =(J22+K22+L22)/12 -> 19.375 | N22: =(F22*M22*0.5)/27 -> 6.1742863 | O22: 129.5 | P22: 24 | Q22: 72 | R22: =(O22+P22+Q22)/12 -> 18.791667 | S22: =(F22*R22*0.5)/27 -> 5.9883938 | V22: 78 | W22: 87 | X22: 63 | Z22: 11.263083
A23: 154 | C23: 120 | D23: 96.875 | E23: 154 | F23: 18.666667 | I23: - | J23: 144 | K23: 31 | L23: 72 | M23: =(J23+K23+L23)/12 -> 20.583333 | N23: =(F23*M23*0.5)/27 -> 7.1152263 | O23: 144 | P23: 24 | Q23: 72 | R23: =(O23+P23+Q23)/12 -> 20 | S23: =(F23*R23*0.5)/27 -> 6.9135802 | V23: 84 | W23: 95 | X23: 67 | Z23: 11.934733
A24: 169 | C24: 132 | D24: 106.5 | E24: 168.75 | F24: 19.729167 | I24: - | J24: 144 | K24: 31 | L24: 72 | M24: =(J24+K24+L24)/12 -> 20.583333 | N24: =(F24*M24*0.5)/27 -> 7.5202225 | O24: 144 | P24: 24 | Q24: 72 | R24: =(O24+P24+Q24)/12 -> 20 | S24: =(F24*R24*0.5)/27 -> 7.3070988 | V24: 90 | W24: 103 | X24: 71 | Z24: 12.6014
V25: 96 | W25: 112 | X25: 75 | Z25: 13.3514
V26: 102 | W26: 117 | X26: 79 | Z26: 13.768067
V27: 108 | W27: 128 | X27: 83 | Z27: 14.6897
V28: 114 | W28: 137 | X28: 87 | Z28: 15.444683
V29: 120 | W29: 142 | X29: 91 | Z29: 15.86135
