Workbook

Sheet General Info
A1: Project Code
A2: Dictionary
A3: Updated Date 02/24/2015
A5: Purpose:
A6: The Project Code Dictionary contains code names, values, and definitions for MnDOT project codes in P6. The Project Code Dictionary also contains project level User Defined Fields (UDF). Users include Admin, SSC and Project Managers. For more detailed information contact the MNDOT P6 Admin Team.
A8: Note: Project codes in P6 that do NOT appear in this dictionary are NOT CURRENTLY BEING MAINTAINED IN P6. In P6, these codes have an asterisk in the code name.
A10: How to use this document:
A11: The "Project Codes" tab lists the MnDOT project codes. Each code entry includes a definition, authoritative source, and the party responsible for populating and updating each code. Each entry also contains a hyperlink to a list of the code values and definitions for that particular code. The "Project UDF" tab lists the MnDOT project UDFs. Each UDF entry includes a name, description and entry format.
A18: =CELL("filename") -> N:\OPMTS Project Management\Project Management Unit\P6 Implementation\Documents\ReferenceDocuments\[RD-00-06_Project Code Dictionary.xlsx]FlxShl

Sheet Project Codes
A1: ='General Info'!A3 -> Updated Date 02/24/2015
A2: Project Code - Click to see values | B2: Description | C2: Assigned By | D2: Updated By | E2: Authoritative Source | F2: Required | G2: Secure Code | H2: Notes
A3: MnDOT ATP District | B3: =ATP!B2 -> The district that is fiscally responsible for project delivery | C3: ADMIN | D3: SSC | E3: District | F3: On all schedules | G3: No
A4: MnDOT Baseline Status | B4: =BLS!B2 -> The schedule baseline status for planning & project delivery; identifies the current stage of schedule development. | C4: ADMIN | D4: SSC | E4: P6 | F4: On all schedules | G4: No
A5: MnDOT Bridge Final Design Unit Leader | B5: =BFDUL!B2 -> Bridge final design unit leader as assigned by the Bridge Office | C5: ADMIN | D5: SSC | E5: PPMS (based on Br Final Design Unit) | F5: On all bridge schedules | G5: No
A6: MnDOT Bridge Number | B6: =BrgNo!B2:C2 -> Bridge number as assigned by the bridge office | C6: ADMIN | D6: ADMIN | E6: PPMS | F6: On Bridge schedules only | G6: Yes
A7: MnDOT Bridge Pre Design Unit Leader | B7: =BPDUL!B2 -> Bridge final design unit leader as assigned by the Bridge Office. | C7: ADMIN | D7: SSC | E7: PPMS (based on Br Pre-Design Unit) | F7: On all bridge schedules | G7: No
A8: MnDOT Bridge Work Type | B8: =BrgWT!B2 -> Bridge work type as assigned by bridge office | C8: ADMIN | D8: ADMIN | E8: PPMS | F8: On Bridge schedules only | G8: Yes
A9: MnDOT CART Agreement | B9: =CART!B2:C2 -> Consultant agreement number from the CART system | C9: SSC | D9: SSC | E9: CART (PM) | F9: Only required on consultant schedules being built on the MnDOT enterprise | G9: No
A10: MnDOT Completion Type | B10: =Comp!B2:C2 -> Identifies whether the project is being let by MnDOT, let locally, or has another method of delivery. | C10: ADMIN | D10: ADMIN | E10: P6 | F10: On all schedules | G10: Yes
A11: MnDOT Construction Resident Eng | B11: =CREng!B2:C2 -> Person responsible for managing the internal construction schedule | C11: SSC | D11: SSC | E11: PPMS | F11: On all schedules | G11: No
A12: MnDOT Construction Status | B12: =CnstSt!B2 -> Indicates status of project in relation to construction. | C12: SSC | D12: SSC | E12: PPMS | F12: On all schedules
A13: MnDOT Contract Number | B13: =ContNo!B2:C2 -> Contractor/consultant contract number | C13: ADMIN | D13: SSC | E13: PPMS | F13: Only used on contractor construction schedules | G13: No
A14: MnDOT Contract Status | B14: =ContSt!B2:C2 -> Current status of contractor/consultant contract | C14: ADMIN | D14: SSC | E14: PPMS | F14: Only used on contractor construction schedules | G14: No
A15: MnDOT Delivery Type | B15: =DlTpe!B2:C2 -> Project delivery process | C15: SSC | D15: SSC | E15: PM | F15: On all schedules | G15: No
A16: MnDOT Design Eng | B16: =DesEng!B2 -> Lead Design Engineer assigned to a project | C16: ADMIN | D16: SSC | E16: PPMS | F16: On all schedules | G16: No
A17: MnDOT District | B17: =Dist!B2 -> The district that is responsible for performing the work on a project | C17: ADMIN | D17: ADMIN | E17: PPMS | F17: On all schedules | G17: Yes
A18: MnDOT Eng Specialist | B18: =EngSpc!B2 -> Engineering Specialist assigned to a project | C18: SSC | D18: SSC | E18: PPMS (in comment field) | F18: On D6 schedules | G18: No
A19: MnDOT Federally Funded | B19: =FedFnd!B2 -> Indicates whether a project has federal funds. | C19: ADMIN | D19: SSC | E19: PM | F19: On all schedules | G19: No
A20: MnDOT Flex/Shelf | B20: Identifies if a project is a Flexible or Shelf project | C20: SSC | D20: SSC | E20: P6 | F20: On all schedules | G20: No
A21: MnDOT Fund Fiscal Year | B21: =FunFY!B2 -> Funding Fiscal year of the project (this is the same as the PPMS field which tracks funding) | C21: ADMIN | D21: SSC | E21: PPMS | F21: On all schedules | G21: No
A22: MnDOT Job Phase | B22: =JobPhs!B2 -> Used to track projects from inception to completion | C22: ADMIN | D22: ADMIN | E22: SWIFT | F22: On All Projects | G22: Yes
A23: MnDOT Let Date | B23: =LetDte!B2 -> Project Let Date | C23: ADMIN | D23: SSC | E23: PPMS | F23: On all schedules | G23: No | H23: PM is the authoritative source for locally let projects.
A24: MnDOT Let Fiscal Year | B24: =LetFY!B2 -> Fiscal year of let date (this is NOT the same as the PPMS field which tracks funding) | C24: ADMIN | D24: SSC | E24: PPMS (based on let date) | F24: On all schedules | G24: No
A25: MnDOT Letting Process Type | B25: =LetProc!B2 -> Indicates which letting process will be used on the project. | C25: ADMIN | D25: SSC | E25: PPMS | F25: On all schedules | G25: No | H25: In PPMS, the code name is "Process Type"
A26: MnDOT Metro Area | B26: =Metro!B2 -> Region within Metro district (corresponds with area managers) | C26: SSC | D26: SSC | E26: PPMS | F26: On Metro schedules | G26: No
A27: MnDOT Primary Work Type | B27: =PWrkTyp!B2 -> Identifies the work type that accounts for the majority of the project cost. | C27: ADMIN | D27: ADMIN | E27: PPMS | F27: On all schedules | G27: Yes
A28: MnDOT Prime Contractor | B28: =Prime!B2 -> Contractor/consultant on project | C28: ADMIN | D28: ADMIN | E28: CMS | F28: On Construction and Construction Control Only | G28: Yes
A29: MnDOT Products & Services | B29: =PSG!B2 -> Indicates where a project lies on the MnDOT products and services grid | C29: ADMIN | D29: ADMIN | E29: P6 | F29: On all schedules | G29: Yes
A30: MnDOT Program | B30: =Prog!B2 -> Identifies the program category for the project. | C30: ADMIN | D30: ADMIN | E30: PPMS | F30: On all schedules | G30: Yes
A31: MnDOT Proj Sponsor | B31: Indicates the project sponsor in Metro district | C31: SSC | D31: SSC | E31: PM | F31: On Metro schedules | G31: No
A32: MnDOT Project Complexity | B32: =PrjCmp!B2 -> Size and complexity of project (used for determining float limits) | C32: SSC | D32: SSC | E32: PM | F32: On all schedules | G32: No
A33: MnDOT Project Location | B33: =PrjLoc!B2 -> Identifies the geographical location of a specific project within a larger bundle of projects. | C33: SSC | D33: SSC | E33: P6 | F33: Not required | G33: No | H33: This code is set to represent an area of a project where the design is being done on a specific location. This code was created to satisfy the multi-project arena for the St. Croix Design Build where a separate consultant design schedule was done the main span, while other schedules were tracking different locations and performed by different firms. To be maintained by the SSC and/or Scheduler with access to the project.
A34: MnDOT Project Manager | B34: =PM!B2 -> Project manager as assigned by the district | C34: ADMIN | D34: SSC | E34: P6 | F34: On all schedules | G34: No
A35: MnDOT Project Status | B35: =PrjSts!B2 -> Identifies whether a project has been funded, has been let, or is being worked on. | C35: ADMIN | D35: SSC | E35: PPMS | F35: On all schedules | G35: No
A36: MnDOT Puma Bundle | B36: =PUMABu!B2 -> Bundle number of related projects as assigned by PUMA. This code is required and can not be coded as TBD or NA. | C36: ADMIN | D36: ADMIN | E36: PUMA | F36: On all schedules | G36: Yes
A37: MnDOT Puma Element | B37: =PUMAEl!B2 -> Element number as assigned by PUMA. There is one element number for each SP. This code is required and can not be coded as TBD or NA. | C37: ADMIN | D37: ADMIN | E37: PUMA | F37: On all schedules | G37: Yes
A38: MnDOT Puma Prime SP | B38: =PrmSP!B2 -> Prime state project number for a project. A prime SP can have one or more associated projects (e.g. bridges) that have unique SPs, but are part of the same project. This code is required and can not be coded as TBD or NA. | C38: ADMIN | D38: ADMIN | E38: PUMA | F38: On all schedules | G38: Yes
A39: MnDOT Puma SP | B39: =SP!B2 -> State project number as assigned by PUMA. This code is required and can not be coded as TBD or NA. | C39: ADMIN | D39: ADMIN | E39: PUMA | F39: On all schedules | G39: Yes
A40: MnDOT Route Number | B40: =RteNo!B2 -> Route number for the project | C40: ADMIN | D40: ADMIN | E40: PPMS | F40: On all schedules | G40: Yes
...

Sheet Project UDFs
A1: ='General Info'!A3 -> Updated Date 02/24/2015
A2: User Defined Codes
A4: Name | B4: Description | C4: Entry format | D4: Assigned By | E4: Updated By | F4: Authoritative Source | G4: Notes
A5: MnDOT Beg Ref PT | B5: Reference point for beginning of the project from PPMS | D5: ADMIN | E5: SSC | F5: Initiation Form
A6: MnDOT Begin GIS | B6: Begin GIS code from PPMS | D6: ADMIN | E6: SSC | F6: Initiation Form
A7: MnDOT CL Miles | B7: Center lane miles for project from PPMS | D7: ADMIN | E7: SSC | F7: Initiation Form
A8: MnDOT Const Cost | B8: Preliminary estimated bridge construction cost used by the bridge office to assign final design group. | C8: currency | D8: ADMIN | E8: ADMIN | F8: PPMS | G8: Required on all bridge projects
A9: MnDOT End GIS | B9: End GIS code from PPMS | D9: ADMIN | E9: SSC | F9: Initiation Form
A10: MnDOT Fin Ref PT | B10: Reference point for end of the project from PPMS | D10: ADMIN | E10: SSC | F10: Initiation Form
A11: MnDOT Funding Source Variance | B11: Used MORTS projects | C11: formula | D11: ADMIN | E11: MORTS | F11: P6
A12: MnDOT FY Baseline | B12: Projects that are on the official balanced letting worksheet for a fiscal year | C12: YYYY | D12: ADMIN | E12: ADMIN | F12: balanced letting worksheet
A13: MnDOT Template / WPkg Version Date | B13: Date that the work package was moved from the preliminary node to the authoritative node | C13: MM/DD/YYYY | D13: ADMIN | E13: ADMIN | F13: P6
A14: MnDOT Tied SP | B14: Tied projects are individual projects that are combined into one letting for construction. The Prime Tied SP number is assigned by the District. | C14: SP XXXX-XX where XXXX-XX is the Prime Tied SP number. | D14: ADMIN | E14: SSC | F14: PPMS
A15: MnDOT Total Float Indicator | B15: Used to indicate if the total float is greater than or less than zero | D15: ADMIN | E15: ADMIN | F15: P6
A16: MnDOT Truck Station | B16: Code from PPMS | D16: Bldg Services | E16: Bldg Services | F16: PPMS
A17: MnDOT WPkg Approved | B17: Dates that the work package was accepted by the P6 Admin | C17: MM/DD/YYYY | D17: ADMIN | E17: ADMIN | F17: P6
A18: MnDOT WPkg Functional Group Accepted | B18: Dates that the work package was accepted by the functional group | C18: MM/DD/YYYY | D18: ADMIN | E18: ADMIN | F18: P6

Sheet ATP
A1: ='General Info'!A3 -> Updated Date 02/24/2015
A2: MnDOT ATP District: | B2: The district that is fiscally responsible for project delivery
A4: Name | B4: Description
A5: 01 | B5: 01
A6: 02 | B6: 02
A7: 03 | B7: 03
A8: 04 | B8: 04
A9: 06 | B9: 06
A10: 07 | B10: 07
A11: 08 | B11: 08
A12: M | B12: M
A13: TBD | B13: To Be Determined
A14: NA | B14: Not Applicable

Sheet BLS
A1: ='General Info'!A3 -> Updated Date 02/24/2015
A2: MnDOT Baseline Status: | B2: The schedule baseline status for planning & project delivery; identifies the current stage of schedule development.
A4: Name | B4: Description | C4: Definition
A5: UNDEV | B5: Undeveloped | C5: P6 Admin team has created the shell
A6: PRSCH | B6: Preliminary Schedule | C6: Initial schedule set up by SSC staff based on schedule initiation form prepared by the project manager
A7: SCHUR | B7: Schedule Under Review | C7: Preliminary Schedule has been updated by the SSC based on project manager comments and input from the functional groups. The project manager then distributes this schedule to the functional groups
A8: BSLND | B8: Baseline | C8: PM and functional groups have agreed on the schedule dates from the Schedule Under Review schedule. SSC staff will record the baseline schedule in P6
A9: RCVRY | B9: Recovery | C9: After a schedule is baselined and a project is impacted, the status will change to Recovery until a recovery plan has been accepted by the district and functional groups. After acceptance of the recovery plan, the status will move back to baselined
A10: NA | B10: Not Applicable

Sheet BFDUL
A1: ='General Info'!A3 -> Updated Date 02/24/2015
A2: MnDOT Bridge Final Design Unit Leader: | B2: Bridge final design unit leader as assigned by the Bridge Office
A3: *not a comprehensive list; sample code values shown
A5: Name | B5: Description
A6: NA | B6: Not Applicable
A7: TBD | B7: To Be Determined
A8: not-asgn | B8: Final Design PM Currently Unassigned
A9: robb1tre | B9: Trent.Robbins
A10: sten1pau | B10: Paul.Stenberg
A11: kett1pau | B11: Paul.Kettleson
A12: lesc1ton | B12: Tony.Lesch
A13: dunc1jes | B13: Jessica.Duncan
A14: stap1ang | B14: Angel.Staples

Sheet BPDUL
A1: ='General Info'!A3 -> Updated Date 02/24/2015
A2: MnDOT Bridge Pre Design Unit Leader: | B2: Bridge final design unit leader as assigned by the Bridge Office.
A3: *not a comprehensive list; sample code values shown
A5: Name | B5: Description
A6: NA | B6: Not Applicable
A7: TBD | B7: To Be Determined
A8: not-asgn | B8: Pre-design PM Currently Unassigned
A9: robb1tre | B9: Trent.Robbins
A10: prat1dan | B10: Dan.Prather
A11: moln1kei | B11: Keith.Molnau
A12: kows1mik | B12: Michael.P.Kowski
A13: Bran1Cod | B13: Cody.Brand
A14: cegl1bra | B14: Bradley.Cegla

Sheet BrgNo
A1: ='General Info'!A3 -> Updated Date 02/24/2015
A2: MnDOT Bridge Number: | B2: Bridge number as assigned by the bridge office
A3: *not a comprehensive list; sample code values shown
A5: Name | B5: Description
A6: NA | B6: Not Applicable
A7: TBD | B7: To Be Determined
A8: 1727 | B8: 1727
A9: 22X04 | B9: 22X04
A10: 9600F | B10: 9600F
A11: 84005 | B11: 84005
A12: 9100 | B12: 9100
A13: 35003 | B13: 35003
A14: 35004 | B14: 35004

Sheet BrgWT
A1: ='General Info'!A3 -> Updated Date 02/24/2015
A2: MnDOT Bridge Work Type: | B2: Bridge work type as assigned by bridge office
A4: Name | B4: Description
A5: New Bridge | B5: New Bridge
A6: N Brg (1)(E Steel) | B6: New Bridge (Phase 1)(Early Steel or Stage Const)
A7: Temporary Widening | B7: Temporary Widening
A8: Bridge Painting | B8: Bridge Painting
A9: Substructure Repair | B9: Substructure Repair
A10: Remove Bridge | B10: Remove Bridge
A11: Miscellaneous | B11: Miscellaneous
A12: Raise Bridge | B12: Raise Bridge
A13: Repl Sup/No Prel Req | B13: Replace Superstructure - No Prelim Required
A14: Rep Rail or Med Bar | B14: Repair Railing or Median Barrier
... A74: TBD | B74: To Be Determined

Sheet CART
A1: ='General Info'!A3 -> Updated Date 02/24/2015
A2: MnDOT CART Agreement: | B2: Consultant agreement number from the CART system
A3: *not a comprehensive list; sample code values shown
A5: Name | B5: Description
A6: 00476 | B6: 00476
A7: 00610 | B7: 00610
A8: 00782 | B8: 00782
A9: 93591 | B9: 93591
A10: 95138 | B10: 95138
A11: 89708 | B11: 89708
A12: 01043 | B12: 01043
A13: 01071 | B13: 01071
A14: 01072 | B14: 01072
A15: NA | B15: Not Applicable
A16: TBD | B16: To Be Determined

Sheet Comp
A1: ='General Info'!A3 -> Updated Date 02/24/2015
A2: MnDOT Completion Type: | B2: Identifies whether the project is being let by MnDOT, let locally, or has another method of delivery.
A4: Name | B4: Description
A5: MnL | B5: MnDOT Let
A6: LcL | B6: Local Let
A7: ROW | B7: Right-of-Way Only
A8: AgO | B8: Agreements Only
A9: OTR | B9: Other
A10: NA | B10: Not Applicable
A11: TBD | B11: To Be Determined

Sheet CREng
A1: ='General Info'!A3 -> Updated Date 02/24/2015
A2: MnDOT Construction Resident Engineer: | B2: Person responsible for managing the internal construction schedule
A3: *not a comprehensive list; sample code values shown
A5: Name | B5: Description
A6: adol1kev | B6: Kevin.Adolfs
A7: fowl1cha | B7: Chad.Fowlds
A8: krem1cha | B8: Charles.Kremer
A9: penn1dan | B9: Dan.Penn
A10: herz1dav | B10: David.Herzog
A11: not-asgn | B11: Construction Resident Engineer Currently Unassigned
A12: TBD | B12: To Be Determined
A13: NA | B13: Not Applicable

Sheet CnstSt
A1: ='General Info'!A3 -> Updated Date 02/24/2015
A2: MnDOT Construction Status: | B2: Indicates status of project in relation to construction.
A4: Name | B4: Description
A5: C | B5: Under Construction
A6: P | B6: Pre Letting
A7: O | B7: Open to Traffic
A8: NA | B8: Not Applicable
A9: TBD | B9: To Be Determined

Sheet ContNo
A1: ='General Info'!A3 -> Updated Date 02/24/2015
A2: MnDOT Contract Number: | B2: Contractor/consultant contract number
A3: *not a comprehensive list; sample code values shown
A5: Name | B5: Description
A6: 00476 | B6: 00476
A7: 00782 | B7: 00782
A8: 00610 | B8: 00610
A9: 00782 | B9: 00782
A10: NA | B10: Not Applicable
A11: TBD | B11: To Be Determined

Sheet ContSt
A1: ='General Info'!A3 -> Updated Date 02/24/2015
A2: MnDOT Contract Status: | B2: Current status of contractor/consultant contract
A4: Name | B4: Description | C4: Definition
A5: Pre Agreement | B5: Pre Agreement | C5: Contract is in the process of being drafted
A6: Active | B6: Active | C6: The current contract is Active and currently being fulfilled
A7: Closed | B7: Closed | C7: The contract has been completed, in its entirety, and closed out
A8: In Audit | B8: In Audit | C8: Contract has been drafted but is under review (Not Active, no signature)
A9: Cancelled | B9: Cancelled | C9: This contract has been canceled
A10: NA | B10: Not Applicable
A11: TBD | B11: To Be Determined

Sheet DlTpe
A1: ='General Info'!A3 -> Updated Date 02/24/2015
A2: MnDOT Delivery Type: | B2: Project delivery process
A4: Name | B4: Description | C4: Definition
A5: DB | B5: Design Build | C5: Design and construction services are done concurrently and under a single contract.
A6: DBB | B6: Design Bid Build | C6: Traditional Delivery, design is completed, then it is put out for contractor bidding. Design and Construction are separate contracts.
A7: CMGC | B7: Contract Manager General Contractor | C7: Delivery type where the contractor is involved in the design process to provide constructability input for the project. The contractor involved in the design usually transitions into the prime contractor if a GMP is agreed upon, after the 60% or 90% design is complete.
A8: IDIQ | B8: Indefinite Delivery Indefinite Quantity | C8: Indefinite material quantities, in a specified time period.
A9: UND | B9: Undetermined | C9: Delivery type has not been determined for this specific project
A10: NA | B10: Not Applicable
A11: TBD | B11: To Be Determined

Sheet DesEng
A1: ='General Info'!A3 -> Updated Date 02/24/2015
A2: MnDOT Design Eng: | B2: Lead Design Engineer assigned to a project
A3: *not a comprehensive list; sample code values shown
A5: Name | B5: Description
A6: TBD | B6: To Be Determined
A7: NA | B7: Not Applicable
A8: not-asgn | B8: Design Engineer Currently Unassigned
A9: Bridge | B9: Bridge
A10: Consult | B10: Consultant
A11: lenz1cra | B11: Craig.Lenz
A12: gade1dal | B12: Dale.Gade
A13: eric1dan | B13: Dan.Erickson
A14: gull1dan | B14: Daniel.Gullickson
A15: eric2dan | B15: Daniel.J.Erickson

Sheet Dist
A1: ='General Info'!A3 -> Updated Date 02/24/2015
A2: MnDOT District: | B2: The district that is responsible for performing the work on a project
A4: Name | B4: Description
A5: CO | B5: Central Office
A6: D1 | B6: District 1
A7: D2 | B7: District 2
A8: D3 | B8: District 3
A9: D4 | B9: District 4
A10: D6 | B10: District 6
A11: D7 | B11: District 7
A12: D8 | B12: District 8
A13: DM | B13: District Metro
A14: CO | B14: Central Office
... A17: TBD | B17: To Be Determined

Sheet EngSpc
A1: ='General Info'!A3 -> Updated Date 02/24/2015
A2: MnDOT Eng Specialist: | B2: Engineering Specialist assigned to a project
A3: *not a comprehensive list; sample code values shown
A5: Name | B5: Description
A6: NA | B6: Not Applicable
A7: TBD | B7: To Be Determined
A8: not-asgn | B8: Engineering Specialist Currently Unassigned
A9: mans1son | B9: Sonya.Mansfield
A10: dani1tro | B10: Troy.Danielson
A11: fens1jam | B11: JimW.Fenske
A12: aust1tom | B12: Tom.Austin

Sheet FedFnd
A1: ='General Info'!A3 -> Updated Date 02/24/2015
A2: MnDOT Federally Funded: | B2: Indicates whether a project has federal funds.
A4: Name | B4: Description
A5: Yes | B5: Yes
A6: No | B6: No
A7: NA | B7: Not Applicable
A8: TBD | B8: To Be Determined

Sheet FlxShl
A1: ='General Info'!A3 -> Updated Date 02/24/2015
A2: MnDOT Flex/Shelf: | B2: Identifies if a project is a Flexible or Shelf project
A4: Name | B4: Description
A5: Flex | B5: Flexible projects have funding and an assigned letting date. Construction documents (plans, special provisions, permits, etc.) will be completed on a more aggressive schedule determined by the District so that the letting date can be advanced a year or two earlier in the STIP.
A6: Shelf | B6: Shelf projects do not have funding. Construction documents (plans, special provisions, permits, etc.) will be completed on a schedule determined by the District so they can be let when funding is obtained.
A7: Not applicable | B7: Projects that are not Flexible Projects or Shelf Projects.

Sheet FunFY
A1: ='General Info'!A3 -> Updated Date 02/24/2015
A2: MnDOT Fund Fiscal Year: | B2: Funding Fiscal year of the project (this is the same as the PPMS field which tracks funding)
A4: Name | B4: Description
A5: 2010 | B5: FY2010
A6: 2011 | B6: FY2011
A7: 2012 | B7: FY2012
A8: 2013 | B8: FY2013
A9: 2014 | B9: FY2014
A10: 2015 | B10: FY2015
A11: 2016 | B11: FY2016
A12: 2017 | B12: FY2017
A13: 2018 | B13: FY2018
A14: 2019 | B14: FY2019
... A30: TBD | B30: To Be Determined

Sheet LetFY
A1: ='General Info'!A3 -> Updated Date 02/24/2015
A2: MnDOT Let Fiscal Year: | B2: Fiscal year of let date (this is NOT the same as the PPMS field which tracks funding)
A4: Name | B4: Description
A5: 2010 | B5: FY2010
A6: 2011 | B6: FY2011
A7: 2012 | B7: FY2012
A8: 2013 | B8: FY2013
A9: 2014 | B9: FY2014
A10: 2015 | B10: FY2015
A11: 2016 | B11: FY2016
A12: 2017 | B12: FY2017
A13: 2018 | B13: FY2018
A14: 2019 | B14: FY2019
... A30: TBD | B30: To Be Determined

Sheet JobPhs
A1: ='General Info'!A3 -> Updated Date 02/24/2015
A2: MnDOT Job Phase | B2: Used to track projects from inception to completion
A4: Name | B4: Description | C4: Definition
A5: C | B5: Construction | C5: Currently in the construction phase of the project
A6: P | B6: Pre-Construction | C6: Currently in the Pre-Construction phase of the project
A7: RW | B7: Right of Way | C7: Currently acquiring Right of Way for the project (between Pre-Construction and Construction ).
A8: MISC | B8: Miscellaneous | C8: Job Phase is not identifiable
A9: NA | B9: Not Applicable
A10: TBD | B10: To Be Determined
A11: OT | B11: Open to Traffic

Sheet LetDte
A1: ='General Info'!A3 -> Updated Date 02/24/2015
A2: MnDOT Let Date: | B2: Project Let Date
A4: *not a comprehensive list; sample code values shown
A5: Name | B5: Description
A6: 20191221 | B6: 43820
A7: 20191025 | B7: 43763
A8: 20140601 | B8: 41791
A9: 20140606 | B9: 41796
A10: 20140614 | B10: 41804
A11: NA | B11: Not Applicable
A12: TBD | B12: To Be Determined

Sheet LetProc
A1: ='General Info'!A3 -> Updated Date 02/24/2015
A2: MnDOT Letting Process Type: | B2: Indicates which letting process will be used on the project.
A4: Name | B4: Description | C4: Definition
A5: A | B5: Process A | C5: The process A projects are small projects, which are minor in scope. These projects contain no more than 50 plan sheets and comprise less than 20 pay items.
A6: AGR | B6: Agreement Letting | C6: A project that involves a cooperative agreement with a local agency.
A7: B | B7: Process B | C7: The typical process B project consists of plans that need Central Office approval. Typical process B projects constitute approximately 75% - 80% of the current Pre-Letting workload. The typical process B project may require special provisions (such as lighting, signals, TMC, and signing) prepared by the District specialty units or by Central Office bridge. The typical process B project will require utility coordination, and possible agreements.
A8: B+ | B8: Complex B | C8: The Complex Process B project consists of plans that need Central Office approval. They consist of projects, which constitute up to 5% of the current Pre-Letting workload. Complex process B projects require more Central Office coordination, federal review, district involvement, and agreements.
A9: DB | B9: Design Build | C9: Construction and Design is captured under a single entity, let as one contract
A10: FFO | B10: Full Federal Oversight | C10: Oversight by the FHWA for major and high risk projects
A11: LBO | B11: Let by other | C11: Not let by MnDOT
A12: None | B12: No Letting | C12: Project does not require a letting
A13: NA | B13: Not Applicable
A14: TBD | B14: To Be Determined
A15: CMGC | B15: Contract Manager General Contractor

Sheet Metro
A1: ='General Info'!A3 -> Updated Date 02/24/2015
A2: MnDOT Metro Area: | B2: Region within Metro district (corresponds with area managers)
A4: Name | B4: Description
A5: N | B5: North Area
A6: S | B6: South Area
A7: E | B7: East Area
A8: W | B8: West Area
A9: NA | B9: Not Applicable
A10: TBD | B10: To Be Determined

Sheet PWrkTyp
A1: ='General Info'!A3 -> Updated Date 02/24/2015
A2: MnDOT Primary Work Type: | B2: Identifies the work type that accounts for the majority of the project cost.
A4: Name | B4: Description | C4: Definition
A5: BRRH | B5: Bridge Rehabilitation | C5: Majority of the project cost is associated with concrete or steel bridge re-deck, painting, rehabilitation, or bridge resurfacing items.
A6: PRMN | B6: Preservation / Maintenance | C6: Majority of the project cost is associated with minor or spot concrete or bituminous repair, rehabilitation, milling and/or overlay items.
A7: TRCD | B7: Traffic Control Devices | C7: Majority of the project cost is associated with non-roadway construction items such as signal, signing, lighting, rail crossing, and traffic management systems.
A8: APPU | B8: Appurtenances | C8: Majority of the project cost is associated with landscaping, rest areas, transit hubs, guard rail, wetland construction, stand alone noise walls, park and ride, and other facilities.
A9: BRPC | B9: Bridge Replace or Construction | C9: Majority of the project cost is associated with concrete or steel bridge replacement and items associated with Bridge structures.
A10: GRSU | B10: Grade and Surface | C10: Majority of the project cost is associated with grading and/or pavement surface.
A11: GSBR | B11: Grade, Surface, and Bridge | C11: Majority of the project cost is associated with grading, pavement surface and bridge.
A12: PVTR | B12: Pavement Resurfacing and Rehabilitation | C12: Majority of the project cost is associated with extensive concrete or bituminous repair, rehabilitation, mill and/or overlay items
A13: PLAN | B13: Planning | C13: Majority of the project cost is associated with planning, such as corridor studies, area wide planning and planning assistance.
A14: ITS | B14: Intelligent Transportation Systems | C14: Majority of the project cost is associated with Intelligent Transportation Systems or Traffic Management Systems.
A15: TRAN | B15: Transit | C15: Majority of the project cost is for transit.
A16: ROW | B16: Right of Way | C16: Majority of the project cost is for Right of Way, such as wetland purchases for mitigation or building removal.
A17: NA | B17: Not Applicable
A18: TBD | B18: To Be Determined

Sheet Prime
A1: ='General Info'!A3 -> Updated Date 02/24/2015
A2: MnDOT Prime Contractor: | B2: Contractor/consultant on project
A3: *not a comprehensive list; sample code values shown
A5: Name | B5: Description
A6: HDR | B6: HDR
A7: Duininck | B7: Duininck, Inc.
A8: PCI Roads | B8: PCI Roads LLC
A9: Mathiowetz | B9: Mathiowetz
A10: EKS | B10: Edward Kraemer & Sons, Inc.
A11: Lunda | B11: Lunda, Inc.
A12: NA | B12: Not Applicable
A13: TBD | B13: To Be Determined

Sheet PSG
A1: ='General Info'!A3 -> Updated Date 02/24/2015
A2: MnDOT Products & Services: | B2: Indicates where a project lies on the MnDOT products and services grid
A3: *not a comprehensive list; only State and Local Roads tree shown
A5: Name | B5: Description
A6: 20 | B6: State Roads
A7: IIP | B7: Infrastructure Investment & Planning
A8: IAPA | B8: Investment & Planning Administration
A9: SSPI | B9: State Wide Systems Planning & Integration
A10: SI | B10: State Roads Investment
A11: HDSI | B11: Highway Debt Service Investment
A12: COPD | B12: Construction Project Development
A13: COPM | B13: Construction Project Management
A14: DBLD | B14: Design Build Support
A15: CMGC | B15: Contract Management / General Contractor
A16: IOM | B16: Infrastructure Operations & Maintenance
A17: SMOR | B17: Smooth Roads
A18: CLRD | B18: Clear Roads
... A33: ECAD | B33: Electronic Communications Administration
A34: 30 | B34: Local Roads
A35: CSA | B35: County State Aid Roads
A36: CASI | B36: County State Aid System Investment
A37: FLAP | B37: Federal Local Aid
A38: CCAA | B38: County State Aid Administration
A39: MSA | B39: Municipal State Aid Roads
A40: MASI | B40: Municipal State Aid System Investment
A41: FMAP | B41: Federal Municipal Aid Administration
A42: MSAA | B42: Municipal State Aid Administration
A43: NA | B43: Not Applicable
A44: TBD | B44: To Be Determined

Sheet Prog
A1: ='General Info'!A3 -> Updated Date 02/24/2015
A2: MnDOT Program: | B2: Identifies the program category for the project.
A4: Name | B4: Description
A5: AM | B5: Agreements, Municipal
A6: AR | B6: Agreements, Rail
A7: AU | B7: Agreements, Utility
A8: BI | B8: Bridge Improvement and Repair
A9: BR | B9: Bridge Replacement
A10: BT | B10: Bike Trail
A11: CA | B11: Consultant Agreements
A12: DA | B12: Detour Agreement
A13: EN | B13: Enhancement
A14: IR | B14: Indian Reservation Roads
... A42: TBD | B42: To Be Determined

Sheet PrjSpn
A1: ='General Info'!A3 -> Updated Date 02/24/2015
A2: MnDOT Project Sponsor: | B2: Indicates the project sponsor in Metro district
A3: *not a comprehensive list; sample code values shown
A5: Name | B5: Description
A6: NA | B6: Not Applicable
A7: TBD | B7: To Be Determined
A8: not-asgn | B8: Project Sponsor Currently Unassigned
A9: farr1bev | B9: Beverly.Farraher
A10: eric1dan | B10: Dan.Erickson
A11: kran1jam | B11: Jim.Kranig
A12: bien1joh | B12: John.Bieniek
A13: grif1joh | B13: John.Griffith
A14: bly1lyn | B14: Lynne.Bly
A15: kaup1she | B15: Sheila.Kauppi
A16: misg1ste | B16: Steve.Misgen
... A21: croc1apr | B21: April.Crockett

Sheet PrjCmp
A1: ='General Info'!A3 -> Updated Date 02/24/2015
A2: MnDOT Project Complexity: | B2: Size and complexity of project (used for determining float limits)
A4: Name | B4: Description | C4: Definition
A5: Min | B5: Minor Project | C5: Minor Project (ex. Signals, ADA, etc.)
A6: Mod | B6: Moderate Project | C6: Moderate Project (ex. Resurfacing, Bridge Replacement, etc.)
A7: Maj | B7: Major Project | C7: Major Project (ex. New Construction/Reconstruction, Interchanges, etc.)
A8: Meg | B8: Mega Project | C8: Mega Project (ex. Major New Bridge, etc.)
A9: NA | B9: Not Applicable
A10: TBD | B10: To Be Determined

Sheet PrjLoc
A1: ='General Info'!A3 -> Updated Date 02/24/2015
A2: MnDOT Project Location: | B2: Identifies the geographical location of a specific project within a larger bundle of projects.
A4: Name | B4: Description
A5: MBC | B5: Main Bridge Crossing
A6: NA | B6: Not Applicable
A7: TBD | B7: To Be Determined

Sheet PM
A1: ='General Info'!A3 -> Updated Date 02/24/2015
A2: MnDOT Project Manager: | B2: Project manager as assigned by the district
A3: *not a comprehensive list; sample code values shown
A5: Name | B5: Description
A6: NA | B6: Not Applicable
A7: TBD | B7: To Be Determined
A8: kals1jai | B8: Jai.Kalsy
A9: gasp1jak | B9: Jacob.Gasper
A10: ande1kje | B10: Kjersti.Anderson
A11: schw1mik | B11: Michael.Schweyen
A12: greg1nat | B12: Nathan.Gregor
A13: riba1ram | B13: Ramon.Riba
A14: augu1ric | B14: Richard.Augustin
A15: lake1kyl | B15: Kyle.Lake
A16: ward1ter | B16: Terry.Ward
... A26: lenz1cra | B26: Craig.Lenz

Sheet PrjSts
A1: ='General Info'!A3 -> Updated Date 02/24/2015
A2: MnDOT Project Status: | B2: Identifies whether a project has been funded, has been let, or is being worked on.
A4: Name | B4: Description | C4: Definition
A5: Planned | B5: Planned | C5: A project actively being worked on, for example, projects more than 6 fiscal years out, and funding has not been allocated.
A6: Programmed | B6: Programmed | C6: Project is actively being work on, and funding has been allocated.
A7: Let | B7: Let | C7: The Project has finished the Preconstruction phase, and has been let.
A8: Inactive | B8: Inactive | C8: Currently not being worked on by MnDOT, but could be activated in the future
A9: Dropped | B9: Dropped | C9: The project is no longer being pursued by MnDOT
A10: Done | B10: Done | C10: The project has completed the Preconstruction phase
A11: Test | B11: Test | C11: Schedule built to run What-If scenario's or to make reflection schedules
A12: NA | B12: Not Applicable
A13: TBD | B13: To Be Determined

Sheet PUMABu
A1: ='General Info'!A3 -> Updated Date 02/24/2015
A2: MnDOT Puma Bundle: | B2: Bundle number of related projects as assigned by PUMA. This code is required and can not be coded as TBD or NA.
A3: *not a comprehensive list; sample code values shown
A5: Name | B5: Description
A6: 83881 | B6: 83881
A7: 80554 | B7: 80554
A8: 83772 | B8: 83772
A9: 70575 | B9: 70575
A10: 108213 | B10: 108213
A11: 109830 | B11: 109830

Sheet PUMAEl
A1: ='General Info'!A3 -> Updated Date 02/24/2015
A2: MnDOT Puma Element: | B2: Element number as assigned by PUMA. There is one element number for each SP. This code is required and can not be coded as TBD or NA.
A3: *not a comprehensive list; sample code values shown
A5: Name | B5: Description
A6: 76142 | B6: 76142
A7: 114744 | B7: 114744
A8: 69319 | B8: 69319
A9: 68728 | B9: 68728
A10: 80421 | B10: 80421
A11: 69541 | B11: 69541
A12: NA | B12: Not Applicable
A13: TBD | B13: To Be Determined

Sheet PrmSP
A1: ='General Info'!A3 -> Updated Date 02/24/2015
A2: MnDOT Puma Prime SP: | B2: Prime state project number for a project. A prime SP can have one or more associated projects (e.g. bridges) that have unique SPs, but are part of the same project. This code is required and can not be coded as TBD or NA.
A3: *not a comprehensive list; sample code values shown
A5: Name | B5: Description
A6: 7604-22 | B6: 7604-22
A7: 7506-17 | B7: 7506-17
A8: 1406-71 | B8: 1406-71
A9: 1402-19 | B9: 1402-19
A10: 2781-27782A | B10: 2781-27782A

Sheet SP
A1: ='General Info'!A3 -> Updated Date 02/24/2015
A2: MnDOT Puma SP: | B2: State project number as assigned by PUMA. This code is required and can not be coded as TBD or NA.
A3: *not a comprehensive list; sample code values shown
A5: Name | B5: Description
A6: 1917-45 | B6: 1917-45
A7: 1982-171 | B7: 1982-171
A8: 2783-137 | B8: 2783-137
A9: 2735-193 | B9: 2735-193
A10: 3108-70 | B10: 3108-70
A11: 7480-(74815) | B11: 7480-(74815)

Sheet RteNo
A1: ='General Info'!A3 -> Updated Date 02/24/2015
A2: MnDOT Route Number: | B2: Route number for the project
A3: *not a comprehensive list; sample code values shown
A5: Name | B5: Description
A6: 59 | B6: 59
A7: 43 | B7: 43
A8: 29 | B8: 29
A9: 72 | B9: 72
A10: 95 | B10: 95
A11: 101 | B11: 101
A12: NA | B12: Not Applicable
A13: TBD | B13: To Be Determined

Sheet RteTyp
A1: ='General Info'!A3 -> Updated Date 02/24/2015
A2: MnDOT Route Type: | B2: Route type for the project
A4: Name | B4: Description
A5: CR | B5: County Road
A6: CSAH | B6: County State Aid Highway
A7: FH | B7: Forest Highway
A8: I | B8: Interstate
A9: IRR | B9: Indian Reservation Road
A10: MSAS | B10: Municipal State Aid Street
A11: MS | B11: Municipal Street
A12: TH | B12: Trunk Highway
A13: TR | B13: Township Road
A14: CP | B14: City Project
... A27: NA | B27: Not Applicable

Sheet SchCls
A1: ='General Info'!A3 -> Updated Date 02/24/2015
A2: MnDOT Schedule Classification: | B2: Identifies what type of modular schedule a project is for admin purposes.
A4: Name | B4: Description | C4: Definition
A5: MS | B5: MnDOT Master Schedule | C5: The master schedule is the Design (_F) project.
A6: CS | B6: MnDOT Control Schedule | C6: To be coded on Construction Control (Administration) schedules
A7: Contractor | B7: MnDOT Contractor Schedule | C7: Construction schedule built by the contractor
A8: MNG | B8: MnDOT Managed Schedule | C8: These are to be coded on separate module schedules that have inter-project links to the master schedule
A9: NA | B9: Not Applicable
A10: TBD | B10: To Be Determined

Sheet SchEnh
A1: ='General Info'!A3 -> Updated Date 02/24/2015
A2: MnDOT Schedule Enhancement: | B2: Distinguishes between P6 & PPMS converted schedules
A4: Name | B4: Description | C4: Definition
A5: E | B5: Enhanced | C5: Schedules containing templates and work packages developed by the EPMS team.
A6: N | B6: Not Enhanced | C6: PPMS Schedules built in P6
A7: NA | B7: Not Applicable
A8: TBD | B8: To Be Determined

Sheet SWFTID
A1: ='General Info'!A3 -> Updated Date 02/24/2015
A2: MnDOT SWIFT Project ID: | B2: SWIFT financial code assigned to a project (formerly "job number" or "T number")
A3: *not a comprehensive list; sample code values shown
A5: Name | B5: Description
A6: NA | B6: Not Applicable
A7: TBD | B7: To Be Determined
A8: T05008 | B8: T05008
A9: T14149 | B9: T14149
A10: T14396 | B10: T14396

Sheet WrkRes
A1: ='General Info'!A3 -> Updated Date 02/24/2015
A2: MnDOT Work Responsibility: | B2: Indicates whether MnDOT, a local entity, or a contractor is primarily responsible for work on a schedule.
A4: Name | B4: Description | C4: Definition
A5: MnDOT | B5: MnDOT | C5: MnDOT is responsible for the portion of the work that is captured in a specific schedule
A6: CNTRCTR | B6: Contractors | C6: A Contractor is responsible for the portion of the work that is captured in a specific schedule
A7: CNTY | B7: County | C7: The County is responsible for the portion of the work that is captured in a specific schedule
A8: CITY | B8: City | C8: The City is responsible for the portion of the work that is captured in a specific schedule
A9: UNDET | B9: Undetermined | C9: Work Responsibility is undetermined at this time
A10: CNSLT | B10: Consultant
A11: NA | B11: Not Applicable
A12: TBD | B12: To Be Determined

Sheet WPKGChp
A1: ='General Info'!A3 -> Updated Date 02/24/2015
A2: MnDOT WPKG Champ: | B2: Used to identify champion of schedule work packages
A3: *not a comprehensive list; sample code values shown
A5: Name | B5: Description
A6: NA | B6: Not Applicable
A7: TBD | B7: To Be Determined
A8: not-asgn | B8: Champion Currently Unassigned
A9: blan1amb | B9: Amber.Blanchard
A10: troy1bre | B10: Brett.Troyer
A11: prat1dan | B11: Dan.Prather
A12: lars1dav | B12: David.Larson

Sheet WPKGOff
A1: ='General Info'!A3 -> Updated Date 02/24/2015
A2: MnDOT WPKG Office: | B2: Used to identify office responsible for the schedule work packages
A4: Name | B4: Description
A5: NA | B5: Not Applicable
A6: TBD | B6: To Be Determined
A7: not-asgn | B7: Work Package Office Currently Unassigned
A8: ADA | B8: Americans with Disabilities Act
A9: BRIDGE | B9: Bridge Office
A10: DISTRICT | B10: District
A11: OES | B11: Office of Environmental Stewardship
A12: OF&CVO | B12: Office of Freight & Commercial Vehicle Operations
A13: OLM | B13: Office of Land Management
A14: OM&RR | B14: Office of M & Rail Road
... A17: DIST TRFC | B17: District Traffic
