Workbook

Sheet check
A1: Checklist of TIGER II Project Components & Benefit-Cost Analysis Categories: Willmar
A3: Benefit-Cost Item
A4: Initial (construction/design/land acquisition) | B4: ü
A5: Annual (operating and maintenance) | B5: ü
A6: Salvage Value | B6: ü
A8: Safety | B8: ü
A9: Auto VHT (value of time + environmental benefits) | B9: ü
A10: Auto VMT (operating costs + environmental benefits) | B10: ü
A11: Transit VHT | B11: ü
A12: Transit VMT | B12: ü
A13: Bicycle/Pedestrian Health | B13: ü
A14: Sewer System Reliability | B14: ?
A16: Legend
A17: ü: currently reflected in BCA
A18: ? : not yet shown in BCA… estimate possible?

Sheet notes

Sheet costs
B1: BL | D1: CS | F1: Total (Constant 2010$) | G1: Total (Present Value) | I1: Discount Rate (copied from <benefits>) | J1: ='benefits & sum'!$I$1 -> 0.03
A2: 2012 | B2: =costDetail!$F$5+costDetail!$F$13/19 -> 1511.4105 | D2: =1576750+278250+costDetail!$F$5 -> 1856016.4 | F2: =SUM(D2:E2)-SUM(B2:C2) -> 1854505 | G2: =F2/((1+$J$1)^(A2-2010)) -> 1748048.8
A3: 2013 | B3: =costDetail!$F$5+costDetail!$F$13/19 -> 1511.4105 | D3: =costDetail!$F$5+costDetail!$H$13/19 -> 1405.3368 | F3: =SUM(D3:E3)-SUM(B3:C3) -> -106.07368 | G3: =F3/((1+$J$1)^(A3-2010)) -> -97.072447
A4: 2014 | B4: =costDetail!$F$5+costDetail!$F$13/19 -> 1511.4105 | D4: =costDetail!$F$5+costDetail!$H$13/19 -> 1405.3368 | F4: =SUM(D4:E4)-SUM(B4:C4) -> -106.07368 | G4: =F4/((1+$J$1)^(A4-2010)) -> -94.245095
A5: 2015 | B5: =307440+46116+costDetail!$F$5 -> 354572.4 | D5: =costDetail!$F$5+costDetail!$H$13/19 -> 1405.3368 | F5: =SUM(D5:E5)-SUM(B5:C5) -> -353167.06 | G5: =F5/((1+$J$1)^(A5-2010)) -> -304645.01
A6: 2016 | B6: =costDetail!$F$5+costDetail!$F$13/19 -> 1511.4105 | D6: =costDetail!$F$5+costDetail!$H$13/19 -> 1405.3368 | F6: =SUM(D6:E6)-SUM(B6:C6) -> -106.07368 | G6: =F6/((1+$J$1)^(A6-2010)) -> -88.835041
A7: 2017 | B7: =costDetail!$F$5+costDetail!$F$13/19 -> 1511.4105 | D7: =costDetail!$F$5+costDetail!$H$13/19 -> 1405.3368 | F7: =SUM(D7:E7)-SUM(B7:C7) -> -106.07368 | G7: =F7/((1+$J$1)^(A7-2010)) -> -86.247612
A8: 2018 | B8: =costDetail!$F$5+costDetail!$F$13/19 -> 1511.4105 | D8: =costDetail!$F$5+costDetail!$H$13/19 -> 1405.3368 | F8: =SUM(D8:E8)-SUM(B8:C8) -> -106.07368 | G8: =F8/((1+$J$1)^(A8-2010)) -> -83.735546
A9: 2019 | B9: =costDetail!$F$5+costDetail!$F$13/19 -> 1511.4105 | D9: =costDetail!$F$5+costDetail!$H$13/19 -> 1405.3368 | F9: =SUM(D9:E9)-SUM(B9:C9) -> -106.07368 | G9: =F9/((1+$J$1)^(A9-2010)) -> -81.296646
A10: 2020 | B10: =costDetail!$F$5+costDetail!$F$13/19 -> 1511.4105 | D10: =costDetail!$F$5+costDetail!$H$13/19 -> 1405.3368 | F10: =SUM(D10:E10)-SUM(B10:C10) -> -106.07368 | G10: =F10/((1+$J$1)^(A10-2010)) -> -78.928783
A11: 2021 | B11: =costDetail!$F$5+costDetail!$F$13/19 -> 1511.4105 | D11: =costDetail!$F$5+costDetail!$H$13/19 -> 1405.3368 | F11: =SUM(D11:E11)-SUM(B11:C11) -> -106.07368 | G11: =F11/((1+$J$1)^(A11-2010)) -> -76.629886
A12: 2022 | B12: =costDetail!$F$5+costDetail!$F$13/19 -> 1511.4105 | D12: =costDetail!$F$5+costDetail!$H$13/19 -> 1405.3368 | F12: =SUM(D12:E12)-SUM(B12:C12) -> -106.07368 | G12: =F12/((1+$J$1)^(A12-2010)) -> -74.397948
A13: 2023 | B13: =costDetail!$F$5+costDetail!$F$13/19 -> 1511.4105 | D13: =costDetail!$F$5+costDetail!$H$13/19 -> 1405.3368 | F13: =SUM(D13:E13)-SUM(B13:C13) -> -106.07368 | G13: =F13/((1+$J$1)^(A13-2010)) -> -72.231017
A14: 2024 | B14: =costDetail!$F$5+costDetail!$F$13/19 -> 1511.4105 | D14: =costDetail!$F$5+costDetail!$H$13/19 -> 1405.3368 | F14: =SUM(D14:E14)-SUM(B14:C14) -> -106.07368 | G14: =F14/((1+$J$1)^(A14-2010)) -> -70.127201
A15: 2025 | B15: =costDetail!$F$5+costDetail!$F$13/19 -> 1511.4105 | D15: =costDetail!$F$5+costDetail!$H$13/19 -> 1405.3368 | F15: =SUM(D15:E15)-SUM(B15:C15) -> -106.07368 | G15: =F15/((1+$J$1)^(A15-2010)) -> -68.084662
A16: 2026 | B16: =costDetail!$F$5+costDetail!$F$13/19 -> 1511.4105 | D16: =costDetail!$F$5+costDetail!$H$13/19 -> 1405.3368 | F16: =SUM(D16:E16)-SUM(B16:C16) -> -106.07368 | G16: =F16/((1+$J$1)^(A16-2010)) -> -66.101613
A17: 2027 | B17: =costDetail!$F$5+costDetail!$F$13/19 -> 1511.4105 | D17: =costDetail!$F$5+costDetail!$H$13/19 -> 1405.3368 | F17: =SUM(D17:E17)-SUM(B17:C17) -> -106.07368 | G17: =F17/((1+$J$1)^(A17-2010)) -> -64.176323
... A20: 2030 | B20: =costDetail!$F$5+costDetail!$F$13/19 -> 1511.4105 | D20: =costDetail!$F$5+costDetail!$H$13/19 -> 1405.3368 | F20: =SUM(D20:E20)-SUM(B20:C20) -> -106.07368 | G20: =F20/((1+$J$1)^(A20-2010)) -> -58.730427
A21: 2031 | B21: =costDetail!$F$5+costDetail!$F$13/19 -> 1511.4105 | D21: =costDetail!$F$5+costDetail!$H$13/19-(1576750+278250)*27%*(40/60) -> -332494.66 | F21: =SUM(D21:E21)-SUM(B21:C21) -> -334006.07 | G21: =F21/((1+$J$1)^(A21-2010)) -> -179544.72
B22: ^^^ INCORPORATES RESIDUAL VALUE (IF ANY) BEYOND YEAR 20 ^^^
B23: 2012 - 2031 | G23: =SUM(G2:G22) -> 1262575.4

Sheet costDetail
A1: OPERATIONS TABULATION
A2: activity | B2: cost/mile | C2: times/year | D2: cost/year/mile | E2: project miles | F2: project cost/year | G2: proj cost/20 years
A3: street sweeping | B3: 175 | C3: 6 | D3: =B3*C3 -> 1050 | E3: 0.28 | F3: =E3*D3 -> 294 | G3: =F3*20 -> 5880
A4: snow removal | B4: 215 | C4: 12 | D4: =B4*C4 -> 2580 | E4: 0.28 | F4: =E4*D4 -> 722.4 | G4: =F4*20 -> 14448
A5: TOTAL | F5: =SUM(F3:F4) -> 1016.4 | G5: =SUM(G3:G4) -> 20328
A8: MAINTENANCE TABULATION
A9: activity | B9: cost/mile | C9: times/20 years | D9: cost/mile/20 years | E9: project miles | F9: project cost/20 years | G9: project miles: complete street | H9: proj cost/20 years: complete
A10: patching/marking | B10: 192 | C10: 20 | D10: =C10*B10 -> 3840 | E10: 0.28 | F10: =E10*D10 -> 1075.2 | G10: 0.22 | H10: =G10*D10 -> 844.8
A11: crack sealing | B11: 8000 | C11: 1 | D11: =C11*B11 -> 8000 | E11: 0.28 | F11: =E11*D11 -> 2240 | G11: 0.22 | H11: =G11*D11 -> 1760
A12: sealcoating | B12: 21750 | C12: 1 | D12: =C12*B12 -> 21750 | E12: 0.28 | F12: =E12*D12 -> 6090 | G12: 0.22 | H12: =G12*D12 -> 4785
A13: TOTAL | F13: =SUM(F10:F12) -> 9405.2 | H13: =SUM(H10:H12) -> 7389.8

Sheet benefits & sum
B1: Mode | C1: Safety | E1: Total (Constant 2010$) | F1: Total (Present Value) | H1: Discount Rate | I1: 0.03
A2: 2012 | B2: =modeDetail!BP2 -> 25032.655 | C2: =safetyDetail!T2 -> 14877.72 | E2: =SUM(B2:D2) -> 39910.375 | F2: =E2/((1+$I$1)^(A2-2010)) -> 37619.356
A3: 2013 | B3: =modeDetail!BP3 -> 34840.16 | C3: =safetyDetail!T3 -> 15175.274 | E3: =SUM(B3:D3) -> 50015.435 | F3: =E3/((1+$I$1)^(A3-2010)) -> 45771.208
A4: 2014 | B4: =modeDetail!BP4 -> 38346.472 | C4: =safetyDetail!T4 -> 15478.78 | E4: =SUM(B4:D4) -> 53825.252 | F4: =E4/((1+$I$1)^(A4-2010)) -> 47823.04
A5: 2015 | B5: =modeDetail!BP5 -> 41851.567 | C5: =safetyDetail!T5 -> 15788.355 | E5: =SUM(B5:D5) -> 57639.922 | F5: =E5/((1+$I$1)^(A5-2010)) -> 49720.703
A6: 2016 | B6: =modeDetail!BP6 -> 45355.419 | C6: =safetyDetail!T6 -> 16104.123 | E6: =SUM(B6:D6) -> 61459.541 | F6: =E6/((1+$I$1)^(A6-2010)) -> 51471.398
A7: 2017 | B7: =modeDetail!BP7 -> 48858.004 | C7: =safetyDetail!T7 -> 16426.205 | E7: =SUM(B7:D7) -> 65284.209 | F7: =E7/((1+$I$1)^(A7-2010)) -> 53082.036
A8: 2018 | B8: =modeDetail!BP8 -> 52359.297 | C8: =safetyDetail!T8 -> 16754.729 | E8: =SUM(B8:D8) -> 69114.026 | F8: =E8/((1+$I$1)^(A8-2010)) -> 54559.25
A9: 2019 | B9: =modeDetail!BP9 -> 55859.271 | C9: =safetyDetail!T9 -> 17089.824 | E9: =SUM(B9:D9) -> 72949.095 | F9: =E9/((1+$I$1)^(A9-2010)) -> 55909.407
A10: 2020 | B10: =modeDetail!BP10 -> 59357.901 | C10: =safetyDetail!T10 -> 17431.62 | E10: =SUM(B10:D10) -> 76789.522 | F10: =E10/((1+$I$1)^(A10-2010)) -> 57138.616
A11: 2021 | B11: =modeDetail!BP11 -> 62855.16 | C11: =safetyDetail!T11 -> 17780.253 | E11: =SUM(B11:D11) -> 80635.413 | F11: =E11/((1+$I$1)^(A11-2010)) -> 58252.738
A12: 2022 | B12: =modeDetail!BP12 -> 66351.02 | C12: =safetyDetail!T12 -> 18135.858 | E12: =SUM(B12:D12) -> 84486.878 | F12: =E12/((1+$I$1)^(A12-2010)) -> 59257.396
A13: 2023 | B13: =modeDetail!BP13 -> 69845.453 | C13: =safetyDetail!T13 -> 18498.575 | E13: =SUM(B13:D13) -> 88344.028 | F13: =E13/((1+$I$1)^(A13-2010)) -> 60157.984
... A21: 2031 | B21: =modeDetail!BP21 -> 97746.006 | C21: =safetyDetail!T21 -> 21674.029 | E21: =SUM(B21:D21) -> 119420.03 | F21: =E21/((1+$I$1)^(A21-2010)) -> 64194.153
B23: Benefits: 2012 - 2031 | F23: =SUM(F2:F22) -> 1133572
B24: Costs: 2012 - 2031 | F24: =costs!G23 -> 1262575.4
B25: Benefit : Cost Ratio | F25: =F23/F24 -> 0.89782517

Sheet modeDetail
B1: Passenger Cost Factor ($/hr), 70% Personal/Rec + 30% Commute [TREDIS] | C1: Passengers per Vehicle [Assumed] | D1: Auto Variable Operating Costs ($/mi) [Mn/DOT Standard] | E1: Auto Environmental Cost ($/mi) [TREDIS, Free Flow] | F1: Transit Variable Operating Costs ($/mi) [TREDIS] | G1: Transit Environmental Cost ($/mi) [TREDIS, Free Flow] | H1: Bicycle / Pedestrian Health Benefit ($/New Cyclist or Pedestrian) [NCHRP] | I1: Bicycle Recreation (Non-Commuting) Benefit ($/hr) [BicyclingInfo.org] | K1: Daily Auto VMT Reduction [Proposal] | L1: Daily Auto VHT Reduction [Proposal] | M1: Annual Auto VMT Reduction, 1,500-Foot Corridor [Proposal] | N1: Annual Auto VHT Reduction, 15 MPH [Proposal] | P1: BL - District Residents, 2% Annual Growth [Assumed] | Q1: CS - District Residents [Proposal] | R1: BL - District Employee Daily Commutes, 2% Annual Growth [Assumed] | S1: CS - District Employee Daily Commutes [Proposal] | U1: BL - % Likely to Use Transit [Proposal] | V1: CS - % Likely to Use Transit [Proposal] | W1: BL - % Likely to Use Bicycle [Proposal] | X1: CS - % Likely to Use Bicycle [Proposal] | Y1: BL - % Likely to Be Pedestrian [Proposal] | Z1: CS - % Likely to Be Pedestrian [Proposal] | AA1: BL - % Likely to Carpool [Proposal] | AB1: CS - % Likely to Carpool [Proposal] | AD1: BL - Commuter Fraction | AE1: CS - Commuter Fraction | AF1: BL - Transit Citywide Access Scaling Factor | AG1: CS - Transit Citywide Access Scaling Factor | AI1: Transit Annual Days of Usage, Residents [Assumed] | AJ1: Transit Annual Days of Usage, Commuters [Assumed] | AK1: Bicycle Annual Days of Usage, Residents [Assumed] | AL1: Bicycle Annual Days of Usage, Commuters [Mn/DOT Guidance] | AM1: Pedestrian Annual Days, Residents [Assumed] | AN1: Pedestrian Annual Days, Commuters [Assumed] | AO1: Carpool Annual Days of Usage, Commuters [Assumed] | AQ1: Annual Increase in Transit Trips | AR1: Annual Increase in Bicycle Trips | AS1: Annual Increase in Pedestrian Trips | AT1: Annual Increase in Carpool Trips | AV1: Transit Share of Mode Shift | AW1: Bicycle Share of Mode Shift | AX1: Pedestrian Share of Mode Shift | AY1: Carpool Share of Mode Shift | BA1: Annual Travel Time Penalty for Pedestrian Mode Shift (hrs), Quarter of Vehicle Speed [Assumed] | BC1: Annual Transit VMT Increase, One New Transit Trip per 20 Shifted Auto Trips [Assumed] | BD1: Annual Transit VHT Increase, One New Transit Trip per 20 Shifted Auto Trips [Assumed] | BE1: Annual Carpool VMT Increase, One New Carpool Trip per 2 Shifted Auto Trips [Assumed] | BF1: Annual Carpool VHT Increase, One New Carpool Trip per 2 Shifted Auto Trips [Assumed] | BH1: Annual Reduction in Auto Per-Mile Costs | BI1: Annual Bicycle Health Benefit | BJ1: Annual Bicycle Recreation Benefit | BK1: Annual Pedestrian Health Benefit | BL1: Annual Increase in Travel Time Costs for Pedestrian Mode Shift | BM1: Annual Increase in Transit Per-Mile Costs | BN1: Annual Increase in Carpool Per-Mile Costs | BP1: CS Benefit $
A2: 2012 | B2: =70%*10.6+30%*21.2 -> 13.78 | C2: 1.2 | D2: 0.28 | E2: 0.028 | F2: 1.45 | G2: 0.07 | H2: 128 | I2: 10 | K2: =M2/365 -> 22.018267 | L2: =N2/365 -> 1.4678845 | M2: =1500/5280*(AQ2+AR2+AS2) -> 8036.6676 | N2: =M2/15 -> 535.77784 | P2: =1800*0.7 -> 1260 | Q2: =P2 -> 1260 | R2: =1800*0.3 -> 540 | S2: =R2 -> 540 | U2: 0.03 | V2: 0.04 | W2: 0.005 | X2: 0.02 | Y2: 0.04 | Z2: 0.05 | AA2: 0 | AB2: 0 | AD2: =R2/(P2+R2) -> 0.3 | AE2: =S2/(Q2+S2) -> 0.3 | AF2: =17774/1800 -> 9.8744444 | AG2: =17774*1.02^($A2-2012)/($Q2+$S2) -> 9.8744444 | AI2: 75 | AJ2: 260 | AK2: 100 | AL2: 240 | AM2: 100 | AN2: 0 | AO2: 260 | AQ2: =(Q2*$V$2*$AI$2+S2*$V$2*$AJ$2)*$AG2-(P2*$U$2*$AI$2+R2*$U$2*$AJ$2)*$AF2 -> 23195.07 | AR2: =(Q2*$X$2*$AK$2+S2*$X$2*$AL$2)-(P2*$W$2*$AK$2+R2*$W$2*$AL$2) -> 3834 | AS2: =(Q2*$Z$2*$AM$2+S2*$Z$2*$AN$2)-(P2*$Y$2*$AM$2+R2*$Y$2*$AN$2) -> 1260 | AT2: =(S2+Q2)*AE2*$AB$2*$AO$2-(R2+P2)*AD2*$AA$2*$AO$2 -> 0 | AV2: =AQ2/SUM($AQ2:$AT2) -> 0.81993045 | AW2: =AR2/SUM($AQ2:$AT2) -> 0.13552938 | AX2: =AS2/SUM($AQ2:$AT2) -> 0.04454017 | AY2: =AT2/SUM($AQ2:$AT2) -> 0 | BA2: =-AX2*N2*$C$2*(4-1) -> -85.909091 | BC2: =-M2*AV2/20 -> -329.47543 | BD2: =-N2*AV2/20 -> -21.965028 | BE2: =-M2*AY2/2 -> 0 | BF2: =-N2*AY2/2 -> 0 | BH2: =($D$2+$E$2)*M2 -> 2475.2936 | BI2: =((S2+Q2)*$X$2-(R2+P2)*$W$2)*$H$2 -> 3456 | BJ2: =(Q2*$X$2-P2*W2)*$AK$2*$I$2 -> 18900 | BK2: =(Q2*$Z$2-P2*$Y$2)*$H$2 -> 1612.8 | BL2: =BA2*10.6 -> -910.63636 | BM2: =BC2*($F$2+$G$2) -> -500.80265 | BN2: =($D$2+$E$2)*BE2 -> 0 | BP2: =SUM(BH2:BO2) -> 25032.655
A3: 2013 | K3: =M3/365 -> 23.20428 | L3: =N3/365 -> 1.546952 | M3: =1500/5280*(AQ3+AR3+AS3) -> 8469.5622 | N3: =M3/15 -> 564.63748 | P3: =P2*1.02 -> 1285.2 | Q3: =(Q$21-Q$2)/(20-1)*($A3-$A$2)+Q$2 -> 1390.9737 | R3: =R2*1.02 -> 550.8 | S3: =(S$21-S$2)/(20-1)*($A3-$A$2)+S$2 -> 596.13158 | AD3: =R3/(P3+R3) -> 0.3 | AE3: =S3/(Q3+S3) -> 0.3 | AF3: =17774/1800 -> 9.8744444 | AG3: =17774*1.02^($A3-2012)/($Q3+$S3) -> 9.123563 | AQ3: =(Q3*$V$2*$AI$2+S3*$V$2*$AJ$2)*$AG3-(P3*$U$2*$AI$2+R3*$U$2*$AJ$2)*$AF3 -> 23658.971 | AR3: =(Q3*$X$2*$AK$2+S3*$X$2*$AL$2)-(P3*$W$2*$AK$2+R3*$W$2*$AL$2) -> 4339.8189 | AS3: =(Q3*$Z$2*$AM$2+S3*$Z$2*$AN$2)-(P3*$Y$2*$AM$2+R3*$Y$2*$AN$2) -> 1814.0684 | AT3: =(S3+Q3)*AE3*$AB$2*$AO$2-(R3+P3)*AD3*$AA$2*$AO$2 -> 0 | AV3: =AQ3/SUM($AQ3:$AT3) -> 0.79358278 | AW3: =AR3/SUM($AQ3:$AT3) -> 0.1455687 | AX3: =AS3/SUM($AQ3:$AT3) -> 0.060848523 | AY3: =AT3/SUM($AQ3:$AT3) -> 0 | BA3: =-AX3*N3*$C$2*(4-1) -> -123.68648 | BC3: =-M3*AV3/20 -> -336.06493 | BD3: =-N3*AV3/20 -> -22.404329 | BE3: =-M3*AY3/2 -> 0 | BF3: =-N3*AY3/2 -> 0 | BH3: =($D$2+$E$2)*M3 -> 2608.6251 | BI3: =((S3+Q3)*$X$2-(R3+P3)*$W$2)*$H$2 -> 3911.9495 | BJ3: =(Q3*$X$2-P3*W3)*$AK$2*$I$2 -> 27819.474 | BK3: =(Q3*$Z$2-P3*$Y$2)*$H$2 -> 2322.0076 | BL3: =BA3*10.6 -> -1311.0767 | BM3: =BC3*($F$2+$G$2) -> -510.8187 | BN3: =($D$2+$E$2)*BE3 -> 0 | BP3: =SUM(BH3:BO3) -> 34840.16
A4: 2014 | K4: =M4/365 -> 24.395547 | L4: =N4/365 -> 1.6263698 | M4: =1500/5280*(AQ4+AR4+AS4) -> 8904.3745 | N4: =M4/15 -> 593.62497 | P4: =P3*1.02 -> 1310.904 | Q4: =(Q$21-Q$2)/(20-1)*($A4-$A$2)+Q$2 -> 1521.9474 | R4: =R3*1.02 -> 561.816 | S4: =(S$21-S$2)/(20-1)*($A4-$A$2)+S$2 -> 652.26316 | AD4: =R4/(P4+R4) -> 0.3 | AE4: =S4/(Q4+S4) -> 0.3 | AF4: =17774/1800 -> 9.8744444 | AG4: =17774*1.02^($A4-2012)/($Q4+$S4) -> 8.5051881 | AQ4: =(Q4*$V$2*$AI$2+S4*$V$2*$AJ$2)*$AG4-(P4*$U$2*$AI$2+R4*$U$2*$AJ$2)*$AF4 -> 24132.151 | AR4: =(Q4*$X$2*$AK$2+S4*$X$2*$AL$2)-(P4*$W$2*$AK$2+R4*$W$2*$AL$2) -> 4845.1267 | AS4: =(Q4*$Z$2*$AM$2+S4*$Z$2*$AN$2)-(P4*$Y$2*$AM$2+R4*$Y$2*$AN$2) -> 2366.1208 | AT4: =(S4+Q4)*AE4*$AB$2*$AO$2-(R4+P4)*AD4*$AA$2*$AO$2 -> 0 | AV4: =AQ4/SUM($AQ4:$AT4) -> 0.76992771 | AW4: =AR4/SUM($AQ4:$AT4) -> 0.15458205 | AX4: =AS4/SUM($AQ4:$AT4) -> 0.075490246 | AY4: =AT4/SUM($AQ4:$AT4) -> 0 | BA4: =-AX4*N4*$C$2*(4-1) -> -161.32642 | BC4: =-M4*AV4/20 -> -342.78623 | BD4: =-N4*AV4/20 -> -22.852416 | BE4: =-M4*AY4/2 -> 0 | BF4: =-N4*AY4/2 -> 0 | BH4: =($D$2+$E$2)*M4 -> 2742.5474 | BI4: =((S4+Q4)*$X$2-(R4+P4)*$W$2)*$H$2 -> 4367.4381 | BJ4: =(Q4*$X$2-P4*W4)*$AK$2*$I$2 -> 30438.947 | BK4: =(Q4*$Z$2-P4*$Y$2)*$H$2 -> 3028.6347 | BL4: =BA4*10.6 -> -1710.0601 | BM4: =BC4*($F$2+$G$2) -> -521.03507 | BN4: =($D$2+$E$2)*BE4 -> 0 | BP4: =SUM(BH4:BO4) -> 38346.472
A5: 2015 | K5: =M5/365 -> 25.592173 | L5: =N5/365 -> 1.7061449 | M5: =1500/5280*(AQ5+AR5+AS5) -> 9341.1431 | N5: =M5/15 -> 622.74288 | P5: =P4*1.02 -> 1337.1221 | Q5: =(Q$21-Q$2)/(20-1)*($A5-$A$2)+Q$2 -> 1652.9211 | R5: =R4*1.02 -> 573.05232 | S5: =(S$21-S$2)/(20-1)*($A5-$A$2)+S$2 -> 708.39474 | AD5: =R5/(P5+R5) -> 0.3 | AE5: =S5/(Q5+S5) -> 0.3 | AF5: =17774/1800 -> 9.8744444 | AG5: =17774*1.02^($A5-2012)/($Q5+$S5) -> 7.9878816 | AQ5: =(Q5*$V$2*$AI$2+S5*$V$2*$AJ$2)*$AG5-(P5*$U$2*$AI$2+R5*$U$2*$AJ$2)*$AF5 -> 24614.794 | AR5: =(Q5*$X$2*$AK$2+S5*$X$2*$AL$2)-(P5*$W$2*$AK$2+R5*$W$2*$AL$2) -> 5349.913 | AS5: =(Q5*$Z$2*$AM$2+S5*$Z$2*$AN$2)-(P5*$Y$2*$AM$2+R5*$Y$2*$AN$2) -> 2916.1169 | AT5: =(S5+Q5)*AE5*$AB$2*$AO$2-(R5+P5)*AD5*$AA$2*$AO$2 -> 0 | AV5: =AQ5/SUM($AQ5:$AT5) -> 0.74860636 | AW5: =AR5/SUM($AQ5:$AT5) -> 0.16270617 | AX5: =AS5/SUM($AQ5:$AT5) -> 0.088687466 | AY5: =AT5/SUM($AQ5:$AT5) -> 0 | BA5: =-AX5*N5*$C$2*(4-1) -> -198.82616 | BC5: =-M5*AV5/20 -> -349.64196 | BD5: =-N5*AV5/20 -> -23.309464 | BE5: =-M5*AY5/2 -> 0 | BF5: =-N5*AY5/2 -> 0 | BH5: =($D$2+$E$2)*M5 -> 2877.0721 | BI5: =((S5+Q5)*$X$2-(R5+P5)*$W$2)*$H$2 -> 4822.4568 | BJ5: =(Q5*$X$2-P5*W5)*$AK$2*$I$2 -> 33058.421 | BK5: =(Q5*$Z$2-P5*$Y$2)*$H$2 -> 3732.6297 | BL5: =BA5*10.6 -> -2107.5572 | BM5: =BC5*($F$2+$G$2) -> -531.45578 | BN5: =($D$2+$E$2)*BE5 -> 0 | BP5: =SUM(BH5:BO5) -> 41851.567
A6: 2016 | K6: =M6/365 -> 26.794266 | L6: =N6/365 -> 1.7862844 | M6: =1500/5280*(AQ6+AR6+AS6) -> 9779.907 | N6: =M6/15 -> 651.9938 | P6: =P5*1.02 -> 1363.8645 | Q6: =(Q$21-Q$2)/(20-1)*($A6-$A$2)+Q$2 -> 1783.8947 | R6: =R5*1.02 -> 584.51337 | S6: =(S$21-S$2)/(20-1)*($A6-$A$2)+S$2 -> 764.52632 | AD6: =R6/(P6+R6) -> 0.3 | AE6: =S6/(Q6+S6) -> 0.3 | AF6: =17774/1800 -> 9.8744444 | AG6: =17774*1.02^($A6-2012)/($Q6+$S6) -> 7.549439 | AQ6: =(Q6*$V$2*$AI$2+S6*$V$2*$AJ$2)*$AG6-(P6*$U$2*$AI$2+R6*$U$2*$AJ$2)*$AF6 -> 25107.09 | AR6: =(Q6*$X$2*$AK$2+S6*$X$2*$AL$2)-(P6*$W$2*$AK$2+R6*$W$2*$AL$2) -> 5854.1675 | AS6: =(Q6*$Z$2*$AM$2+S6*$Z$2*$AN$2)-(P6*$Y$2*$AM$2+R6*$Y$2*$AN$2) -> 3464.0156 | AT6: =(S6+Q6)*AE6*$AB$2*$AO$2-(R6+P6)*AD6*$AA$2*$AO$2 -> 0 | AV6: =AQ6/SUM($AQ6:$AT6) -> 0.72932145 | AW6: =AR6/SUM($AQ6:$AT6) -> 0.17005435 | AX6: =AS6/SUM($AQ6:$AT6) -> 0.1006242 | AY6: =AT6/SUM($AQ6:$AT6) -> 0 | BA6: =-AX6*N6*$C$2*(4-1) -> -236.18288 | BC6: =-M6*AV6/20 -> -356.6348 | BD6: =-N6*AV6/20 -> -23.775653 | BE6: =-M6*AY6/2 -> 0 | BF6: =-N6*AY6/2 -> 0 | BH6: =($D$2+$E$2)*M6 -> 3012.2114 | BI6: =((S6+Q6)*$X$2-(R6+P6)*$W$2)*$H$2 -> 5276.996 | BJ6: =(Q6*$X$2-P6*W6)*$AK$2*$I$2 -> 35677.895 | BK6: =(Q6*$Z$2-P6*$Y$2)*$H$2 -> 4433.94 | BL6: =BA6*10.6 -> -2503.5385 | BM6: =BC6*($F$2+$G$2) -> -542.08489 | BN6: =($D$2+$E$2)*BE6 -> 0 | BP6: =SUM(BH6:BO6) -> 45355.419
A7: 2017 | K7: =M7/365 -> 28.001935 | L7: =N7/365 -> 1.8667957 | M7: =1500/5280*(AQ7+AR7+AS7) -> 10220.706 | N7: =M7/15 -> 681.38041 | P7: =P6*1.02 -> 1391.1418 | Q7: =(Q$21-Q$2)/(20-1)*($A7-$A$2)+Q$2 -> 1914.8684 | R7: =R6*1.02 -> 596.20363 | S7: =(S$21-S$2)/(20-1)*($A7-$A$2)+S$2 -> 820.65789 | AD7: =R7/(P7+R7) -> 0.3 | AE7: =S7/(Q7+S7) -> 0.3 | AF7: =17774/1800 -> 9.8744444 | AG7: =17774*1.02^($A7-2012)/($Q7+$S7) -> 7.1737318 | AQ7: =(Q7*$V$2*$AI$2+S7*$V$2*$AJ$2)*$AG7-(P7*$U$2*$AI$2+R7*$U$2*$AJ$2)*$AF7 -> 25609.232 | AR7: =(Q7*$X$2*$AK$2+S7*$X$2*$AL$2)-(P7*$W$2*$AK$2+R7*$W$2*$AL$2) -> 6357.8795 | AS7: =(Q7*$Z$2*$AM$2+S7*$Z$2*$AN$2)-(P7*$Y$2*$AM$2+R7*$Y$2*$AN$2) -> 4009.7749 | AT7: =(S7+Q7)*AE7*$AB$2*$AO$2-(R7+P7)*AD7*$AA$2*$AO$2 -> 0 | AV7: =AQ7/SUM($AQ7:$AT7) -> 0.71182458 | AW7: =AR7/SUM($AQ7:$AT7) -> 0.17672123 | AX7: =AS7/SUM($AQ7:$AT7) -> 0.1114542 | AY7: =AT7/SUM($AQ7:$AT7) -> 0 | BA7: =-AX7*N7*$C$2*(4-1) -> -273.39374 | BC7: =-M7*AV7/20 -> -363.76749 | BD7: =-N7*AV7/20 -> -24.251166 | BE7: =-M7*AY7/2 -> 0 | BF7: =-N7*AY7/2 -> 0 | BH7: =($D$2+$E$2)*M7 -> 3147.9775 | BI7: =((S7+Q7)*$X$2-(R7+P7)*$W$2)*$H$2 -> 5731.0463 | BJ7: =(Q7*$X$2-P7*W7)*$AK$2*$I$2 -> 38297.368 | BK7: =(Q7*$Z$2-P7*$Y$2)*$H$2 -> 5132.5118 | BL7: =BA7*10.6 -> -2897.9736 | BM7: =BC7*($F$2+$G$2) -> -552.92659 | BN7: =($D$2+$E$2)*BE7 -> 0 | BP7: =SUM(BH7:BO7) -> 48858.004
A8: 2018 | K8: =M8/365 -> 29.215291 | L8: =N8/365 -> 1.9476861 | M8: =1500/5280*(AQ8+AR8+AS8) -> 10663.581 | N8: =M8/15 -> 710.90542 | P8: =P7*1.02 -> 1418.9646 | Q8: =(Q$21-Q$2)/(20-1)*($A8-$A$2)+Q$2 -> 2045.8421 | R8: =R7*1.02 -> 608.12771 | S8: =(S$21-S$2)/(20-1)*($A8-$A$2)+S$2 -> 876.78947 | AD8: =R8/(P8+R8) -> 0.3 | AE8: =S8/(Q8+S8) -> 0.3 | AF8: =17774/1800 -> 9.8744444 | AG8: =17774*1.02^($A8-2012)/($Q8+$S8) -> 6.8487629 | AQ8: =(Q8*$V$2*$AI$2+S8*$V$2*$AJ$2)*$AG8-(P8*$U$2*$AI$2+R8*$U$2*$AJ$2)*$AF8 -> 26121.416 | AR8: =(Q8*$X$2*$AK$2+S8*$X$2*$AL$2)-(P8*$W$2*$AK$2+R8*$W$2*$AL$2) -> 6861.0381 | AS8: =(Q8*$Z$2*$AM$2+S8*$Z$2*$AN$2)-(P8*$Y$2*$AM$2+R8*$Y$2*$AN$2) -> 4553.3519 | AT8: =(S8+Q8)*AE8*$AB$2*$AO$2-(R8+P8)*AD8*$AA$2*$AO$2 -> 0 | AV8: =AQ8/SUM($AQ8:$AT8) -> 0.69590662 | AW8: =AR8/SUM($AQ8:$AT8) -> 0.18278649 | AX8: =AS8/SUM($AQ8:$AT8) -> 0.12130689 | AY8: =AT8/SUM($AQ8:$AT8) -> 0 | BA8: =-AX8*N8*$C$2*(4-1) -> -310.45581 | BC8: =-M8*AV8/20 -> -371.04284 | BD8: =-N8*AV8/20 -> -24.73619 | BE8: =-M8*AY8/2 -> 0 | BF8: =-N8*AY8/2 -> 0 | BH8: =($D$2+$E$2)*M8 -> 3284.383 | BI8: =((S8+Q8)*$X$2-(R8+P8)*$W$2)*$H$2 -> 6184.5977 | BJ8: =(Q8*$X$2-P8*W8)*$AK$2*$I$2 -> 40916.842 | BK8: =(Q8*$Z$2-P8*$Y$2)*$H$2 -> 5828.2905 | BL8: =BA8*10.6 -> -3290.8316 | BM8: =BC8*($F$2+$G$2) -> -563.98512 | BN8: =($D$2+$E$2)*BE8 -> 0 | BP8: =SUM(BH8:BO8) -> 52359.297
A9: 2019 | K9: =M9/365 -> 30.434449 | L9: =N9/365 -> 2.0289633 | M9: =1500/5280*(AQ9+AR9+AS9) -> 11108.574 | N9: =M9/15 -> 740.57159 | P9: =P8*1.02 -> 1447.3439 | Q9: =(Q$21-Q$2)/(20-1)*($A9-$A$2)+Q$2 -> 2176.8158 | R9: =R8*1.02 -> 620.29026 | S9: =(S$21-S$2)/(20-1)*($A9-$A$2)+S$2 -> 932.92105 | AD9: =R9/(P9+R9) -> 0.3 | AE9: =S9/(Q9+S9) -> 0.3 | AF9: =17774/1800 -> 9.8744444 | AG9: =17774*1.02^($A9-2012)/($Q9+$S9) -> 6.5654234 | AQ9: =(Q9*$V$2*$AI$2+S9*$V$2*$AJ$2)*$AG9-(P9*$U$2*$AI$2+R9*$U$2*$AJ$2)*$AF9 -> 26643.844 | AR9: =(Q9*$X$2*$AK$2+S9*$X$2*$AL$2)-(P9*$W$2*$AK$2+R9*$W$2*$AL$2) -> 7363.6323 | AS9: =(Q9*$Z$2*$AM$2+S9*$Z$2*$AN$2)-(P9*$Y$2*$AM$2+R9*$Y$2*$AN$2) -> 5094.7032 | AT9: =(S9+Q9)*AE9*$AB$2*$AO$2-(R9+P9)*AD9*$AA$2*$AO$2 -> 0 | AV9: =AQ9/SUM($AQ9:$AT9) -> 0.68139026 | AW9: =AR9/SUM($AQ9:$AT9) -> 0.18831769 | AX9: =AS9/SUM($AQ9:$AT9) -> 0.13029205 | AY9: =AT9/SUM($AQ9:$AT9) -> 0 | BA9: =-AX9*N9*$C$2*(4-1) -> -347.36613 | BC9: =-M9*AV9/20 -> -378.4637 | BD9: =-N9*AV9/20 -> -25.230913 | BE9: =-M9*AY9/2 -> 0 | BF9: =-N9*AY9/2 -> 0 | BH9: =($D$2+$E$2)*M9 -> 3421.4407 | BI9: =((S9+Q9)*$X$2-(R9+P9)*$W$2)*$H$2 -> 6637.6404 | BJ9: =(Q9*$X$2-P9*W9)*$AK$2*$I$2 -> 43536.316 | BK9: =(Q9*$Z$2-P9*$Y$2)*$H$2 -> 6521.2201 | BL9: =BA9*10.6 -> -3682.0809 | BM9: =BC9*($F$2+$G$2) -> -575.26482 | BN9: =($D$2+$E$2)*BE9 -> 0 | BP9: =SUM(BH9:BO9) -> 55859.271
A10: 2020 | K10: =M10/365 -> 31.659524 | L10: =N10/365 -> 2.1106349 | M10: =1500/5280*(AQ10+AR10+AS10) -> 11555.726 | N10: =M10/15 -> 770.38175 | P10: =P9*1.02 -> 1476.2908 | Q10: =(Q$21-Q$2)/(20-1)*($A10-$A$2)+Q$2 -> 2307.7895 | R10: =R9*1.02 -> 632.69607 | S10: =(S$21-S$2)/(20-1)*($A10-$A$2)+S$2 -> 989.05263 | AD10: =R10/(P10+R10) -> 0.3 | AE10: =S10/(Q10+S10) -> 0.3 | AF10: =17774/1800 -> 9.8744444 | AG10: =17774*1.02^($A10-2012)/($Q10+$S10) -> 6.3166731 | AQ10: =(Q10*$V$2*$AI$2+S10*$V$2*$AJ$2)*$AG10-(P10*$U$2*$AI$2+R10*$U$2*$AJ$2)*$AF10 -> 27176.721 | AR10: =(Q10*$X$2*$AK$2+S10*$X$2*$AL$2)-(P10*$W$2*$AK$2+R10*$W$2*$AL$2) -> 7865.6509 | AS10: =(Q10*$Z$2*$AM$2+S10*$Z$2*$AN$2)-(P10*$Y$2*$AM$2+R10*$Y$2*$AN$2) -> 5633.7841 | AT10: =(S10+Q10)*AE10*$AB$2*$AO$2-(R10+P10)*AD10*$AA$2*$AO$2 -> 0 | AV10: =AQ10/SUM($AQ10:$AT10) -> 0.66812412 | AW10: =AR10/SUM($AQ10:$AT10) -> 0.19337252 | AX10: =AS10/SUM($AQ10:$AT10) -> 0.13850335 | AY10: =AT10/SUM($AQ10:$AT10) -> 0 | BA10: =-AX10*N10*$C$2*(4-1) -> -384.12164 | BC10: =-M10*AV10/20 -> -386.03297 | BD10: =-N10*AV10/20 -> -25.735532 | BE10: =-M10*AY10/2 -> 0 | BF10: =-N10*AY10/2 -> 0 | BH10: =($D$2+$E$2)*M10 -> 3559.1637 | BI10: =((S10+Q10)*$X$2-(R10+P10)*$W$2)*$H$2 -> 7090.1642 | BJ10: =(Q10*$X$2-P10*W10)*$AK$2*$I$2 -> 46155.789 | BK10: =(Q10*$Z$2-P10*$Y$2)*$H$2 -> 7211.2436 | BL10: =BA10*10.6 -> -4071.6894 | BM10: =BC10*($F$2+$G$2) -> -586.77012 | BN10: =($D$2+$E$2)*BE10 -> 0 | BP10: =SUM(BH10:BO10) -> 59357.901
A11: 2021 | K11: =M11/365 -> 32.890635 | L11: =N11/365 -> 2.192709 | M11: =1500/5280*(AQ11+AR11+AS11) -> 12005.082 | N11: =M11/15 -> 800.33877 | P11: =P10*1.02 -> 1505.8166 | Q11: =(Q$21-Q$2)/(20-1)*($A11-$A$2)+Q$2 -> 2438.7632 | R11: =R10*1.02 -> 645.34999 | S11: =(S$21-S$2)/(20-1)*($A11-$A$2)+S$2 -> 1045.1842 | AD11: =R11/(P11+R11) -> 0.3 | AE11: =S11/(Q11+S11) -> 0.3 | AF11: =17774/1800 -> 9.8744444 | AG11: =17774*1.02^($A11-2012)/($Q11+$S11) -> 6.0969851 | AQ11: =(Q11*$V$2*$AI$2+S11*$V$2*$AJ$2)*$AG11-(P11*$U$2*$AI$2+R11*$U$2*$AJ$2)*$AF11 -> 27720.256 | AR11: =(Q11*$X$2*$AK$2+S11*$X$2*$AL$2)-(P11*$W$2*$AK$2+R11*$W$2*$AL$2) -> 8367.0822 | AS11: =(Q11*$Z$2*$AM$2+S11*$Z$2*$AN$2)-(P11*$Y$2*$AM$2+R11*$Y$2*$AN$2) -> 6170.5492 | AT11: =(S11+Q11)*AE11*$AB$2*$AO$2-(R11+P11)*AD11*$AA$2*$AO$2 -> 0 | AV11: =AQ11/SUM($AQ11:$AT11) -> 0.65597827 | AW11: =AR11/SUM($AQ11:$AT11) -> 0.19800049 | AX11: =AS11/SUM($AQ11:$AT11) -> 0.14602124 | AY11: =AT11/SUM($AQ11:$AT11) -> 0 | BA11: =-AX11*N11*$C$2*(4-1) -> -420.71927 | BC11: =-M11*AV11/20 -> -393.75363 | BD11: =-N11*AV11/20 -> -26.250242 | BE11: =-M11*AY11/2 -> 0 | BF11: =-N11*AY11/2 -> 0 | BH11: =($D$2+$E$2)*M11 -> 3697.5651 | BI11: =((S11+Q11)*$X$2-(R11+P11)*$W$2)*$H$2 -> 7542.1586 | BJ11: =(Q11*$X$2-P11*W11)*$AK$2*$I$2 -> 48775.263 | BK11: =(Q11*$Z$2-P11*$Y$2)*$H$2 -> 7898.303 | BL11: =BA11*10.6 -> -4459.6242 | BM11: =BC11*($F$2+$G$2) -> -598.50552 | BN11: =($D$2+$E$2)*BE11 -> 0 | BP11: =SUM(BH11:BO11) -> 62855.16
A12: 2022 | K12: =M12/365 -> 34.127901 | L12: =N12/365 -> 2.2751934 | M12: =1500/5280*(AQ12+AR12+AS12) -> 12456.684 | N12: =M12/15 -> 830.4456 | P12: =P11*1.02 -> 1535.933 | Q12: =(Q$21-Q$2)/(20-1)*($A12-$A$2)+Q$2 -> 2569.7368 | R12: =R11*1.02 -> 658.25699 | S12: =(S$21-S$2)/(20-1)*($A12-$A$2)+S$2 -> 1101.3158 | AD12: =R12/(P12+R12) -> 0.3 | AE12: =S12/(Q12+S12) -> 0.3 | AF12: =17774/1800 -> 9.8744444 | AG12: =17774*1.02^($A12-2012)/($Q12+$S12) -> 5.9019603 | AQ12: =(Q12*$V$2*$AI$2+S12*$V$2*$AJ$2)*$AG12-(P12*$U$2*$AI$2+R12*$U$2*$AJ$2)*$AF12 -> 28274.661 | AR12: =(Q12*$X$2*$AK$2+S12*$X$2*$AL$2)-(P12*$W$2*$AK$2+R12*$W$2*$AL$2) -> 8867.9146 | AS12: =(Q12*$Z$2*$AM$2+S12*$Z$2*$AN$2)-(P12*$Y$2*$AM$2+R12*$Y$2*$AN$2) -> 6704.9523 | AT12: =(S12+Q12)*AE12*$AB$2*$AO$2-(R12+P12)*AD12*$AA$2*$AO$2 -> 0 | AV12: =AQ12/SUM($AQ12:$AT12) -> 0.64484048 | AW12: =AR12/SUM($AQ12:$AT12) -> 0.20224435 | AX12: =AS12/SUM($AQ12:$AT12) -> 0.15291517 | AY12: =AT12/SUM($AQ12:$AT12) -> 0 | BA12: =-AX12*N12*$C$2*(4-1) -> -457.15584 | BC12: =-M12*AV12/20 -> -401.62871 | BD12: =-N12*AV12/20 -> -26.775247 | BE12: =-M12*AY12/2 -> 0 | BF12: =-N12*AY12/2 -> 0 | BH12: =($D$2+$E$2)*M12 -> 3836.6587 | BI12: =((S12+Q12)*$X$2-(R12+P12)*$W$2)*$H$2 -> 7993.6132 | BJ12: =(Q12*$X$2-P12*W12)*$AK$2*$I$2 -> 51394.737 | BK12: =(Q12*$Z$2-P12*$Y$2)*$H$2 -> 8582.339 | BL12: =BA12*10.6 -> -4845.8519 | BM12: =BC12*($F$2+$G$2) -> -610.47563 | BN12: =($D$2+$E$2)*BE12 -> 0 | BP12: =SUM(BH12:BO12) -> 66351.02
A13: 2023 | K13: =M13/365 -> 35.371448 | L13: =N13/365 -> 2.3580965 | M13: =1500/5280*(AQ13+AR13+AS13) -> 12910.578 | N13: =M13/15 -> 860.70523 | P13: =P12*1.02 -> 1566.6516 | Q13: =(Q$21-Q$2)/(20-1)*($A13-$A$2)+Q$2 -> 2700.7105 | R13: =R12*1.02 -> 671.42213 | S13: =(S$21-S$2)/(20-1)*($A13-$A$2)+S$2 -> 1157.4474 | AD13: =R13/(P13+R13) -> 0.3 | AE13: =S13/(Q13+S13) -> 0.3 | AF13: =17774/1800 -> 9.8744444 | AG13: =17774*1.02^($A13-2012)/($Q13+$S13) -> 5.7280535 | AQ13: =(Q13*$V$2*$AI$2+S13*$V$2*$AJ$2)*$AG13-(P13*$U$2*$AI$2+R13*$U$2*$AJ$2)*$AF13 -> 28840.154 | AR13: =(Q13*$X$2*$AK$2+S13*$X$2*$AL$2)-(P13*$W$2*$AK$2+R13*$W$2*$AL$2) -> 9368.1361 | AS13: =(Q13*$Z$2*$AM$2+S13*$Z$2*$AN$2)-(P13*$Y$2*$AM$2+R13*$Y$2*$AN$2) -> 7236.9461 | AT13: =(S13+Q13)*AE13*$AB$2*$AO$2-(R13+P13)*AD13*$AA$2*$AO$2 -> 0 | AV13: =AQ13/SUM($AQ13:$AT13) -> 0.63461336 | AW13: =AR13/SUM($AQ13:$AT13) -> 0.20614121 | AX13: =AS13/SUM($AQ13:$AT13) -> 0.15924543 | AY13: =AT13/SUM($AQ13:$AT13) -> 0 | BA13: =-AX13*N13*$C$2*(4-1) -> -493.42814 | BC13: =-M13*AV13/20 -> -409.66128 | BD13: =-N13*AV13/20 -> -27.310752 | BE13: =-M13*AY13/2 -> 0 | BF13: =-N13*AY13/2 -> 0 | BH13: =($D$2+$E$2)*M13 -> 3976.4582 | BI13: =((S13+Q13)*$X$2-(R13+P13)*$W$2)*$H$2 -> 8444.517 | BJ13: =(Q13*$X$2-P13*W13)*$AK$2*$I$2 -> 54014.211 | BK13: =(Q13*$Z$2-P13*$Y$2)*$H$2 -> 9263.291 | BL13: =BA13*10.6 -> -5230.3383 | BM13: =BC13*($F$2+$G$2) -> -622.68515 | BN13: =($D$2+$E$2)*BE13 -> 0 | BP13: =SUM(BH13:BO13) -> 69845.453
A14: 2024 | K14: =M14/365 -> 36.621399 | L14: =N14/365 -> 2.4414266 | M14: =1500/5280*(AQ14+AR14+AS14) -> 13366.811 | N14: =M14/15 -> 891.12072 | P14: =P13*1.02 -> 1597.9847 | Q14: =(Q$21-Q$2)/(20-1)*($A14-$A$2)+Q$2 -> 2831.6842 | R14: =R13*1.02 -> 684.85057 | S14: =(S$21-S$2)/(20-1)*($A14-$A$2)+S$2 -> 1213.5789 | AD14: =R14/(P14+R14) -> 0.3 | AE14: =S14/(Q14+S14) -> 0.3 | AF14: =17774/1800 -> 9.8744444 | AG14: =17774*1.02^($A14-2012)/($Q14+$S14) -> 5.5723766 | AQ14: =(Q14*$V$2*$AI$2+S14*$V$2*$AJ$2)*$AG14-(P14*$U$2*$AI$2+R14*$U$2*$AJ$2)*$AF14 -> 29416.957 | AR14: =(Q14*$X$2*$AK$2+S14*$X$2*$AL$2)-(P14*$W$2*$AK$2+R14*$W$2*$AL$2) -> 9867.7344 | AS14: =(Q14*$Z$2*$AM$2+S14*$Z$2*$AN$2)-(P14*$Y$2*$AM$2+R14*$Y$2*$AN$2) -> 7766.4824 | AT14: =(S14+Q14)*AE14*$AB$2*$AO$2-(R14+P14)*AD14*$AA$2*$AO$2 -> 0 | AV14: =AQ14/SUM($AQ14:$AT14) -> 0.62521197 | AW14: =AR14/SUM($AQ14:$AT14) -> 0.20972345 | AX14: =AS14/SUM($AQ14:$AT14) -> 0.16506458 | AY14: =AT14/SUM($AQ14:$AT14) -> 0 | BA14: =-AX14*N14*$C$2*(4-1) -> -529.53289 | BC14: =-M14*AV14/20 -> -417.85451 | BD14: =-N14*AV14/20 -> -27.856967 | BE14: =-M14*AY14/2 -> 0 | BF14: =-N14*AY14/2 -> 0 | BH14: =($D$2+$E$2)*M14 -> 4116.9777 | BI14: =((S14+Q14)*$X$2-(R14+P14)*$W$2)*$H$2 -> 8894.8591 | BJ14: =(Q14*$X$2-P14*W14)*$AK$2*$I$2 -> 56633.684 | BK14: =(Q14*$Z$2-P14*$Y$2)*$H$2 -> 9941.0975 | BL14: =BA14*10.6 -> -5613.0486 | BM14: =BC14*($F$2+$G$2) -> -635.13885 | BN14: =($D$2+$E$2)*BE14 -> 0 | BP14: =SUM(BH14:BO14) -> 73338.431
... A20: 2030 | K20: =M20/365 -> 44.262971 | L20: =N20/365 -> 2.9508647 | M20: =1500/5280*(AQ20+AR20+AS20) -> 16155.984 | N20: =M20/15 -> 1077.0656 | P20: =P19*1.02 -> 1799.5903 | Q20: =(Q$21-Q$2)/(20-1)*($A20-$A$2)+Q$2 -> 3617.5263 | R20: =R19*1.02 -> 771.25297 | S20: =(S$21-S$2)/(20-1)*($A20-$A$2)+S$2 -> 1550.3684 | AD20: =R20/(P20+R20) -> 0.3 | AE20: =S20/(Q20+S20) -> 0.3 | AF20: =17774/1800 -> 9.8744444 | AG20: =17774*1.02^($A20-2012)/($Q20+$S20) -> 4.9121838 | AQ20: =(Q20*$V$2*$AI$2+S20*$V$2*$AJ$2)*$AG20-(P20*$U$2*$AI$2+R20*$U$2*$AJ$2)*$AF20 -> 33128.272 | AR20: =(Q20*$X$2*$AK$2+S20*$X$2*$AL$2)-(P20*$W$2*$AK$2+R20*$W$2*$AL$2) -> 12851.522 | AS20: =(Q20*$Z$2*$AM$2+S20*$Z$2*$AN$2)-(P20*$Y$2*$AM$2+R20*$Y$2*$AN$2) -> 10889.27 | AT20: =(S20+Q20)*AE20*$AB$2*$AO$2-(R20+P20)*AD20*$AA$2*$AO$2 -> 0 | AV20: =AQ20/SUM($AQ20:$AT20) -> 0.5825359 | AW20: =AR20/SUM($AQ20:$AT20) -> 0.22598442 | AX20: =AS20/SUM($AQ20:$AT20) -> 0.19147968 | AY20: =AT20/SUM($AQ20:$AT20) -> 0 | BA20: =-AX20*N20*$C$2*(4-1) -> -742.45026 | BC20: =-M20*AV20/20 -> -470.57204 | BD20: =-N20*AV20/20 -> -31.371469 | BE20: =-M20*AY20/2 -> 0 | BF20: =-N20*AY20/2 -> 0 | BH20: =($D$2+$E$2)*M20 -> 4976.0431 | BI20: =((S20+Q20)*$X$2-(R20+P20)*$W$2)*$H$2 -> 11584.471 | BJ20: =(Q20*$X$2-P20*W20)*$AK$2*$I$2 -> 72350.526 | BK20: =(Q20*$Z$2-P20*$Y$2)*$H$2 -> 13938.266 | BL20: =BA20*10.6 -> -7869.9728 | BM20: =BC20*($F$2+$G$2) -> -715.2695 | BN20: =($D$2+$E$2)*BE20 -> 0 | BP20: =SUM(BH20:BO20) -> 94264.064
A21: 2031 | K21: =M21/365 -> 45.561491 | L21: =N21/365 -> 3.0374328 | M21: =1500/5280*(AQ21+AR21+AS21) -> 16629.944 | N21: =M21/15 -> 1108.663 | P21: =P20*1.02 -> 1835.5821 | Q21: =5355*0.7 -> 3748.5 | R21: =R20*1.02 -> 786.67803 | S21: =5355*0.3 -> 1606.5 | AD21: =R21/(P21+R21) -> 0.3 | AE21: =S21/(Q21+S21) -> 0.3 | AF21: =17774/1800 -> 9.8744444 | AG21: =17774*1.02^($A21-2012)/($Q21+$S21) -> 4.8353617 | AQ21: =(Q21*$V$2*$AI$2+S21*$V$2*$AJ$2)*$AG21-(P21*$U$2*$AI$2+R21*$U$2*$AJ$2)*$AF21 -> 33790.837 | AR21: =(Q21*$X$2*$AK$2+S21*$X$2*$AL$2)-(P21*$W$2*$AK$2+R21*$W$2*$AL$2) -> 13346.395 | AS21: =(Q21*$Z$2*$AM$2+S21*$Z$2*$AN$2)-(P21*$Y$2*$AM$2+R21*$Y$2*$AN$2) -> 11400.172 | AT21: =(S21+Q21)*AE21*$AB$2*$AO$2-(R21+P21)*AD21*$AA$2*$AO$2 -> 0 | AV21: =AQ21/SUM($AQ21:$AT21) -> 0.57725206 | AW21: =AR21/SUM($AQ21:$AT21) -> 0.22799773 | AX21: =AS21/SUM($AQ21:$AT21) -> 0.19475021 | AY21: =AT21/SUM($AQ21:$AT21) -> 0 | BA21: =-AX21*N21*$C$2*(4-1) -> -777.28443 | BC21: =-M21*AV21/20 -> -479.98348 | BD21: =-N21*AV21/20 -> -31.998899 | BE21: =-M21*AY21/2 -> 0 | BF21: =-N21*AY21/2 -> 0 | BH21: =($D$2+$E$2)*M21 -> 5122.0229 | BI21: =((S21+Q21)*$X$2-(R21+P21)*$W$2)*$H$2 -> 12030.554 | BJ21: =(Q21*$X$2-P21*W21)*$AK$2*$I$2 -> 74970 | BK21: =(Q21*$Z$2-P21*$Y$2)*$H$2 -> 14592.22 | BL21: =BA21*10.6 -> -8239.215 | BM21: =BC21*($F$2+$G$2) -> -729.57489 | BN21: =($D$2+$E$2)*BE21 -> 0 | BP21: =SUM(BH21:BO21) -> 97746.006

Sheet safetyDetail
B1: BL - #K | C1: BL - #A | D1: BL - #B | E1: BL - #C | F1: BL - #N | G1: CS - #K | H1: CS - #A | I1: CS - #B | J1: CS - #C | K1: CS - #N | L1: $K | M1: $A | N1: $B | O1: $C | P1: $N | Q1: Annual Traffic Growth [Assumed] | R1: BL $ | S1: CS $ | T1: CS Benefit $
A2: 2012 | B2: 0 | C2: 0.2 | D2: 0 | E2: 0 | F2: 2 | G2: 0 | H2: 0.18 | I2: 0 | J2: 0 | K2: 1.5 | L2: 7100000 | M2: 415000 | N2: 137000 | O2: 91000 | P2: 12000 | Q2: 0.02 | R2: =SUMPRODUCT($B$2:$F$2,$L$2:$P$2)*(1+$Q$2)^($A2-2010) -> 111322.8 | S2: =SUMPRODUCT($G$2:$K$2,$L$2:$P$2)*(1+$Q$2)^($A2-2010) -> 96445.08 | T2: =R2-S2 -> 14877.72
A3: 2013 | R3: =SUMPRODUCT($B$2:$F$2,$L$2:$P$2)*(1+$Q$2)^($A3-2010) -> 113549.26 | S3: =SUMPRODUCT($G$2:$K$2,$L$2:$P$2)*(1+$Q$2)^($A3-2010) -> 98373.982 | T3: =R3-S3 -> 15175.274
A4: 2014 | R4: =SUMPRODUCT($B$2:$F$2,$L$2:$P$2)*(1+$Q$2)^($A4-2010) -> 115820.24 | S4: =SUMPRODUCT($G$2:$K$2,$L$2:$P$2)*(1+$Q$2)^($A4-2010) -> 100341.46 | T4: =R4-S4 -> 15478.78
A5: 2015 | R5: =SUMPRODUCT($B$2:$F$2,$L$2:$P$2)*(1+$Q$2)^($A5-2010) -> 118136.65 | S5: =SUMPRODUCT($G$2:$K$2,$L$2:$P$2)*(1+$Q$2)^($A5-2010) -> 102348.29 | T5: =R5-S5 -> 15788.355
A6: 2016 | R6: =SUMPRODUCT($B$2:$F$2,$L$2:$P$2)*(1+$Q$2)^($A6-2010) -> 120499.38 | S6: =SUMPRODUCT($G$2:$K$2,$L$2:$P$2)*(1+$Q$2)^($A6-2010) -> 104395.26 | T6: =R6-S6 -> 16104.123
A7: 2017 | R7: =SUMPRODUCT($B$2:$F$2,$L$2:$P$2)*(1+$Q$2)^($A7-2010) -> 122909.37 | S7: =SUMPRODUCT($G$2:$K$2,$L$2:$P$2)*(1+$Q$2)^($A7-2010) -> 106483.16 | T7: =R7-S7 -> 16426.205
A8: 2018 | R8: =SUMPRODUCT($B$2:$F$2,$L$2:$P$2)*(1+$Q$2)^($A8-2010) -> 125367.55 | S8: =SUMPRODUCT($G$2:$K$2,$L$2:$P$2)*(1+$Q$2)^($A8-2010) -> 108612.82 | T8: =R8-S8 -> 16754.729
A9: 2019 | R9: =SUMPRODUCT($B$2:$F$2,$L$2:$P$2)*(1+$Q$2)^($A9-2010) -> 127874.9 | S9: =SUMPRODUCT($G$2:$K$2,$L$2:$P$2)*(1+$Q$2)^($A9-2010) -> 110785.08 | T9: =R9-S9 -> 17089.824
A10: 2020 | R10: =SUMPRODUCT($B$2:$F$2,$L$2:$P$2)*(1+$Q$2)^($A10-2010) -> 130432.4 | S10: =SUMPRODUCT($G$2:$K$2,$L$2:$P$2)*(1+$Q$2)^($A10-2010) -> 113000.78 | T10: =R10-S10 -> 17431.62
A11: 2021 | R11: =SUMPRODUCT($B$2:$F$2,$L$2:$P$2)*(1+$Q$2)^($A11-2010) -> 133041.05 | S11: =SUMPRODUCT($G$2:$K$2,$L$2:$P$2)*(1+$Q$2)^($A11-2010) -> 115260.8 | T11: =R11-S11 -> 17780.253
A12: 2022 | R12: =SUMPRODUCT($B$2:$F$2,$L$2:$P$2)*(1+$Q$2)^($A12-2010) -> 135701.87 | S12: =SUMPRODUCT($G$2:$K$2,$L$2:$P$2)*(1+$Q$2)^($A12-2010) -> 117566.01 | T12: =R12-S12 -> 18135.858
A13: 2023 | R13: =SUMPRODUCT($B$2:$F$2,$L$2:$P$2)*(1+$Q$2)^($A13-2010) -> 138415.91 | S13: =SUMPRODUCT($G$2:$K$2,$L$2:$P$2)*(1+$Q$2)^($A13-2010) -> 119917.33 | T13: =R13-S13 -> 18498.575
A14: 2024 | R14: =SUMPRODUCT($B$2:$F$2,$L$2:$P$2)*(1+$Q$2)^($A14-2010) -> 141184.23 | S14: =SUMPRODUCT($G$2:$K$2,$L$2:$P$2)*(1+$Q$2)^($A14-2010) -> 122315.68 | T14: =R14-S14 -> 18868.546
... A21: 2031 | R21: =SUMPRODUCT($B$2:$F$2,$L$2:$P$2)*(1+$Q$2)^($A21-2010) -> 162176.3 | S21: =SUMPRODUCT($G$2:$K$2,$L$2:$P$2)*(1+$Q$2)^($A21-2010) -> 140502.27 | T21: =R21-S21 -> 21674.029
