Workbook

Sheet check
A1: Checklist of TIGER II Project Components & Benefit-Cost Analysis Categories: Mankato
A3: Benefit-Cost Item | B3: MA | C3: R22 | D3: TF
A4: Initial (construction/design/land acquisition) | B4: ü | C4: ü | D4: ü
A5: Annual (operating and maintenance) | B5: ü | C5: ü | D5: ü
A6: Salvage Value | B6: ü | C6: ü | D6: ü
A8: Safety | B8: - | C8: ü | D8: -
A9: Auto VHT (value of time + environmental benefits) | B9: ü | C9: ü | D9: -
A10: Auto VMT (operating costs + environmental benefits) | B10: ü | C10: ü | D10: -
A11: Transit VHT | B11: ü | C11: ü | D11: ü
A12: Transit VMT | B12: ü | C12: ü | D12: ü
A13: Bicycle/Pedestrian Health | B13: ü | C13: ü | D13: -
A14: Water Quality | B14: - | C14: - | D14: -
A16: Key | D16: Legend
A17: MA = Madison Avenue | D17: ü: currently reflected in BCA
A18: R22 = Roundabout at Highway 22 intersection | D18: ? : not yet shown in BCA… estimate possible?
A19: TF = Transit Facility | D19: - : not applicable

Sheet notes
A1: assumed:
A2: mode-switching activity analyzed only on local corridor (conservative)
A3: cars/transit/bicycles traverse the local corridor at the same speed; pedestrians travel at quarter-speed
A4: pedestrian mode only considered for Personal/Recreational trips
A5: all new transit/bicycle/pedestrian trips are modeled as shifted from auto (no induced travel) (conservative)
A6: trip-purpose splits (Personal/Recreational versus Commute) follow Mn/DOT default = 70% / 30%

Sheet costs
B1: BL - MA / R22 | C1: BL - TF | E1: CS - MA / R22 | F1: CS - TF | H1: Total (Constant 2010$) | I1: Total (Present Value) | K1: Discount Rate (copied from <benefits>) | L1: ='benefits & sum'!$J$1 -> 0.03
A2: 2012 | B2: =2130000+2000000 -> 4130000 | C2: =716000+647500/20+1474400/20+52800/20 -> 824735 | E2: =8520000+1500000 -> 10020000 | F2: =5024750+557319+518000/20+1179520/20+42240/20 -> 5669057 | H2: =SUM(E2:G2)-SUM(B2:D2) -> 10734322 | I2: =H2/((1+$L$1)^(A2-2010)) -> 10118128
A3: 2013 | C3: =716000+647500/20+1474400/20+52800/20 -> 824735 | F3: =518000/20+1179520/20+42240/20 -> 86988 | H3: =SUM(E3:G3)-SUM(B3:D3) -> -737747 | I3: =H3/((1+$L$1)^(A3-2010)) -> -675143.01
A4: 2014 | C4: =716000+647500/20+1474400/20+52800/20 -> 824735 | F4: =518000/20+1179520/20+42240/20 -> 86988 | H4: =SUM(E4:G4)-SUM(B4:D4) -> -737747 | I4: =H4/((1+$L$1)^(A4-2010)) -> -655478.65
A5: 2015 | C5: =716000+647500/20+1474400/20+52800/20 -> 824735 | F5: =518000/20+1179520/20+42240/20 -> 86988 | H5: =SUM(E5:G5)-SUM(B5:D5) -> -737747 | I5: =H5/((1+$L$1)^(A5-2010)) -> -636387.04
A6: 2016 | C6: =716000+647500/20+1474400/20+52800/20 -> 824735 | F6: =518000/20+1179520/20+42240/20 -> 86988 | H6: =SUM(E6:G6)-SUM(B6:D6) -> -737747 | I6: =H6/((1+$L$1)^(A6-2010)) -> -617851.5
A7: 2017 | B7: 9410000 | C7: =716000+647500/20+1474400/20+52800/20 -> 824735 | F7: =518000/20+1179520/20+42240/20 -> 86988 | H7: =SUM(E7:G7)-SUM(B7:D7) -> -10147747 | I7: =H7/((1+$L$1)^(A7-2010)) -> -8251046.9
A8: 2018 | C8: =716000+647500/20+1474400/20+52800/20 -> 824735 | F8: =518000/20+1179520/20+42240/20 -> 86988 | H8: =SUM(E8:G8)-SUM(B8:D8) -> -737747 | I8: =H8/((1+$L$1)^(A8-2010)) -> -582384.29
A9: 2019 | C9: =716000+647500/20+1474400/20+52800/20 -> 824735 | F9: =518000/20+1179520/20+42240/20 -> 86988 | H9: =SUM(E9:G9)-SUM(B9:D9) -> -737747 | I9: =H9/((1+$L$1)^(A9-2010)) -> -565421.65
A10: 2020 | C10: =716000+647500/20+1474400/20+52800/20 -> 824735 | E10: 240000 | F10: =518000/20+1179520/20+42240/20 -> 86988 | H10: =SUM(E10:G10)-SUM(B10:D10) -> -497747 | I10: =H10/((1+$L$1)^(A10-2010)) -> -370370.51
A11: 2021 | C11: =716000+647500/20+1474400/20+52800/20 -> 824735 | F11: =518000/20+1179520/20+42240/20 -> 86988 | H11: =SUM(E11:G11)-SUM(B11:D11) -> -737747 | I11: =H11/((1+$L$1)^(A11-2010)) -> -532964.13
A12: 2022 | B12: 2300000 | C12: =716000+647500/20+1474400/20+52800/20 -> 824735 | F12: =518000/20+1179520/20+42240/20 -> 86988 | H12: =SUM(E12:G12)-SUM(B12:D12) -> -3037747 | I12: =H12/((1+$L$1)^(A12-2010)) -> -2130614.6
A13: 2023 | C13: =716000+647500/20+1474400/20+52800/20 -> 824735 | F13: =518000/20+1179520/20+42240/20 -> 86988 | H13: =SUM(E13:G13)-SUM(B13:D13) -> -737747 | I13: =H13/((1+$L$1)^(A13-2010)) -> -502369.81
A14: 2024 | C14: =716000+647500/20+1474400/20+52800/20 -> 824735 | F14: =518000/20+1179520/20+42240/20 -> 86988 | H14: =SUM(E14:G14)-SUM(B14:D14) -> -737747 | I14: =H14/((1+$L$1)^(A14-2010)) -> -487737.68
A15: 2025 | C15: =716000+647500/20+1474400/20+52800/20 -> 824735 | F15: =518000/20+1179520/20+42240/20 -> 86988 | H15: =SUM(E15:G15)-SUM(B15:D15) -> -737747 | I15: =H15/((1+$L$1)^(A15-2010)) -> -473531.73
A16: 2026 | C16: =716000+647500/20+1474400/20+52800/20 -> 824735 | F16: =518000/20+1179520/20+42240/20 -> 86988 | H16: =SUM(E16:G16)-SUM(B16:D16) -> -737747 | I16: =H16/((1+$L$1)^(A16-2010)) -> -459739.54
A17: 2027 | B17: 2285000 | C17: =716000+647500/20+1474400/20+52800/20 -> 824735 | E17: 1200000 | F17: =518000/20+1179520/20+42240/20 -> 86988 | H17: =SUM(E17:G17)-SUM(B17:D17) -> -1822747 | I17: =H17/((1+$L$1)^(A17-2010)) -> -1102791.9
A18: 2028 | C18: =716000+647500/20+1474400/20+52800/20 -> 824735 | F18: =518000/20+1179520/20+42240/20 -> 86988 | H18: =SUM(E18:G18)-SUM(B18:D18) -> -737747 | I18: =H18/((1+$L$1)^(A18-2010)) -> -433348.61
A19: 2029 | C19: =716000+647500/20+1474400/20+52800/20 -> 824735 | F19: =518000/20+1179520/20+42240/20 -> 86988 | H19: =SUM(E19:G19)-SUM(B19:D19) -> -737747 | I19: =H19/((1+$L$1)^(A19-2010)) -> -420726.81
A20: 2030 | C20: =716000+647500/20+1474400/20+52800/20 -> 824735 | F20: =518000/20+1179520/20+42240/20 -> 86988 | H20: =SUM(E20:G20)-SUM(B20:D20) -> -737747 | I20: =H20/((1+$L$1)^(A20-2010)) -> -408472.63
A21: 2031 | B21: =690000-500000 -> 190000 | C21: =716000+647500/20+1474400/20+52800/20 -> 824735 | E21: =240000-600000 -> -360000 | F21: =518000/20+1179520/20+42240/20-3222155 -> -3135167 | H21: =SUM(E21:G21)-SUM(B21:D21) -> -4509902 | I21: =H21/((1+$L$1)^(A21-2010)) -> -2424294.6
B22: ^^^ INCORPORATES RESIDUAL VALUE (IF ANY) BEYOND YEAR 20 ^^^
B23: 2012 - 2031 | I23: =SUM(I2:I22) -> -11612548
A26: MA = Madison Avenue
A27: R22 = Roundabout at Highway 22 intersection
A28: TF = Transit Facility

Sheet benefits & sum
B1: CS - MA | C1: CS - R22 | D1: CS - TF | F1: Total (Constant 2010$) | G1: Total (Present Value) | I1: Discount Rate | J1: 0.03
A2: 2012 | B2: =ma!BN2 -> 319982.13 | C2: ='r22'!AE2 -> 1427911.4 | D2: =tf!K2 -> 428520 | F2: =SUM(B2:E2) -> 2176413.5 | G2: =F2/((1+$J$1)^(A2-2010)) -> 2051478.4
A3: 2013 | B3: =ma!BN3 -> 440621.77 | C3: ='r22'!AE3 -> 1516430.9 | D3: =tf!K3 -> 437090.4 | F3: =SUM(B3:E3) -> 2394143.1 | G3: =F3/((1+$J$1)^(A3-2010)) -> 2190980.1
A4: 2014 | B4: =ma!BN4 -> 449434.2 | C4: ='r22'!AE4 -> 1604909.3 | D4: =tf!K4 -> 445832.21 | F4: =SUM(B4:E4) -> 2500175.8 | G4: =F4/((1+$J$1)^(A4-2010)) -> 2221373.8
A5: 2015 | B5: =ma!BN5 -> 458422.89 | C5: ='r22'!AE5 -> 1693345.9 | D5: =tf!K5 -> 454748.85 | F5: =SUM(B5:E5) -> 2606517.6 | G5: =F5/((1+$J$1)^(A5-2010)) -> 2248405
A6: 2016 | B6: =ma!BN6 -> 467591.35 | C6: ='r22'!AE6 -> 1781739.6 | D6: =tf!K6 -> 463843.83 | F6: =SUM(B6:E6) -> 2713174.8 | G6: =F6/((1+$J$1)^(A6-2010)) -> 2272241.2
A7: 2017 | B7: =ma!BN7 -> 476943.17 | C7: ='r22'!AE7 -> 1870089.8 | D7: =tf!K7 -> 473120.71 | F7: =SUM(B7:E7) -> 2820153.7 | G7: =F7/((1+$J$1)^(A7-2010)) -> 2293043
A8: 2018 | B8: =ma!BN8 -> 486482.04 | C8: ='r22'!AE8 -> 1958395.4 | D8: =tf!K8 -> 482583.12 | F8: =SUM(B8:E8) -> 2927460.6 | G8: =F8/((1+$J$1)^(A8-2010)) -> 2310964.4
A9: 2019 | B9: =ma!BN9 -> 496211.68 | C9: ='r22'!AE9 -> 2046655.7 | D9: =tf!K9 -> 492234.78 | F9: =SUM(B9:E9) -> 3035102.2 | G9: =F9/((1+$J$1)^(A9-2010)) -> 2326153.1
A10: 2020 | B10: =ma!BN10 -> 506135.91 | C10: ='r22'!AE10 -> 2134869.7 | D10: =tf!K10 -> 502079.48 | F10: =SUM(B10:E10) -> 3143085.1 | G10: =F10/((1+$J$1)^(A10-2010)) -> 2338750.5
A11: 2021 | B11: =ma!BN11 -> 516258.63 | C11: ='r22'!AE11 -> 2223036.5 | D11: =tf!K11 -> 512121.07 | F11: =SUM(B11:E11) -> 3251416.2 | G11: =F11/((1+$J$1)^(A11-2010)) -> 2348892.3
A12: 2022 | B12: =ma!BN12 -> 526583.8 | C12: ='r22'!AE12 -> 2311155.2 | D12: =tf!K12 -> 522363.49 | F12: =SUM(B12:E12) -> 3360102.4 | G12: =F12/((1+$J$1)^(A12-2010)) -> 2356708.2
A13: 2023 | B13: =ma!BN13 -> 537115.48 | C13: ='r22'!AE13 -> 2399224.7 | D13: =tf!K13 -> 532810.76 | F13: =SUM(B13:E13) -> 3469150.9 | G13: =F13/((1+$J$1)^(A13-2010)) -> 2362323
... A21: 2031 | B21: =ma!BN21 -> 629316.39 | C21: ='r22'!AE21 -> 3101890.4 | D21: =tf!K21 -> 624272.72 | F21: =SUM(B21:E21) -> 4355479.5 | G21: =F21/((1+$J$1)^(A21-2010)) -> 2341284.9
B23: Benefits (Excluding State of Good Repair): 2012 - 2031 | G23: =SUM(G2:G22) -> 46194961
B24: Costs (State of Good Repair Benefits): 2012 - 2031 | G24: =costs!I23 -> -11612548
B25: Total Benefits: 2012 - 2031 | G25: =G23-G24 -> 57807509
B26: Benefit : Cost Ratio | G26: N/A

Sheet ma
B1: Passenger Cost Factor ($/hr), 70% Personal/Rec + 30% Commute [TREDIS] | C1: Passengers per Vehicle [Assumed] | D1: Auto Variable Operating Costs ($/mi) [Mn/DOT Standard] | E1: Auto Environmental Cost ($/mi) [TREDIS, Free Flow] | F1: Transit Variable Operating Costs ($/mi) [TREDIS] | G1: Transit Environmental Cost ($/mi) [TREDIS, Free Flow] | H1: Bicycle / Pedestrian Health Benefit ($/New Cyclist or Pedestrian) [NCHRP] | I1: Bicycle Recreation (Non-Commuting) Benefit ($/hr) [BicyclingInfo.org] | K1: Daily Auto VMT Reduction [Proposal] | L1: Daily Auto VHT Reduction [Proposal] | M1: Annual Auto VMT Reduction, 3-Mile Corridor [Proposal] | N1: Annual Auto VHT Reduction, 15 MPH [Proposal] | P1: BL - District Residents, 2% Annual Growth [Assumed] | Q1: CS - District Residents [Proposal] | R1: BL - District Employee Daily Commutes, 2% Annual Growth [Assumed] | S1: CS - District Employee Daily Commutes [Proposal] | U1: BL - % Likely to Use Transit [Proposal] | V1: CS - % Likely to Use Transit [Proposal] | W1: BL - % Likely to Use Bicycle [Proposal] | X1: CS - % Likely to Use Bicycle [Proposal] | Y1: BL - % Likely to Be Pedestrian [Proposal] | Z1: CS - % Likely to Be Pedestrian [Proposal] | AA1: BL - % Likely to Carpool [Proposal] | AB1: CS - % Likely to Carpool [Proposal] | AD1: BL - Commuter Fraction | AE1: CS - Commuter Fraction | AG1: Transit Annual Days of Usage, Residents [Assumed] | AH1: Transit Annual Days of Usage, Commuters [Assumed] | AI1: Bicycle Annual Days of Usage, Residents [Assumed] | AJ1: Bicycle Annual Days of Usage, Commuters [Mn/DOT Guidance] | AK1: Pedestrian Annual Days, Residents [Assumed] | AL1: Pedestrian Annual Days, Commuters [Assumed] | AM1: Carpool Annual Days of Usage, Commuters [Assumed] | AO1: Annual Increase in Transit Trips | AP1: Annual Increase in Bicycle Trips | AQ1: Annual Increase in Pedestrian Trips | AR1: Annual Increase in Carpool Trips | AT1: Transit Share of Mode Shift | AU1: Bicycle Share of Mode Shift | AV1: Pedestrian Share of Mode Shift | AW1: Carpool Share of Mode Shift | AY1: Annual Travel Time Penalty for Pedestrian Mode Shift (hrs), Quarter of Vehicle Speed [Assumed] | BA1: Annual Transit VMT Increase, One New Transit Trip per 20 Shifted Auto Trips [Assumed] | BB1: Annual Transit VHT Increase, One New Transit Trip per 20 Shifted Auto Trips [Assumed] | BC1: Annual Carpool VMT Increase, One New Carpool Trip per 2 Shifted Auto Trips [Assumed] | BD1: Annual Carpool VHT Increase, One New Carpool Trip per 2 Shifted Auto Trips [Assumed] | BF1: Annual Reduction in Auto Per-Mile Costs | BG1: Annual Bicycle Health Benefit | BH1: Annual Bicycle Recreation Benefit, ½-hour Trip [Assumed] | BI1: Annual Pedestrian Health Benefit | BJ1: Annual Increase in Travel Time Costs for Pedestrian Mode Shift | BK1: Annual Increase in Transit Per-Mile Costs | BL1: Annual Increase in Carpool Per-Mile Costs | BN1: CS Benefit $
A2: 2012 | B2: =70%*10.6+30%*21.2 -> 13.78 | C2: 1.2 | D2: 0.28 | E2: 0.028 | F2: 1.45 | G2: 0.07 | H2: 128 | I2: 10 | K2: =M2/365 -> 931.06849 | L2: =N2/365 -> 62.071233 | M2: =3*(AP2+AQ2) -> 339840 | N2: =M2/15 -> 22656 | P2: =16000*70% -> 11200 | Q2: =P2 -> 11200 | R2: =16000*30% -> 4800 | S2: =R2 -> 4800 | U2: 0.04 | V2: 0.07 | W2: 0.02 | X2: 0.06 | Y2: 0.02 | Z2: 0.04 | AA2: 0 | AB2: 0 | AD2: =R2/(P2+R2) -> 0.3 | AE2: =S2/(Q2+S2) -> 0.3 | AG2: 75 | AH2: 260 | AI2: 100 | AJ2: 240 | AK2: 100 | AL2: 0 | AM2: 260 | AO2: =(Q2*$V$2*$AG$2+S2*$V$2*$AH$2)-(P2*$U$2*$AG$2+R2*$U$2*$AH$2) -> 62640 | AP2: =(Q2*$X$2*$AI$2+S2*$X$2*$AJ$2)-(P2*$W$2*$AI$2+R2*$W$2*$AJ$2) -> 90880 | AQ2: =(Q2*$Z$2*$AK$2+S2*$Z$2*$AL$2)-(P2*$Y$2*$AK$2+R2*$Y$2*$AL$2) -> 22400 | AR2: =(S2+Q2)*AE2*$AB$2*$AM$2-(R2+P2)*AD2*$AA$2*$AM$2 -> 0 | AT2: =AO2/SUM($AO2:$AR2) -> 0.35607094 | AU2: =AP2/SUM($AO2:$AR2) -> 0.51659845 | AV2: =AQ2/SUM($AO2:$AR2) -> 0.1273306 | AW2: =AR2/SUM($AO2:$AR2) -> 0 | AY2: =-AV2*N2*$C$2*(4-1) -> -10385.288 | BA2: =-M2*AT2/20 -> -6050.3574 | BB2: =-N2*AT2/20 -> -403.35716 | BC2: =-M2*AW2/2 -> 0 | BD2: =-N2*AW2/2 -> 0 | BF2: =($D$2+$E$2)*M2 -> 104670.72 | BG2: =((S2+Q2)*$X$2-(R2+P2)*$W$2)*$H$2 -> 81920 | BH2: =(Q2*$X$2-P2*W2)*$AI$2*$I$2/2 -> 224000 | BI2: =(Q2*$Z$2-P2*$Y$2)*$H$2 -> 28672 | BJ2: =AY2*10.6 -> -110084.05 | BK2: =BA2*($F$2+$G$2) -> -9196.5433 | BL2: =($D$2+$E$2)*BC2 -> 0 | BN2: =SUM(BF2:BM2) -> 319982.13
A3: 2013 | K3: =M3/365 -> 949.68986 | L3: =N3/365 -> 63.312658 | M3: =3*(AP3+AQ3) -> 346636.8 | N3: =M3/15 -> 23109.12 | P3: =P2*1.02 -> 11424 | Q3: =P3 -> 11424 | R3: =R2*1.02 -> 4896 | S3: =R3 -> 4896 | AD3: =R3/(P3+R3) -> 0.3 | AE3: =S3/(Q3+S3) -> 0.3 | AO3: =(Q3*$V$2*$AG$2+S3*$V$2*$AH$2)-(P3*$U$2*$AG$2+R3*$U$2*$AH$2) -> 63892.8 | AP3: =(Q3*$X$2*$AI$2+S3*$X$2*$AJ$2)-(P3*$W$2*$AI$2+R3*$W$2*$AJ$2) -> 92697.6 | AQ3: =(Q3*$Z$2*$AK$2+S3*$Z$2*$AL$2)-(P3*$Y$2*$AK$2+R3*$Y$2*$AL$2) -> 22848 | AR3: =(S3+Q3)*AE3*$AB$2*$AM$2-(R3+P3)*AD3*$AA$2*$AM$2 -> 0 | AT3: =AO3/SUM($AO3:$AR3) -> 0.35607094 | AU3: =AP3/SUM($AO3:$AR3) -> 0.51659845 | AV3: =AQ3/SUM($AO3:$AR3) -> 0.1273306 | AW3: =AR3/SUM($AO3:$AR3) -> 0 | AY3: =-AV3*N3*$C$2*(4-1) -> -10592.994 | BA3: =-M3*AT3/20 -> -6171.3646 | BB3: =-N3*AT3/20 -> -411.42431 | BC3: =-M3*AW3/2 -> 0 | BD3: =-N3*AW3/2 -> 0 | BF3: =($D$2+$E$2)*M3 -> 106764.13 | BG3: =((S3+Q3)*$X$2-(R3+P3)*$W$2)*$H$2 -> 83558.4 | BH3: =(Q3*$X$2-P3*W3)*$AI$2*$I$2/2 -> 342720 | BI3: =(Q3*$Z$2-P3*$Y$2)*$H$2 -> 29245.44 | BJ3: =AY3*10.6 -> -112285.73 | BK3: =BA3*($F$2+$G$2) -> -9380.4742 | BL3: =($D$2+$E$2)*BC3 -> 0 | BN3: =SUM(BF3:BM3) -> 440621.77
A4: 2014 | K4: =M4/365 -> 968.68366 | L4: =N4/365 -> 64.578911 | M4: =3*(AP4+AQ4) -> 353569.54 | N4: =M4/15 -> 23571.302 | P4: =P3*1.02 -> 11652.48 | Q4: =P4 -> 11652.48 | R4: =R3*1.02 -> 4993.92 | S4: =R4 -> 4993.92 | AD4: =R4/(P4+R4) -> 0.3 | AE4: =S4/(Q4+S4) -> 0.3 | AO4: =(Q4*$V$2*$AG$2+S4*$V$2*$AH$2)-(P4*$U$2*$AG$2+R4*$U$2*$AH$2) -> 65170.656 | AP4: =(Q4*$X$2*$AI$2+S4*$X$2*$AJ$2)-(P4*$W$2*$AI$2+R4*$W$2*$AJ$2) -> 94551.552 | AQ4: =(Q4*$Z$2*$AK$2+S4*$Z$2*$AL$2)-(P4*$Y$2*$AK$2+R4*$Y$2*$AL$2) -> 23304.96 | AR4: =(S4+Q4)*AE4*$AB$2*$AM$2-(R4+P4)*AD4*$AA$2*$AM$2 -> 0 | AT4: =AO4/SUM($AO4:$AR4) -> 0.35607094 | AU4: =AP4/SUM($AO4:$AR4) -> 0.51659845 | AV4: =AQ4/SUM($AO4:$AR4) -> 0.1273306 | AW4: =AR4/SUM($AO4:$AR4) -> 0 | AY4: =-AV4*N4*$C$2*(4-1) -> -10804.853 | BA4: =-M4*AT4/20 -> -6294.7919 | BB4: =-N4*AT4/20 -> -419.65279 | BC4: =-M4*AW4/2 -> 0 | BD4: =-N4*AW4/2 -> 0 | BF4: =($D$2+$E$2)*M4 -> 108899.42 | BG4: =((S4+Q4)*$X$2-(R4+P4)*$W$2)*$H$2 -> 85229.568 | BH4: =(Q4*$X$2-P4*W4)*$AI$2*$I$2/2 -> 349574.4 | BI4: =(Q4*$Z$2-P4*$Y$2)*$H$2 -> 29830.349 | BJ4: =AY4*10.6 -> -114531.45 | BK4: =BA4*($F$2+$G$2) -> -9568.0837 | BL4: =($D$2+$E$2)*BC4 -> 0 | BN4: =SUM(BF4:BM4) -> 449434.2
A5: 2015 | K5: =M5/365 -> 988.05733 | L5: =N5/365 -> 65.870489 | M5: =3*(AP5+AQ5) -> 360640.93 | N5: =M5/15 -> 24042.728 | P5: =P4*1.02 -> 11885.53 | Q5: =P5 -> 11885.53 | R5: =R4*1.02 -> 5093.7984 | S5: =R5 -> 5093.7984 | AD5: =R5/(P5+R5) -> 0.3 | AE5: =S5/(Q5+S5) -> 0.3 | AO5: =(Q5*$V$2*$AG$2+S5*$V$2*$AH$2)-(P5*$U$2*$AG$2+R5*$U$2*$AH$2) -> 66474.069 | AP5: =(Q5*$X$2*$AI$2+S5*$X$2*$AJ$2)-(P5*$W$2*$AI$2+R5*$W$2*$AJ$2) -> 96442.583 | AQ5: =(Q5*$Z$2*$AK$2+S5*$Z$2*$AL$2)-(P5*$Y$2*$AK$2+R5*$Y$2*$AL$2) -> 23771.059 | AR5: =(S5+Q5)*AE5*$AB$2*$AM$2-(R5+P5)*AD5*$AA$2*$AM$2 -> 0 | AT5: =AO5/SUM($AO5:$AR5) -> 0.35607094 | AU5: =AP5/SUM($AO5:$AR5) -> 0.51659845 | AV5: =AQ5/SUM($AO5:$AR5) -> 0.1273306 | AW5: =AR5/SUM($AO5:$AR5) -> 0 | AY5: =-AV5*N5*$C$2*(4-1) -> -11020.951 | BA5: =-M5*AT5/20 -> -6420.6877 | BB5: =-N5*AT5/20 -> -428.04585 | BC5: =-M5*AW5/2 -> 0 | BD5: =-N5*AW5/2 -> 0 | BF5: =($D$2+$E$2)*M5 -> 111077.41 | BG5: =((S5+Q5)*$X$2-(R5+P5)*$W$2)*$H$2 -> 86934.159 | BH5: =(Q5*$X$2-P5*W5)*$AI$2*$I$2/2 -> 356565.89 | BI5: =(Q5*$Z$2-P5*$Y$2)*$H$2 -> 30426.956 | BJ5: =AY5*10.6 -> -116822.08 | BK5: =BA5*($F$2+$G$2) -> -9759.4453 | BL5: =($D$2+$E$2)*BC5 -> 0 | BN5: =SUM(BF5:BM5) -> 458422.89
A6: 2016 | K6: =M6/365 -> 1007.8185 | L6: =N6/365 -> 67.187899 | M6: =3*(AP6+AQ6) -> 367853.75 | N6: =M6/15 -> 24523.583 | P6: =P5*1.02 -> 12123.24 | Q6: =P6 -> 12123.24 | R6: =R5*1.02 -> 5195.6744 | S6: =R6 -> 5195.6744 | AD6: =R6/(P6+R6) -> 0.3 | AE6: =S6/(Q6+S6) -> 0.3 | AO6: =(Q6*$V$2*$AG$2+S6*$V$2*$AH$2)-(P6*$U$2*$AG$2+R6*$U$2*$AH$2) -> 67803.551 | AP6: =(Q6*$X$2*$AI$2+S6*$X$2*$AJ$2)-(P6*$W$2*$AI$2+R6*$W$2*$AJ$2) -> 98371.435 | AQ6: =(Q6*$Z$2*$AK$2+S6*$Z$2*$AL$2)-(P6*$Y$2*$AK$2+R6*$Y$2*$AL$2) -> 24246.48 | AR6: =(S6+Q6)*AE6*$AB$2*$AM$2-(R6+P6)*AD6*$AA$2*$AM$2 -> 0 | AT6: =AO6/SUM($AO6:$AR6) -> 0.35607094 | AU6: =AP6/SUM($AO6:$AR6) -> 0.51659845 | AV6: =AQ6/SUM($AO6:$AR6) -> 0.1273306 | AW6: =AR6/SUM($AO6:$AR6) -> 0 | AY6: =-AV6*N6*$C$2*(4-1) -> -11241.37 | BA6: =-M6*AT6/20 -> -6549.1015 | BB6: =-N6*AT6/20 -> -436.60676 | BC6: =-M6*AW6/2 -> 0 | BD6: =-N6*AW6/2 -> 0 | BF6: =($D$2+$E$2)*M6 -> 113298.95 | BG6: =((S6+Q6)*$X$2-(R6+P6)*$W$2)*$H$2 -> 88672.843 | BH6: =(Q6*$X$2-P6*W6)*$AI$2*$I$2/2 -> 363697.21 | BI6: =(Q6*$Z$2-P6*$Y$2)*$H$2 -> 31035.495 | BJ6: =AY6*10.6 -> -119158.52 | BK6: =BA6*($F$2+$G$2) -> -9954.6342 | BL6: =($D$2+$E$2)*BC6 -> 0 | BN6: =SUM(BF6:BM6) -> 467591.35
A7: 2017 | K7: =M7/365 -> 1027.9748 | L7: =N7/365 -> 68.531657 | M7: =3*(AP7+AQ7) -> 375210.82 | N7: =M7/15 -> 25014.055 | P7: =P6*1.02 -> 12365.705 | Q7: =P7 -> 12365.705 | R7: =R6*1.02 -> 5299.5879 | S7: =R7 -> 5299.5879 | AD7: =R7/(P7+R7) -> 0.3 | AE7: =S7/(Q7+S7) -> 0.3 | AO7: =(Q7*$V$2*$AG$2+S7*$V$2*$AH$2)-(P7*$U$2*$AG$2+R7*$U$2*$AH$2) -> 69159.622 | AP7: =(Q7*$X$2*$AI$2+S7*$X$2*$AJ$2)-(P7*$W$2*$AI$2+R7*$W$2*$AJ$2) -> 100338.86 | AQ7: =(Q7*$Z$2*$AK$2+S7*$Z$2*$AL$2)-(P7*$Y$2*$AK$2+R7*$Y$2*$AL$2) -> 24731.41 | AR7: =(S7+Q7)*AE7*$AB$2*$AM$2-(R7+P7)*AD7*$AA$2*$AM$2 -> 0 | AT7: =AO7/SUM($AO7:$AR7) -> 0.35607094 | AU7: =AP7/SUM($AO7:$AR7) -> 0.51659845 | AV7: =AQ7/SUM($AO7:$AR7) -> 0.1273306 | AW7: =AR7/SUM($AO7:$AR7) -> 0 | AY7: =-AV7*N7*$C$2*(4-1) -> -11466.197 | BA7: =-M7*AT7/20 -> -6680.0835 | BB7: =-N7*AT7/20 -> -445.3389 | BC7: =-M7*AW7/2 -> 0 | BD7: =-N7*AW7/2 -> 0 | BF7: =($D$2+$E$2)*M7 -> 115564.93 | BG7: =((S7+Q7)*$X$2-(R7+P7)*$W$2)*$H$2 -> 90446.299 | BH7: =(Q7*$X$2-P7*W7)*$AI$2*$I$2/2 -> 370971.15 | BI7: =(Q7*$Z$2-P7*$Y$2)*$H$2 -> 31656.205 | BJ7: =AY7*10.6 -> -121541.69 | BK7: =BA7*($F$2+$G$2) -> -10153.727 | BL7: =($D$2+$E$2)*BC7 -> 0 | BN7: =SUM(BF7:BM7) -> 476943.17
A8: 2018 | K8: =M8/365 -> 1048.5343 | L8: =N8/365 -> 69.90229 | M8: =3*(AP8+AQ8) -> 382715.04 | N8: =M8/15 -> 25514.336 | P8: =P7*1.02 -> 12613.019 | Q8: =P8 -> 12613.019 | R8: =R7*1.02 -> 5405.5796 | S8: =R8 -> 5405.5796 | AD8: =R8/(P8+R8) -> 0.3 | AE8: =S8/(Q8+S8) -> 0.3 | AO8: =(Q8*$V$2*$AG$2+S8*$V$2*$AH$2)-(P8*$U$2*$AG$2+R8*$U$2*$AH$2) -> 70542.814 | AP8: =(Q8*$X$2*$AI$2+S8*$X$2*$AJ$2)-(P8*$W$2*$AI$2+R8*$W$2*$AJ$2) -> 102345.64 | AQ8: =(Q8*$Z$2*$AK$2+S8*$Z$2*$AL$2)-(P8*$Y$2*$AK$2+R8*$Y$2*$AL$2) -> 25226.038 | AR8: =(S8+Q8)*AE8*$AB$2*$AM$2-(R8+P8)*AD8*$AA$2*$AM$2 -> 0 | AT8: =AO8/SUM($AO8:$AR8) -> 0.35607094 | AU8: =AP8/SUM($AO8:$AR8) -> 0.51659845 | AV8: =AQ8/SUM($AO8:$AR8) -> 0.1273306 | AW8: =AR8/SUM($AO8:$AR8) -> 0 | AY8: =-AV8*N8*$C$2*(4-1) -> -11695.521 | BA8: =-M8*AT8/20 -> -6813.6852 | BB8: =-N8*AT8/20 -> -454.24568 | BC8: =-M8*AW8/2 -> 0 | BD8: =-N8*AW8/2 -> 0 | BF8: =($D$2+$E$2)*M8 -> 117876.23 | BG8: =((S8+Q8)*$X$2-(R8+P8)*$W$2)*$H$2 -> 92255.225 | BH8: =(Q8*$X$2-P8*W8)*$AI$2*$I$2/2 -> 378390.57 | BI8: =(Q8*$Z$2-P8*$Y$2)*$H$2 -> 32289.329 | BJ8: =AY8*10.6 -> -123972.52 | BK8: =BA8*($F$2+$G$2) -> -10356.801 | BL8: =($D$2+$E$2)*BC8 -> 0 | BN8: =SUM(BF8:BM8) -> 486482.04
A9: 2019 | K9: =M9/365 -> 1069.505 | L9: =N9/365 -> 71.300336 | M9: =3*(AP9+AQ9) -> 390369.34 | N9: =M9/15 -> 26024.622 | P9: =P8*1.02 -> 12865.279 | Q9: =P9 -> 12865.279 | R9: =R8*1.02 -> 5513.6912 | S9: =R9 -> 5513.6912 | AD9: =R9/(P9+R9) -> 0.3 | AE9: =S9/(Q9+S9) -> 0.3 | AO9: =(Q9*$V$2*$AG$2+S9*$V$2*$AH$2)-(P9*$U$2*$AG$2+R9*$U$2*$AH$2) -> 71953.67 | AP9: =(Q9*$X$2*$AI$2+S9*$X$2*$AJ$2)-(P9*$W$2*$AI$2+R9*$W$2*$AJ$2) -> 104392.55 | AQ9: =(Q9*$Z$2*$AK$2+S9*$Z$2*$AL$2)-(P9*$Y$2*$AK$2+R9*$Y$2*$AL$2) -> 25730.559 | AR9: =(S9+Q9)*AE9*$AB$2*$AM$2-(R9+P9)*AD9*$AA$2*$AM$2 -> 0 | AT9: =AO9/SUM($AO9:$AR9) -> 0.35607094 | AU9: =AP9/SUM($AO9:$AR9) -> 0.51659845 | AV9: =AQ9/SUM($AO9:$AR9) -> 0.1273306 | AW9: =AR9/SUM($AO9:$AR9) -> 0 | AY9: =-AV9*N9*$C$2*(4-1) -> -11929.431 | BA9: =-M9*AT9/20 -> -6949.9589 | BB9: =-N9*AT9/20 -> -463.33059 | BC9: =-M9*AW9/2 -> 0 | BD9: =-N9*AW9/2 -> 0 | BF9: =($D$2+$E$2)*M9 -> 120233.76 | BG9: =((S9+Q9)*$X$2-(R9+P9)*$W$2)*$H$2 -> 94100.33 | BH9: =(Q9*$X$2-P9*W9)*$AI$2*$I$2/2 -> 385958.38 | BI9: =(Q9*$Z$2-P9*$Y$2)*$H$2 -> 32935.115 | BJ9: =AY9*10.6 -> -126451.97 | BK9: =BA9*($F$2+$G$2) -> -10563.937 | BL9: =($D$2+$E$2)*BC9 -> 0 | BN9: =SUM(BF9:BM9) -> 496211.68
A10: 2020 | K10: =M10/365 -> 1090.8951 | L10: =N10/365 -> 72.726342 | M10: =3*(AP10+AQ10) -> 398176.72 | N10: =M10/15 -> 26545.115 | P10: =P9*1.02 -> 13122.585 | Q10: =P10 -> 13122.585 | R10: =R9*1.02 -> 5623.965 | S10: =R10 -> 5623.965 | AD10: =R10/(P10+R10) -> 0.3 | AE10: =S10/(Q10+S10) -> 0.3 | AO10: =(Q10*$V$2*$AG$2+S10*$V$2*$AH$2)-(P10*$U$2*$AG$2+R10*$U$2*$AH$2) -> 73392.744 | AP10: =(Q10*$X$2*$AI$2+S10*$X$2*$AJ$2)-(P10*$W$2*$AI$2+R10*$W$2*$AJ$2) -> 106480.4 | AQ10: =(Q10*$Z$2*$AK$2+S10*$Z$2*$AL$2)-(P10*$Y$2*$AK$2+R10*$Y$2*$AL$2) -> 26245.17 | AR10: =(S10+Q10)*AE10*$AB$2*$AM$2-(R10+P10)*AD10*$AA$2*$AM$2 -> 0 | AT10: =AO10/SUM($AO10:$AR10) -> 0.35607094 | AU10: =AP10/SUM($AO10:$AR10) -> 0.51659845 | AV10: =AQ10/SUM($AO10:$AR10) -> 0.1273306 | AW10: =AR10/SUM($AO10:$AR10) -> 0 | AY10: =-AV10*N10*$C$2*(4-1) -> -12168.02 | BA10: =-M10*AT10/20 -> -7088.958 | BB10: =-N10*AT10/20 -> -472.5972 | BC10: =-M10*AW10/2 -> 0 | BD10: =-N10*AW10/2 -> 0 | BF10: =($D$2+$E$2)*M10 -> 122638.43 | BG10: =((S10+Q10)*$X$2-(R10+P10)*$W$2)*$H$2 -> 95982.336 | BH10: =(Q10*$X$2-P10*W10)*$AI$2*$I$2/2 -> 393677.55 | BI10: =(Q10*$Z$2-P10*$Y$2)*$H$2 -> 33593.818 | BJ10: =AY10*10.6 -> -128981.01 | BK10: =BA10*($F$2+$G$2) -> -10775.216 | BL10: =($D$2+$E$2)*BC10 -> 0 | BN10: =SUM(BF10:BM10) -> 506135.91
A11: 2021 | K11: =M11/365 -> 1112.713 | L11: =N11/365 -> 74.180869 | M11: =3*(AP11+AQ11) -> 406140.26 | N11: =M11/15 -> 27076.017 | P11: =P10*1.02 -> 13385.037 | Q11: =P11 -> 13385.037 | R11: =R10*1.02 -> 5736.4443 | S11: =R11 -> 5736.4443 | AD11: =R11/(P11+R11) -> 0.3 | AE11: =S11/(Q11+S11) -> 0.3 | AO11: =(Q11*$V$2*$AG$2+S11*$V$2*$AH$2)-(P11*$U$2*$AG$2+R11*$U$2*$AH$2) -> 74860.598 | AP11: =(Q11*$X$2*$AI$2+S11*$X$2*$AJ$2)-(P11*$W$2*$AI$2+R11*$W$2*$AJ$2) -> 108610.01 | AQ11: =(Q11*$Z$2*$AK$2+S11*$Z$2*$AL$2)-(P11*$Y$2*$AK$2+R11*$Y$2*$AL$2) -> 26770.074 | AR11: =(S11+Q11)*AE11*$AB$2*$AM$2-(R11+P11)*AD11*$AA$2*$AM$2 -> 0 | AT11: =AO11/SUM($AO11:$AR11) -> 0.35607094 | AU11: =AP11/SUM($AO11:$AR11) -> 0.51659845 | AV11: =AQ11/SUM($AO11:$AR11) -> 0.1273306 | AW11: =AR11/SUM($AO11:$AR11) -> 0 | AY11: =-AV11*N11*$C$2*(4-1) -> -12411.38 | BA11: =-M11*AT11/20 -> -7230.7372 | BB11: =-N11*AT11/20 -> -482.04915 | BC11: =-M11*AW11/2 -> 0 | BD11: =-N11*AW11/2 -> 0 | BF11: =($D$2+$E$2)*M11 -> 125091.2 | BG11: =((S11+Q11)*$X$2-(R11+P11)*$W$2)*$H$2 -> 97901.983 | BH11: =(Q11*$X$2-P11*W11)*$AI$2*$I$2/2 -> 401551.1 | BI11: =(Q11*$Z$2-P11*$Y$2)*$H$2 -> 34265.694 | BJ11: =AY11*10.6 -> -131560.63 | BK11: =BA11*($F$2+$G$2) -> -10990.721 | BL11: =($D$2+$E$2)*BC11 -> 0 | BN11: =SUM(BF11:BM11) -> 516258.63
A12: 2022 | K12: =M12/365 -> 1134.9673 | L12: =N12/365 -> 75.664487 | M12: =3*(AP12+AQ12) -> 414263.06 | N12: =M12/15 -> 27617.538 | P12: =P11*1.02 -> 13652.738 | Q12: =P12 -> 13652.738 | R12: =R11*1.02 -> 5851.1732 | S12: =R12 -> 5851.1732 | AD12: =R12/(P12+R12) -> 0.3 | AE12: =S12/(Q12+S12) -> 0.3 | AO12: =(Q12*$V$2*$AG$2+S12*$V$2*$AH$2)-(P12*$U$2*$AG$2+R12*$U$2*$AH$2) -> 76357.81 | AP12: =(Q12*$X$2*$AI$2+S12*$X$2*$AJ$2)-(P12*$W$2*$AI$2+R12*$W$2*$AJ$2) -> 110782.21 | AQ12: =(Q12*$Z$2*$AK$2+S12*$Z$2*$AL$2)-(P12*$Y$2*$AK$2+R12*$Y$2*$AL$2) -> 27305.475 | AR12: =(S12+Q12)*AE12*$AB$2*$AM$2-(R12+P12)*AD12*$AA$2*$AM$2 -> 0 | AT12: =AO12/SUM($AO12:$AR12) -> 0.35607094 | AU12: =AP12/SUM($AO12:$AR12) -> 0.51659845 | AV12: =AQ12/SUM($AO12:$AR12) -> 0.1273306 | AW12: =AR12/SUM($AO12:$AR12) -> 0 | AY12: =-AV12*N12*$C$2*(4-1) -> -12659.608 | BA12: =-M12*AT12/20 -> -7375.352 | BB12: =-N12*AT12/20 -> -491.69013 | BC12: =-M12*AW12/2 -> 0 | BD12: =-N12*AW12/2 -> 0 | BF12: =($D$2+$E$2)*M12 -> 127593.02 | BG12: =((S12+Q12)*$X$2-(R12+P12)*$W$2)*$H$2 -> 99860.023 | BH12: =(Q12*$X$2-P12*W12)*$AI$2*$I$2/2 -> 409582.13 | BI12: =(Q12*$Z$2-P12*$Y$2)*$H$2 -> 34951.008 | BJ12: =AY12*10.6 -> -134191.84 | BK12: =BA12*($F$2+$G$2) -> -11210.535 | BL12: =($D$2+$E$2)*BC12 -> 0 | BN12: =SUM(BF12:BM12) -> 526583.8
A13: 2023 | K13: =M13/365 -> 1157.6666 | L13: =N13/365 -> 77.177776 | M13: =3*(AP13+AQ13) -> 422548.32 | N13: =M13/15 -> 28169.888 | P13: =P12*1.02 -> 13925.792 | Q13: =P13 -> 13925.792 | R13: =R12*1.02 -> 5968.1967 | S13: =R13 -> 5968.1967 | AD13: =R13/(P13+R13) -> 0.3 | AE13: =S13/(Q13+S13) -> 0.3 | AO13: =(Q13*$V$2*$AG$2+S13*$V$2*$AH$2)-(P13*$U$2*$AG$2+R13*$U$2*$AH$2) -> 77884.967 | AP13: =(Q13*$X$2*$AI$2+S13*$X$2*$AJ$2)-(P13*$W$2*$AI$2+R13*$W$2*$AJ$2) -> 112997.86 | AQ13: =(Q13*$Z$2*$AK$2+S13*$Z$2*$AL$2)-(P13*$Y$2*$AK$2+R13*$Y$2*$AL$2) -> 27851.585 | AR13: =(S13+Q13)*AE13*$AB$2*$AM$2-(R13+P13)*AD13*$AA$2*$AM$2 -> 0 | AT13: =AO13/SUM($AO13:$AR13) -> 0.35607094 | AU13: =AP13/SUM($AO13:$AR13) -> 0.51659845 | AV13: =AQ13/SUM($AO13:$AR13) -> 0.1273306 | AW13: =AR13/SUM($AO13:$AR13) -> 0 | AY13: =-AV13*N13*$C$2*(4-1) -> -12912.8 | BA13: =-M13*AT13/20 -> -7522.859 | BB13: =-N13*AT13/20 -> -501.52393 | BC13: =-M13*AW13/2 -> 0 | BD13: =-N13*AW13/2 -> 0 | BF13: =($D$2+$E$2)*M13 -> 130144.88 | BG13: =((S13+Q13)*$X$2-(R13+P13)*$W$2)*$H$2 -> 101857.22 | BH13: =(Q13*$X$2-P13*W13)*$AI$2*$I$2/2 -> 417773.77 | BI13: =(Q13*$Z$2-P13*$Y$2)*$H$2 -> 35650.028 | BJ13: =AY13*10.6 -> -136875.68 | BK13: =BA13*($F$2+$G$2) -> -11434.746 | BL13: =($D$2+$E$2)*BC13 -> 0 | BN13: =SUM(BF13:BM13) -> 537115.48
A14: 2024 | K14: =M14/365 -> 1180.82 | L14: =N14/365 -> 78.721332 | M14: =3*(AP14+AQ14) -> 430999.29 | N14: =M14/15 -> 28733.286 | P14: =P13*1.02 -> 14204.308 | Q14: =P14 -> 14204.308 | R14: =R13*1.02 -> 6087.5606 | S14: =R14 -> 6087.5606 | AD14: =R14/(P14+R14) -> 0.3 | AE14: =S14/(Q14+S14) -> 0.3 | AO14: =(Q14*$V$2*$AG$2+S14*$V$2*$AH$2)-(P14*$U$2*$AG$2+R14*$U$2*$AH$2) -> 79442.666 | AP14: =(Q14*$X$2*$AI$2+S14*$X$2*$AJ$2)-(P14*$W$2*$AI$2+R14*$W$2*$AJ$2) -> 115257.81 | AQ14: =(Q14*$Z$2*$AK$2+S14*$Z$2*$AL$2)-(P14*$Y$2*$AK$2+R14*$Y$2*$AL$2) -> 28408.616 | AR14: =(S14+Q14)*AE14*$AB$2*$AM$2-(R14+P14)*AD14*$AA$2*$AM$2 -> 0 | AT14: =AO14/SUM($AO14:$AR14) -> 0.35607094 | AU14: =AP14/SUM($AO14:$AR14) -> 0.51659845 | AV14: =AQ14/SUM($AO14:$AR14) -> 0.1273306 | AW14: =AR14/SUM($AO14:$AR14) -> 0 | AY14: =-AV14*N14*$C$2*(4-1) -> -13171.056 | BA14: =-M14*AT14/20 -> -7673.3162 | BB14: =-N14*AT14/20 -> -511.55441 | BC14: =-M14*AW14/2 -> 0 | BD14: =-N14*AW14/2 -> 0 | BF14: =($D$2+$E$2)*M14 -> 132747.78 | BG14: =((S14+Q14)*$X$2-(R14+P14)*$W$2)*$H$2 -> 103894.37 | BH14: =(Q14*$X$2-P14*W14)*$AI$2*$I$2/2 -> 426129.24 | BI14: =(Q14*$Z$2-P14*$Y$2)*$H$2 -> 36363.029 | BJ14: =AY14*10.6 -> -139613.19 | BK14: =BA14*($F$2+$G$2) -> -11663.441 | BL14: =($D$2+$E$2)*BC14 -> 0 | BN14: =SUM(BF14:BM14) -> 547857.79
... A21: 2031 | K21: =M21/365 -> 1356.391 | L21: =N21/365 -> 90.426066 | M21: =3*(AP21+AQ21) -> 495082.71 | N21: =M21/15 -> 33005.514 | P21: =P20*1.02 -> 16316.285 | Q21: =P21 -> 16316.285 | R21: =R20*1.02 -> 6992.6936 | S21: =R21 -> 6992.6936 | AD21: =R21/(P21+R21) -> 0.3 | AE21: =S21/(Q21+S21) -> 0.3 | AO21: =(Q21*$V$2*$AG$2+S21*$V$2*$AH$2)-(P21*$U$2*$AG$2+R21*$U$2*$AH$2) -> 91254.652 | AP21: =(Q21*$X$2*$AI$2+S21*$X$2*$AJ$2)-(P21*$W$2*$AI$2+R21*$W$2*$AJ$2) -> 132395 | AQ21: =(Q21*$Z$2*$AK$2+S21*$Z$2*$AL$2)-(P21*$Y$2*$AK$2+R21*$Y$2*$AL$2) -> 32632.57 | AR21: =(S21+Q21)*AE21*$AB$2*$AM$2-(R21+P21)*AD21*$AA$2*$AM$2 -> 0 | AT21: =AO21/SUM($AO21:$AR21) -> 0.35607094 | AU21: =AP21/SUM($AO21:$AR21) -> 0.51659845 | AV21: =AQ21/SUM($AO21:$AR21) -> 0.1273306 | AW21: =AR21/SUM($AO21:$AR21) -> 0 | AY21: =-AV21*N21*$C$2*(4-1) -> -15129.403 | BA21: =-M21*AT21/20 -> -8814.2283 | BB21: =-N21*AT21/20 -> -587.61522 | BC21: =-M21*AW21/2 -> 0 | BD21: =-N21*AW21/2 -> 0 | BF21: =($D$2+$E$2)*M21 -> 152485.47 | BG21: =((S21+Q21)*$X$2-(R21+P21)*$W$2)*$H$2 -> 119341.97 | BH21: =(Q21*$X$2-P21*W21)*$AI$2*$I$2/2 -> 489488.55 | BI21: =(Q21*$Z$2-P21*$Y$2)*$H$2 -> 41769.69 | BJ21: =AY21*10.6 -> -160371.68 | BK21: =BA21*($F$2+$G$2) -> -13397.627 | BL21: =($D$2+$E$2)*BC21 -> 0 | BN21: =SUM(BF21:BM21) -> 629316.39

Sheet r22
B1: Passenger Cost Factor ($/hr), 70% Personal/Rec + 30% Commute [TREDIS] | C1: Passengers per Vehicle [Assumed] | D1: Environmental Cost ($/hr) [TREDIS] | F1: Daily Auto VHT Reduction [Proposal] | G1: Annual Auto VHT Reduction [Proposal] | I1: Annual Delay Cost Reduction | K1: BL - #K | L1: BL - #A | M1: BL - #B | N1: BL - #C | O1: BL - #N | P1: CS - #K | Q1: CS - #A | R1: CS - #B | S1: CS - #C | T1: CS - #N | U1: $K | V1: $A | W1: $B | X1: $C | Y1: $N | Z1: Annual Traffic Growth [Assumed] | AA1: BL $ | AB1: CS $ | AC1: Annual Safety Disbenefit from Higher Accident Frequency | AE1: Net Benefit of Roundabout Installation
A2: 2012 | B2: =70%*10.6+30%*21.2 -> 13.78 | C2: 1.2 | D2: 0.096 | F2: 252.14 | G2: =F2*365 -> 92031.1 | I2: =$B$2*$C$2*G2+$D$2*G2 -> 1530661.3 | K2: 0 | L2: 0.1 | M2: 0.1 | N2: 0.2 | O2: 1.2 | P2: 0 | Q2: 0.12 | R2: 0.12 | S2: 0.32 | T2: 7.6 | U2: 7100000 | V2: 415000 | W2: 137000 | X2: 91000 | Y2: 12000 | Z2: 0.02 | AA2: =SUMPRODUCT($K$2:$O$2,$U$2:$Y$2)*(1+$Z$2)^($A2-2010) -> 91347.12 | AB2: =SUMPRODUCT($P$2:$T$2,$U$2:$Y$2)*(1+$Z$2)^($A2-2010) -> 194097.02 | AC2: =AA2-AB2 -> -102749.9 | AE2: =I2+AC2 -> 1427911.4
A3: 2013 | F3: =($F$12-$F$2)/(11-1)*($A3-$A$2)+$F$2 -> 267.06 | G3: =F3*365 -> 97476.9 | I3: =$B$2*$C$2*G3+$D$2*G3 -> 1621235.8 | AA3: =SUMPRODUCT($K$2:$O$2,$U$2:$Y$2)*(1+$Z$2)^($A3-2010) -> 93174.062 | AB3: =SUMPRODUCT($P$2:$T$2,$U$2:$Y$2)*(1+$Z$2)^($A3-2010) -> 197978.96 | AC3: =AA3-AB3 -> -104804.9 | AE3: =I3+AC3 -> 1516430.9
A4: 2014 | F4: =($F$12-$F$2)/(11-1)*($A4-$A$2)+$F$2 -> 281.98 | G4: =F4*365 -> 102922.7 | I4: =$B$2*$C$2*G4+$D$2*G4 -> 1711810.3 | AA4: =SUMPRODUCT($K$2:$O$2,$U$2:$Y$2)*(1+$Z$2)^($A4-2010) -> 95037.544 | AB4: =SUMPRODUCT($P$2:$T$2,$U$2:$Y$2)*(1+$Z$2)^($A4-2010) -> 201938.54 | AC4: =AA4-AB4 -> -106901 | AE4: =I4+AC4 -> 1604909.3
A5: 2015 | F5: =($F$12-$F$2)/(11-1)*($A5-$A$2)+$F$2 -> 296.9 | G5: =F5*365 -> 108368.5 | I5: =$B$2*$C$2*G5+$D$2*G5 -> 1802384.9 | AA5: =SUMPRODUCT($K$2:$O$2,$U$2:$Y$2)*(1+$Z$2)^($A5-2010) -> 96938.295 | AB5: =SUMPRODUCT($P$2:$T$2,$U$2:$Y$2)*(1+$Z$2)^($A5-2010) -> 205977.31 | AC5: =AA5-AB5 -> -109039.02 | AE5: =I5+AC5 -> 1693345.9
A6: 2016 | F6: =($F$12-$F$2)/(11-1)*($A6-$A$2)+$F$2 -> 311.82 | G6: =F6*365 -> 113814.3 | I6: =$B$2*$C$2*G6+$D$2*G6 -> 1892959.4 | AA6: =SUMPRODUCT($K$2:$O$2,$U$2:$Y$2)*(1+$Z$2)^($A6-2010) -> 98877.06 | AB6: =SUMPRODUCT($P$2:$T$2,$U$2:$Y$2)*(1+$Z$2)^($A6-2010) -> 210096.86 | AC6: =AA6-AB6 -> -111219.8 | AE6: =I6+AC6 -> 1781739.6
A7: 2017 | F7: =($F$12-$F$2)/(11-1)*($A7-$A$2)+$F$2 -> 326.74 | G7: =F7*365 -> 119260.1 | I7: =$B$2*$C$2*G7+$D$2*G7 -> 1983534 | AA7: =SUMPRODUCT($K$2:$O$2,$U$2:$Y$2)*(1+$Z$2)^($A7-2010) -> 100854.6 | AB7: =SUMPRODUCT($P$2:$T$2,$U$2:$Y$2)*(1+$Z$2)^($A7-2010) -> 214298.8 | AC7: =AA7-AB7 -> -113444.2 | AE7: =I7+AC7 -> 1870089.8
A8: 2018 | F8: =($F$12-$F$2)/(11-1)*($A8-$A$2)+$F$2 -> 341.66 | G8: =F8*365 -> 124705.9 | I8: =$B$2*$C$2*G8+$D$2*G8 -> 2074108.5 | AA8: =SUMPRODUCT($K$2:$O$2,$U$2:$Y$2)*(1+$Z$2)^($A8-2010) -> 102871.69 | AB8: =SUMPRODUCT($P$2:$T$2,$U$2:$Y$2)*(1+$Z$2)^($A8-2010) -> 218584.77 | AC8: =AA8-AB8 -> -115713.08 | AE8: =I8+AC8 -> 1958395.4
A9: 2019 | F9: =($F$12-$F$2)/(11-1)*($A9-$A$2)+$F$2 -> 356.58 | G9: =F9*365 -> 130151.7 | I9: =$B$2*$C$2*G9+$D$2*G9 -> 2164683.1 | AA9: =SUMPRODUCT($K$2:$O$2,$U$2:$Y$2)*(1+$Z$2)^($A9-2010) -> 104929.13 | AB9: =SUMPRODUCT($P$2:$T$2,$U$2:$Y$2)*(1+$Z$2)^($A9-2010) -> 222956.47 | AC9: =AA9-AB9 -> -118027.34 | AE9: =I9+AC9 -> 2046655.7
A10: 2020 | F10: =($F$12-$F$2)/(11-1)*($A10-$A$2)+$F$2 -> 371.5 | G10: =F10*365 -> 135597.5 | I10: =$B$2*$C$2*G10+$D$2*G10 -> 2255257.6 | AA10: =SUMPRODUCT($K$2:$O$2,$U$2:$Y$2)*(1+$Z$2)^($A10-2010) -> 107027.71 | AB10: =SUMPRODUCT($P$2:$T$2,$U$2:$Y$2)*(1+$Z$2)^($A10-2010) -> 227415.6 | AC10: =AA10-AB10 -> -120387.89 | AE10: =I10+AC10 -> 2134869.7
A11: 2021 | F11: =($F$12-$F$2)/(11-1)*($A11-$A$2)+$F$2 -> 386.42 | G11: =F11*365 -> 141043.3 | I11: =$B$2*$C$2*G11+$D$2*G11 -> 2345832.2 | AA11: =SUMPRODUCT($K$2:$O$2,$U$2:$Y$2)*(1+$Z$2)^($A11-2010) -> 109168.26 | AB11: =SUMPRODUCT($P$2:$T$2,$U$2:$Y$2)*(1+$Z$2)^($A11-2010) -> 231963.91 | AC11: =AA11-AB11 -> -122795.65 | AE11: =I11+AC11 -> 2223036.5
A12: 2022 | F12: 401.34 | G12: =F12*365 -> 146489.1 | I12: =$B$2*$C$2*G12+$D$2*G12 -> 2436406.7 | AA12: =SUMPRODUCT($K$2:$O$2,$U$2:$Y$2)*(1+$Z$2)^($A12-2010) -> 111351.63 | AB12: =SUMPRODUCT($P$2:$T$2,$U$2:$Y$2)*(1+$Z$2)^($A12-2010) -> 236603.19 | AC12: =AA12-AB12 -> -125251.56 | AE12: =I12+AC12 -> 2311155.2
A13: 2023 | F13: =F12+(F12-F11) -> 416.26 | G13: =F13*365 -> 151934.9 | I13: =$B$2*$C$2*G13+$D$2*G13 -> 2526981.3 | AA13: =SUMPRODUCT($K$2:$O$2,$U$2:$Y$2)*(1+$Z$2)^($A13-2010) -> 113578.66 | AB13: =SUMPRODUCT($P$2:$T$2,$U$2:$Y$2)*(1+$Z$2)^($A13-2010) -> 241335.25 | AC13: =AA13-AB13 -> -127756.59 | AE13: =I13+AC13 -> 2399224.7
A14: 2024 | F14: =F13+(F13-F12) -> 431.18 | G14: =F14*365 -> 157380.7 | I14: =$B$2*$C$2*G14+$D$2*G14 -> 2617555.8 | AA14: =SUMPRODUCT($K$2:$O$2,$U$2:$Y$2)*(1+$Z$2)^($A14-2010) -> 115850.24 | AB14: =SUMPRODUCT($P$2:$T$2,$U$2:$Y$2)*(1+$Z$2)^($A14-2010) -> 246161.96 | AC14: =AA14-AB14 -> -130311.72 | AE14: =I14+AC14 -> 2487244.1
A15: 2025 | F15: =F14+(F14-F13) -> 446.1 | G15: =F15*365 -> 162826.5 | I15: =$B$2*$C$2*G15+$D$2*G15 -> 2708130.3 | AA15: =SUMPRODUCT($K$2:$O$2,$U$2:$Y$2)*(1+$Z$2)^($A15-2010) -> 118167.24 | AB15: =SUMPRODUCT($P$2:$T$2,$U$2:$Y$2)*(1+$Z$2)^($A15-2010) -> 251085.2 | AC15: =AA15-AB15 -> -132917.96 | AE15: =I15+AC15 -> 2575212.4
A16: 2026 | F16: =F15+(F15-F14) -> 461.02 | G16: =F16*365 -> 168272.3 | I16: =$B$2*$C$2*G16+$D$2*G16 -> 2798704.9 | AA16: =SUMPRODUCT($K$2:$O$2,$U$2:$Y$2)*(1+$Z$2)^($A16-2010) -> 120530.58 | AB16: =SUMPRODUCT($P$2:$T$2,$U$2:$Y$2)*(1+$Z$2)^($A16-2010) -> 256106.9 | AC16: =AA16-AB16 -> -135576.32 | AE16: =I16+AC16 -> 2663128.6
A17: 2027 | F17: =F16+(F16-F15) -> 475.94 | G17: =F17*365 -> 173718.1 | I17: =$B$2*$C$2*G17+$D$2*G17 -> 2889279.4 | AA17: =SUMPRODUCT($K$2:$O$2,$U$2:$Y$2)*(1+$Z$2)^($A17-2010) -> 122941.2 | AB17: =SUMPRODUCT($P$2:$T$2,$U$2:$Y$2)*(1+$Z$2)^($A17-2010) -> 261229.04 | AC17: =AA17-AB17 -> -138287.84 | AE17: =I17+AC17 -> 2750991.6
A18: 2028 | F18: =F17+(F17-F16) -> 490.86 | G18: =F18*365 -> 179163.9 | I18: =$B$2*$C$2*G18+$D$2*G18 -> 2979854 | AA18: =SUMPRODUCT($K$2:$O$2,$U$2:$Y$2)*(1+$Z$2)^($A18-2010) -> 125400.02 | AB18: =SUMPRODUCT($P$2:$T$2,$U$2:$Y$2)*(1+$Z$2)^($A18-2010) -> 266453.62 | AC18: =AA18-AB18 -> -141053.6 | AE18: =I18+AC18 -> 2838800.4
A19: 2029 | F19: =F18+(F18-F17) -> 505.78 | G19: =F19*365 -> 184609.7 | I19: =$B$2*$C$2*G19+$D$2*G19 -> 3070428.5 | AA19: =SUMPRODUCT($K$2:$O$2,$U$2:$Y$2)*(1+$Z$2)^($A19-2010) -> 127908.02 | AB19: =SUMPRODUCT($P$2:$T$2,$U$2:$Y$2)*(1+$Z$2)^($A19-2010) -> 271782.69 | AC19: =AA19-AB19 -> -143874.67 | AE19: =I19+AC19 -> 2926553.9
A20: 2030 | F20: =F19+(F19-F18) -> 520.7 | G20: =F20*365 -> 190055.5 | I20: =$B$2*$C$2*G20+$D$2*G20 -> 3161003.1 | AA20: =SUMPRODUCT($K$2:$O$2,$U$2:$Y$2)*(1+$Z$2)^($A20-2010) -> 130466.18 | AB20: =SUMPRODUCT($P$2:$T$2,$U$2:$Y$2)*(1+$Z$2)^($A20-2010) -> 277218.35 | AC20: =AA20-AB20 -> -146752.16 | AE20: =I20+AC20 -> 3014250.9
A21: 2031 | F21: =F20+(F20-F19) -> 535.62 | G21: =F21*365 -> 195501.3 | I21: =$B$2*$C$2*G21+$D$2*G21 -> 3251577.6 | AA21: =SUMPRODUCT($K$2:$O$2,$U$2:$Y$2)*(1+$Z$2)^($A21-2010) -> 133075.5 | AB21: =SUMPRODUCT($P$2:$T$2,$U$2:$Y$2)*(1+$Z$2)^($A21-2010) -> 282762.71 | AC21: =AA21-AB21 -> -149687.21 | AE21: =I21+AC21 -> 3101890.4

Sheet tf
B1: Crew Cost Factor ($/hr), [Mankato Midpoint] | C1: Bus Operating Cost ($/mi), [TREDIS, Free Flow] | D1: Bus Environmental Cost ($/mi) [TREDIS, Free Flow] | F1: BL - Annual Bus VHT, 2% Annual Growth [Proposal] | G1: CS - Annual Bus VHT, 2% Annual Growth [Proposal] | H1: BL - Annual Bus VMT, 2% Annual Growth [Proposal] | I1: CS - Annual Bus VMT, 2% Annual Growth [Proposal] | K1: Annual Savings from Elimination of Bus Shuttling
A2: 2012 | B2: 15.76 | C2: 1.45 | D2: 0.07 | F2: 18000 | G2: 6000 | H2: 230100 | I2: 72600 | K2: =$B$2*(F2-G2)+($C$2+$D$2)*(H2-I2) -> 428520
A3: 2013 | F3: =F2*1.02 -> 18360 | G3: =G2*1.02 -> 6120 | H3: =H2*1.02 -> 234702 | I3: =I2*1.02 -> 74052 | K3: =$B$2*(F3-G3)+($C$2+$D$2)*(H3-I3) -> 437090.4
A4: 2014 | F4: =F3*1.02 -> 18727.2 | G4: =G3*1.02 -> 6242.4 | H4: =H3*1.02 -> 239396.04 | I4: =I3*1.02 -> 75533.04 | K4: =$B$2*(F4-G4)+($C$2+$D$2)*(H4-I4) -> 445832.21
A5: 2015 | F5: =F4*1.02 -> 19101.744 | G5: =G4*1.02 -> 6367.248 | H5: =H4*1.02 -> 244183.96 | I5: =I4*1.02 -> 77043.701 | K5: =$B$2*(F5-G5)+($C$2+$D$2)*(H5-I5) -> 454748.85
A6: 2016 | F6: =F5*1.02 -> 19483.779 | G6: =G5*1.02 -> 6494.593 | H6: =H5*1.02 -> 249067.64 | I6: =I5*1.02 -> 78584.575 | K6: =$B$2*(F6-G6)+($C$2+$D$2)*(H6-I6) -> 463843.83
A7: 2017 | F7: =F6*1.02 -> 19873.454 | G7: =G6*1.02 -> 6624.4848 | H7: =H6*1.02 -> 254048.99 | I7: =I6*1.02 -> 80156.266 | K7: =$B$2*(F7-G7)+($C$2+$D$2)*(H7-I7) -> 473120.71
A8: 2018 | F8: =F7*1.02 -> 20270.924 | G8: =G7*1.02 -> 6756.9745 | H8: =H7*1.02 -> 259129.97 | I8: =I7*1.02 -> 81759.392 | K8: =$B$2*(F8-G8)+($C$2+$D$2)*(H8-I8) -> 482583.12
A9: 2019 | F9: =F8*1.02 -> 20676.342 | G9: =G8*1.02 -> 6892.114 | H9: =H8*1.02 -> 264312.57 | I9: =I8*1.02 -> 83394.579 | K9: =$B$2*(F9-G9)+($C$2+$D$2)*(H9-I9) -> 492234.78
A10: 2020 | F10: =F9*1.02 -> 21089.869 | G10: =G9*1.02 -> 7029.9563 | H10: =H9*1.02 -> 269598.82 | I10: =I9*1.02 -> 85062.471 | K10: =$B$2*(F10-G10)+($C$2+$D$2)*(H10-I10) -> 502079.48
A11: 2021 | F11: =F10*1.02 -> 21511.666 | G11: =G10*1.02 -> 7170.5554 | H11: =H10*1.02 -> 274990.8 | I11: =I10*1.02 -> 86763.72 | K11: =$B$2*(F11-G11)+($C$2+$D$2)*(H11-I11) -> 512121.07
A12: 2022 | F12: =F11*1.02 -> 21941.9 | G12: =G11*1.02 -> 7313.9665 | H12: =H11*1.02 -> 280490.62 | I12: =I11*1.02 -> 88498.995 | K12: =$B$2*(F12-G12)+($C$2+$D$2)*(H12-I12) -> 522363.49
A13: 2023 | F13: =F12*1.02 -> 22380.738 | G13: =G12*1.02 -> 7460.2459 | H13: =H12*1.02 -> 286100.43 | I13: =I12*1.02 -> 90268.975 | K13: =$B$2*(F13-G13)+($C$2+$D$2)*(H13-I13) -> 532810.76
A14: 2024 | F14: =F13*1.02 -> 22828.352 | G14: =G13*1.02 -> 7609.4508 | H14: =H13*1.02 -> 291822.44 | I14: =I13*1.02 -> 92074.354 | K14: =$B$2*(F14-G14)+($C$2+$D$2)*(H14-I14) -> 543466.97
... A21: 2031 | F21: =F20*1.02 -> 26222.601 | G21: =G20*1.02 -> 8740.867 | H21: =H20*1.02 -> 335212.25 | I21: =I20*1.02 -> 105764.49 | K21: =$B$2*(F21-G21)+($C$2+$D$2)*(H21-I21) -> 624272.72
