Workbook

Sheet check
A1: Checklist of TIGER II Project Components & Benefit-Cost Analysis Categories: Garrison
A3: Benefit-Cost Item | B3: WF | C3: GPU | D3: GC | E3: TH169
A4: Initial (construction/design/land acquisition) | B4: ü | C4: ü | D4: ü | E4: ü
A5: Annual (operating and maintenance) | B5: ü | C5: ü | D5: ü | E5: ü
A6: Salvage Value | B6: - | C6: - | D6: - | E6: -
A8: Safety | B8: - | C8: - | D8: - | E8: ?
A9: Auto VHT (value of time + environmental benefits) | B9: - | C9: - | D9: - | E9: ü
A10: Auto VMT (operating costs + environmental benefits) | B10: - | C10: - | D10: - | E10: ü
A11: Transit VHT | B11: - | C11: - | D11: - | E11: -
A12: Transit VMT | B12: - | C12: - | D12: - | E12: -
A13: Bicycle/Pedestrian Health | B13: - | C13: - | D13: - | E13: ü
A14: Other Environmental | B14: ü | C14: - | D14: ü | E14: ü
A16: Key | D16: Legend
A17: WF = Whitefish Creek Bridge (3355) | D17: ü: currently reflected in BCA
A18: GPU = Garrison Pedestrian Underpass (5265) | D18: ? : not yet shown in BCA… estimate possible?
A19: GC = Garrison Concourse | D19: - : not applicable
A20: TH169 = Trunk Highway 169 (Garrison Main/Complete Street)

Sheet notes
A1: assumed:
A2: mode-switching activity analyzed only on local corridor (conservative)
A3: cars/bicycles traverse the local corridor at the same speed; pedestrians travel at quarter-speed
A4: all new bicycle/pedestrian trips are modeled as shifted from auto (no induced travel) (conservative)
A5: estimate of CO2 emission reduction after conversion of Mn/DOT truck station to solar power: | J5: Solar Power Cost Benefit, p. 10

Sheet costs
A1: Garrison Main Street Project- All Elements
B2: BL - WF | C2: BL - GPU | D2: BL - GC | E2: BL - TH169 | G2: CS - WF | H2: CS - GPU | I2: CS - GC | J2: CS - TH169 | L2: Total (Constant 2010$) | M2: Total (Present Value) | O2: Discount Rate (copied from <benefits>) | P2: 0.03
A3: 2012 | B3: 300 | C3: 300 | D3: 3275 | E3: =2109+3002+1036+2100 -> 8247 | G3: =1383043+150000 -> 1533043 | H3: =2141220+250000 -> 2391220 | I3: =2876900+300000 -> 3176900 | J3: =871475+138000+422+3100 -> 1012997 | L3: =SUM(G3:K3)-SUM(B3:F3) -> 8102038 | M3: =L3/((1+$P$2)^(A3-2010)) -> 7636947.9
A4: 2013 | B4: =B3+($B$21-$B$3)/18 -> 1116.6667 | C4: =C3+($C$21-$C$3)/18 -> 1394.4444 | D4: 3275 | E4: =2109+2100 -> 4209 | G4: 1000 | H4: 1000 | I4: 2400 | J4: =522+3100 -> 3622 | L4: =SUM(G4:K4)-SUM(B4:F4) -> -1973.1111 | M4: =L4/((1+$P$2)^(A4-2010)) -> -1805.6762
A5: 2014 | B5: =B4+($B$21-$B$3)/18 -> 1933.3333 | C5: =C4+($C$21-$C$3)/18 -> 2488.8889 | D5: 3275 | E5: =2109+3002+2100 -> 7211 | G5: 1000 | H5: 1000 | I5: 2400 | J5: =522+3100 -> 3622 | L5: =SUM(G5:K5)-SUM(B5:F5) -> -6886.2222 | M5: =L5/((1+$P$2)^(A5-2010)) -> -6118.3193
A6: 2015 | B6: =B5+($B$21-$B$3)/18 -> 2750 | C6: =C5+($C$21-$C$3)/18 -> 3583.3333 | D6: 3275 | E6: =2109+1036+2100 -> 5245 | G6: 1000 | H6: 1000 | I6: 2400 | J6: =522+3100 -> 3622 | L6: =SUM(G6:K6)-SUM(B6:F6) -> -6831.3333 | M6: =L6/((1+$P$2)^(A6-2010)) -> -5892.7681
A7: 2016 | B7: =B6+($B$21-$B$3)/18 -> 3566.6667 | C7: =C6+($C$21-$C$3)/18 -> 4677.7778 | D7: 3275 | E7: =2109+3002+2100 -> 7211 | G7: 1000 | H7: 1000 | I7: 2400 | J7: =522+3100 -> 3622 | L7: =SUM(G7:K7)-SUM(B7:F7) -> -10708.444 | M7: =L7/((1+$P$2)^(A7-2010)) -> -8968.1536
A8: 2017 | B8: =B7+($B$21-$B$3)/18 -> 4383.3333 | C8: =C7+($C$21-$C$3)/18 -> 5772.2222 | D8: 3275 | E8: =2109+2100 -> 4209 | G8: 1000 | H8: 1000 | I8: 2400 | J8: =522+3100 -> 3622 | L8: =SUM(G8:K8)-SUM(B8:F8) -> -9617.5556 | M8: =L8/((1+$P$2)^(A8-2010)) -> -7819.9528
A9: 2018 | B9: =B8+($B$21-$B$3)/18 -> 5200 | C9: =C8+($C$21-$C$3)/18 -> 6866.6667 | D9: 3275 | E9: =2109+3002+1036+2100 -> 8247 | G9: 1000 | H9: 1000 | I9: 2400 | J9: =522+3100 -> 3622 | L9: =SUM(G9:K9)-SUM(B9:F9) -> -15566.667 | M9: =L9/((1+$P$2)^(A9-2010)) -> -12288.47
A10: 2019 | B10: =B9+($B$21-$B$3)/18 -> 6016.6667 | C10: =C9+($C$21-$C$3)/18 -> 7961.1111 | D10: 3275 | E10: =2109+2100 -> 4209 | G10: 1000 | H10: 1000 | I10: 2400 | J10: =522+4000+3100 -> 7622 | L10: =SUM(G10:K10)-SUM(B10:F10) -> -9439.7778 | M10: =L10/((1+$P$2)^(A10-2010)) -> -7234.8036
A11: 2020 | B11: =B10+($B$21-$B$3)/18 -> 6833.3333 | C11: =C10+($C$21-$C$3)/18 -> 9055.5556 | D11: 3275 | E11: =11400+2109+3002+2100 -> 18611 | G11: 1000 | H11: 1000 | I11: 2400 | J11: =522+1000+3100+4560 -> 9182 | L11: =SUM(G11:K11)-SUM(B11:F11) -> -24192.889 | M11: =L11/((1+$P$2)^(A11-2010)) -> -18001.781
A12: 2021 | B12: =B11+($B$21-$B$3)/18 -> 7650 | C12: =C11+($C$21-$C$3)/18 -> 10150 | D12: 3275 | E12: =2109+1036+2100 -> 5245 | G12: 1000 | H12: 1000 | I12: 2400 | J12: =522+3100 -> 3622 | L12: =SUM(G12:K12)-SUM(B12:F12) -> -18298 | M12: =L12/((1+$P$2)^(A12-2010)) -> -13218.865
A13: 2022 | B13: =B12+($B$21-$B$3)/18 -> 8466.6667 | C13: =C12+($C$21-$C$3)/18 -> 11244.444 | D13: 3275 | E13: =2109+3002+2100 -> 7211 | G13: 1000 | H13: 1000 | I13: 2400 | J13: =522+3100 -> 3622 | L13: =SUM(G13:K13)-SUM(B13:F13) -> -22175.111 | M13: =L13/((1+$P$2)^(A13-2010)) -> -15553.177
A14: 2023 | B14: =B13+($B$21-$B$3)/18 -> 9283.3333 | C14: =C13+($C$21-$C$3)/18 -> 12338.889 | D14: 3275 | E14: =45600+2109+2100 -> 49809 | G14: 1000 | H14: 1000 | I14: 2400 | J14: =522+3100 -> 3622 | L14: =SUM(G14:K14)-SUM(B14:F14) -> -66684.222 | M14: =L14/((1+$P$2)^(A14-2010)) -> -45408.71
A15: 2024 | B15: =B14+($B$21-$B$3)/18 -> 10100 | C15: =C14+($C$21-$C$3)/18 -> 13433.333 | D15: 22170 | E15: =2109+3002+2100 -> 7211 | G15: 1000 | H15: 1000 | I15: =2400+32000 -> 34400 | J15: =522+3100 -> 3622 | L15: =SUM(G15:K15)-SUM(B15:F15) -> -12892.333 | M15: =L15/((1+$P$2)^(A15-2010)) -> -8523.3511
A16: 2025 | B16: =B15+($B$21-$B$3)/18 -> 10916.667 | C16: =C15+($C$21-$C$3)/18 -> 14527.778 | D16: 3275 | E16: =51800+2109+2100 -> 56009 | G16: 1000 | H16: 1000 | I16: 2400 | J16: =522+3100 -> 3622 | L16: =SUM(G16:K16)-SUM(B16:F16) -> -76706.444 | M16: =L16/((1+$P$2)^(A16-2010)) -> -49234.948
A17: 2026 | B17: =B16+($B$21-$B$3)/18 -> 11733.333 | C17: =C16+($C$21-$C$3)/18 -> 15622.222 | D17: 3275 | E17: =2109+3002+2100 -> 7211 | G17: 1000 | H17: 1000 | I17: 2400 | J17: =522+4000+3100 -> 7622 | L17: =SUM(G17:K17)-SUM(B17:F17) -> -25819.556 | M17: =L17/((1+$P$2)^(A17-2010)) -> -16089.893
A18: 2027 | B18: =B17+($B$21-$B$3)/18 -> 12550 | C18: =C17+($C$21-$C$3)/18 -> 16716.667 | D18: 3275 | E18: =2109+2100 -> 4209 | G18: 1000 | H18: 1000 | I18: 2400 | J18: =522+1052+3100 -> 4674 | L18: =SUM(G18:K18)-SUM(B18:F18) -> -27676.667 | M18: =L18/((1+$P$2)^(A18-2010)) -> -16744.838
A19: 2028 | B19: =B18+($B$21-$B$3)/18 -> 13366.667 | C19: =C18+($C$21-$C$3)/18 -> 17811.111 | D19: 3275 | E19: =2109+3002+2100 -> 7211 | G19: 1000 | H19: 1000 | I19: 2400 | J19: =522+3100 -> 3622 | L19: =SUM(G19:K19)-SUM(B19:F19) -> -33641.778 | M19: =L19/((1+$P$2)^(A19-2010)) -> -19760.999
A20: 2029 | B20: =B19+($B$21-$B$3)/18 -> 14183.333 | C20: =C19+($C$21-$C$3)/18 -> 18905.556 | D20: 3275 | E20: =2109+2100 -> 4209 | G20: 1000 | H20: 1000 | I20: 2400 | J20: =522+3100 -> 3622 | L20: =SUM(G20:K20)-SUM(B20:F20) -> -32550.889 | M20: =L20/((1+$P$2)^(A20-2010)) -> -18563.317
A21: 2030 | B21: 15000 | C21: 20000 | D21: 3275 | E21: =2109+3002+2100 -> 7211 | G21: 1000 | H21: 1000 | I21: 2400 | J21: =522+3100 -> 3622 | L21: =SUM(G21:K21)-SUM(B21:F21) -> -37464 | M21: =L21/((1+$P$2)^(A21-2010)) -> -20742.908
A22: 2031 | B22: =1610000+185000 -> 1795000 | C22: =2462400+300000 -> 2762400 | D22: 4035135 | E22: =2109+2100 -> 4209 | G22: =1000 -> 1000 | H22: =1000 -> 1000 | I22: =2400 -> 2400 | J22: =522+3100 -> 3622 | L22: =SUM(G22:K22)-SUM(B22:F22) -> -8588722 | M22: =L22/((1+$P$2)^(A22-2010)) -> -4616861.3
B24: 2012 - 2031 | M24: =SUM(M3:M23) -> 2728115.6
A27: WF = Whitefish Creek Bridge (3355)
A28: GPU = Garrison Pedestrian Underpass (5265)
A29: GC = Garrison Concourse
A30: TH169 = Trunk Highway 169 (Garrison Main/Complete Street)

Sheet benefits & sum
B1: CS - TH169 | D1: Total (Constant 2010$) | E1: Total (Present Value) | G1: Discount Rate | H1: 0.03
A2: 2012 | B2: =benefitDetail!AA2 -> 1397339.8 | D2: =SUM(B2:C2) -> 1397339.8 | E2: =D2/((1+$H$1)^(A2-2010)) -> 1317126.8
A3: 2013 | B3: =benefitDetail!AA3 -> 1397339.8 | D3: =SUM(B3:C3) -> 1397339.8 | E3: =D3/((1+$H$1)^(A3-2010)) -> 1278763.9
A4: 2014 | B4: =benefitDetail!AA4 -> 1397339.8 | D4: =SUM(B4:C4) -> 1397339.8 | E4: =D4/((1+$H$1)^(A4-2010)) -> 1241518.4
A5: 2015 | B5: =benefitDetail!AA5 -> 1553339.8 | D5: =SUM(B5:C5) -> 1553339.8 | E5: =D5/((1+$H$1)^(A5-2010)) -> 1339924.6
A6: 2016 | B6: =benefitDetail!AA6 -> 1553339.8 | D6: =SUM(B6:C6) -> 1553339.8 | E6: =D6/((1+$H$1)^(A6-2010)) -> 1300897.7
A7: 2017 | B7: =benefitDetail!AA7 -> 1553339.8 | D7: =SUM(B7:C7) -> 1553339.8 | E7: =D7/((1+$H$1)^(A7-2010)) -> 1263007.4
A8: 2018 | B8: =benefitDetail!AA8 -> 1553339.8 | D8: =SUM(B8:C8) -> 1553339.8 | E8: =D8/((1+$H$1)^(A8-2010)) -> 1226220.8
A9: 2019 | B9: =benefitDetail!AA9 -> 1553339.8 | D9: =SUM(B9:C9) -> 1553339.8 | E9: =D9/((1+$H$1)^(A9-2010)) -> 1190505.7
A10: 2020 | B10: =benefitDetail!AA10 -> 1715839.8 | D10: =SUM(B10:C10) -> 1715839.8 | E10: =D10/((1+$H$1)^(A10-2010)) -> 1276746
A11: 2021 | B11: =benefitDetail!AA11 -> 1715839.8 | D11: =SUM(B11:C11) -> 1715839.8 | E11: =D11/((1+$H$1)^(A11-2010)) -> 1239559.2
A12: 2022 | B12: =benefitDetail!AA12 -> 1715839.8 | D12: =SUM(B12:C12) -> 1715839.8 | E12: =D12/((1+$H$1)^(A12-2010)) -> 1203455.5
A13: 2023 | B13: =benefitDetail!AA13 -> 1715839.8 | D13: =SUM(B13:C13) -> 1715839.8 | E13: =D13/((1+$H$1)^(A13-2010)) -> 1168403.4
... A21: 2031 | B21: =benefitDetail!AA21 -> 2138339.8 | D21: =SUM(B21:C21) -> 2138339.8 | E21: =D21/((1+$H$1)^(A21-2010)) -> 1149463
B23: Benefits: 2012 - 2031 | E23: =SUM(E2:E22) -> 24358452
B24: Costs: 2012 - 2031 | E24: =costs!M24 -> 2728115.6
B25: Benefit : Cost Ratio | E25: =TEXT(E23/E24,"0.0")&" : 1" -> 8.9 : 1

Sheet benefitDetail
B1: Passenger Cost Factor ($/hr), 100% Personal/Rec [TREDIS] | C1: Passengers per Vehicle [Assumed] | D1: Auto Variable Operating Costs ($/mi) [Mn/DOT Standard] | E1: Auto Environmental Cost ($/mi) [TREDIS, Free Flow] | F1: Bicycle / Pedestrian Health Benefit ($/New Cyclist or Pedestrian) [NCHRP] | G1: Bicycle Recreation (Non-Commuting) Benefit ($/hr) [BicyclingInfo.org] | I1: Annual Auto VMT Reduction from Bicycle Mode Shift, 1-Mile Corridor [Proposal] | J1: Annual Auto VHT Reduction from Bicycle Mode Shift, 15 MPH [Proposal] | L1: Annual Auto VMT Reduction from Pedestrian Mode Shift, 1-Mile Corridor [Proposal] | M1: Annual Auto VHT Reduction from Pedestrian Mode Shift, 15 MPH [Proposal] | O1: Annual Travel Time Penalty for Pedestrian Mode Shift (hrs), Quarter of Vehicle Speed [Assumed] | Q1: Annual Reduction in Auto Per-Mile Costs | R1: Annual Bicycle Health Benefit, 24 Weeks of Usage [Assumed] | S1: Annual Bicycle Recreation Benefit, ½-hour Trip [Assumed] | T1: Annual Pedestrian Health Benefit, 24 Weeks of Usage [Assumed] | U1: Annual Increase in Travel Time Costs for Pedestrian Mode Shift | W1: Annual CO2 Emission Reduction with Solar-Powered Truck Shop, Tons [Proposal, see <notes> for document link] | X1: Per Ton Social Cost of CO2 [National Center for Environmental Economics] | Y1: Annual Environmental Benefit from Lowered Greenhouse Gas Emissions | AA1: CS Benefit $
A2: 2012 | B2: =10.6 -> 10.6 | C2: 1.3 | D2: 0.28 | E2: 0.028 | F2: 128 | G2: 10 | I2: 355 | J2: =I2/15 -> 23.666667 | L2: 888 | M2: =L2/15 -> 59.2 | O2: =-$M$2*$C$2*(4-1) -> -230.88 | Q2: =($D$2+$E$2)*($I$2+$L$2) -> 382.844 | R2: =$I$2/24*$F$2 -> 1893.3333 | S2: =$I$2*$G$2/2 -> 1775 | T2: =$L$2/24*$F$2 -> 4736 | U2: =O2*10.6 -> -2447.328 | W2: 65000 | X2: =IF('benefits & sum'!$H$1=0.03,21.4,4.7) -> 21.4 | Y2: =$W$2*X2 -> 1391000 | AA2: =SUM($Q$2:$V$2)+Y2 -> 1397339.8
A3: 2013 | X3: =IF('benefits & sum'!$H$1=0.03,21.4,4.7) -> 21.4 | Y3: =$W$2*X3 -> 1391000 | AA3: =SUM($Q$2:$V$2)+Y3 -> 1397339.8
A4: 2014 | X4: =IF('benefits & sum'!$H$1=0.03,21.4,4.7) -> 21.4 | Y4: =$W$2*X4 -> 1391000 | AA4: =SUM($Q$2:$V$2)+Y4 -> 1397339.8
A5: 2015 | X5: =IF('benefits & sum'!$H$1=0.03,23.8,5.7) -> 23.8 | Y5: =$W$2*X5 -> 1547000 | AA5: =SUM($Q$2:$V$2)+Y5 -> 1553339.8
A6: 2016 | X6: =IF('benefits & sum'!$H$1=0.03,23.8,5.7) -> 23.8 | Y6: =$W$2*X6 -> 1547000 | AA6: =SUM($Q$2:$V$2)+Y6 -> 1553339.8
A7: 2017 | X7: =IF('benefits & sum'!$H$1=0.03,23.8,5.7) -> 23.8 | Y7: =$W$2*X7 -> 1547000 | AA7: =SUM($Q$2:$V$2)+Y7 -> 1553339.8
A8: 2018 | X8: =IF('benefits & sum'!$H$1=0.03,23.8,5.7) -> 23.8 | Y8: =$W$2*X8 -> 1547000 | AA8: =SUM($Q$2:$V$2)+Y8 -> 1553339.8
A9: 2019 | X9: =IF('benefits & sum'!$H$1=0.03,23.8,5.7) -> 23.8 | Y9: =$W$2*X9 -> 1547000 | AA9: =SUM($Q$2:$V$2)+Y9 -> 1553339.8
A10: 2020 | X10: =IF('benefits & sum'!$H$1=0.03,26.3,6.8) -> 26.3 | Y10: =$W$2*X10 -> 1709500 | AA10: =SUM($Q$2:$V$2)+Y10 -> 1715839.8
A11: 2021 | X11: =IF('benefits & sum'!$H$1=0.03,26.3,6.8) -> 26.3 | Y11: =$W$2*X11 -> 1709500 | AA11: =SUM($Q$2:$V$2)+Y11 -> 1715839.8
A12: 2022 | X12: =IF('benefits & sum'!$H$1=0.03,26.3,6.8) -> 26.3 | Y12: =$W$2*X12 -> 1709500 | AA12: =SUM($Q$2:$V$2)+Y12 -> 1715839.8
A13: 2023 | X13: =IF('benefits & sum'!$H$1=0.03,26.3,6.8) -> 26.3 | Y13: =$W$2*X13 -> 1709500 | AA13: =SUM($Q$2:$V$2)+Y13 -> 1715839.8
A14: 2024 | X14: =IF('benefits & sum'!$H$1=0.03,26.3,6.8) -> 26.3 | Y14: =$W$2*X14 -> 1709500 | AA14: =SUM($Q$2:$V$2)+Y14 -> 1715839.8
A15: 2025 | X15: =IF('benefits & sum'!$H$1=0.03,29.6,8.2) -> 29.6 | Y15: =$W$2*X15 -> 1924000 | AA15: =SUM($Q$2:$V$2)+Y15 -> 1930339.8
A16: 2026 | X16: =IF('benefits & sum'!$H$1=0.03,29.6,8.2) -> 29.6 | Y16: =$W$2*X16 -> 1924000 | AA16: =SUM($Q$2:$V$2)+Y16 -> 1930339.8
A17: 2027 | X17: =IF('benefits & sum'!$H$1=0.03,29.6,8.2) -> 29.6 | Y17: =$W$2*X17 -> 1924000 | AA17: =SUM($Q$2:$V$2)+Y17 -> 1930339.8
A18: 2028 | X18: =IF('benefits & sum'!$H$1=0.03,29.6,8.2) -> 29.6 | Y18: =$W$2*X18 -> 1924000 | AA18: =SUM($Q$2:$V$2)+Y18 -> 1930339.8
A19: 2029 | X19: =IF('benefits & sum'!$H$1=0.03,29.6,8.2) -> 29.6 | Y19: =$W$2*X19 -> 1924000 | AA19: =SUM($Q$2:$V$2)+Y19 -> 1930339.8
A20: 2030 | X20: =IF('benefits & sum'!$H$1=0.03,32.8,9.7) -> 32.8 | Y20: =$W$2*X20 -> 2132000 | AA20: =SUM($Q$2:$V$2)+Y20 -> 2138339.8
A21: 2031 | X21: =IF('benefits & sum'!$H$1=0.03,32.8,9.7) -> 32.8 | Y21: =$W$2*X21 -> 2132000 | AA21: =SUM($Q$2:$V$2)+Y21 -> 2138339.8
