Workbook

Sheet 3136
C1: Project#: | G1: Date: | K1: G&B-107
C2: Technician: | K2: 42429
A5: Excel Spreadsheet for Computing D60/D10 for Drainable Bases Specs 2212 and 3136
B9: Drainable Base D60/D10 Requirement
B10: Type | D10: D60/D10 | E10: Pass/Fail
B11: OGAB | D11: =IF(AND('D60'!D4=0,'D10'!D4=0),1,ROUND('D60'!D4/'D10'!D4,1)) -> 1 | E11: =IF(OR(AND(B11=B26,D11<D26),AND(B11=B27,D11<D27)),"FAIL","PASS") -> FAIL
B13: Sieve Size | D13: Percent
B14: U.S. Size | C14: mm | D14: Passing
B15: 1 1/2 in. | C15: 37.5
B16: 1 in. | C16: 25
B17: 3/4 in. | C17: 19
B18: 3/8 in. | C18: 9.5
B19: No. 4 | C19: 4.75
B20: No. 10 | C20: 2
B21: No. 40 | C21: 0.425
B22: No. 200 | C22: 0.075
B25: Type | C25: D60/D10 Requirement
B26: OGAB | C26: ≥ | D26: 4
B27: DSB | C27: ≥ | D27: 8
A30: Directions: Toggle to either OGAB or DSB and input percent passing.

Sheet D60
A1: Interpolate the particle diameter for a given percent passing
A4: D | B4: 60 | C4: = | D4: =MAX(L7:L18) -> 0 | E4: mm
E5: delta1 | F5: delta2 | G5: sv1 | H5: sv2
A6: sieve_mm | B6: %Passing | C6: log10 | D6: delta | E6: 100 | F6: -100 | G6: =C7 -> 1.5740313 | H6: =C17 -> -3 | I6: pp1 | J6: pp2 | K6: ret_val
A7: 37.5 | B7: =IF(ISBLANK('3136'!D15),0,'3136'!D15) -> 0 | C7: =LOG10(A7) -> 1.5740313 | D7: =B7-B$4 -> -60 | E7: =IF(D7<=0,E6,IF(D7<E6,D7,E6)) -> 100 | F7: =IF(D7>=0,F6,IF(D7>F6,D7,F6)) -> -60 | G7: =IF(D7>0,C7,G6) -> 1.5740313 | H7: =IF(D7<0,C7,H6) -> 1.5740313 | I7: =B$4+E7 -> 160 | J7: =B$4+F7 -> 0 | K7: =IF(D7=0,A7,IF(E7=100,0.075,IF(F7=-100,"N/A",10^(H7+(G7-H7)*(B$4-J7)/(I7-J7))))) -> 0.075
A8: 25 | B8: =IF(ISBLANK('3136'!D16),IF(OR(ISBLANK('3136'!D15),ISBLANK('3136'!D17)),0,B7+(B9-B7)*(C8-C7)/(C9-C7)),'3136'!D16) -> 0 | C8: =LOG10(A8) -> 1.39794 | D8: =B8-B$4 -> -60 | E8: =IF(D8<=0,E7,IF(D8<E7,D8,E7)) -> 100 | F8: =IF(D8>=0,F7,IF(D8>F7,D8,F7)) -> -60 | G8: =IF(D8>0,C8,G7) -> 1.5740313 | H8: =IF(D8<0,C8,H7) -> 1.39794 | I8: =B$4+E8 -> 160 | J8: =B$4+F8 -> 0 | K8: =IF(D8=0,A8,IF(E8=100,0.075,IF(F8=-100,"N/A",10^(H8+(G8-H8)*(B$4-J8)/(I8-J8))))) -> 0.075 | L8: =IF(K7="N/A",IF(K8="N/A","N/A",K8),"N/A") -> N/A
A9: 19 | B9: =IF(ISBLANK('3136'!D17),IF(OR(ISBLANK('3136'!D16),ISBLANK('3136'!D18)),0,B8+(B10-B8)*(C9-C8)/(C10-C8)),'3136'!D17) -> 0 | C9: =LOG10(A9) -> 1.2787536 | D9: =B9-B$4 -> -60 | E9: =IF(D9<=0,E8,IF(D9<E8,D9,E8)) -> 100 | F9: =IF(D9>=0,F8,IF(D9>F8,D9,F8)) -> -60 | G9: =IF(D9>0,C9,G8) -> 1.5740313 | H9: =IF(D9<0,C9,H8) -> 1.2787536 | I9: =B$4+E9 -> 160 | J9: =B$4+F9 -> 0 | K9: =IF(D9=0,A9,IF(E9=100,0.075,IF(F9=-100,"N/A",10^(H9+(G9-H9)*(B$4-J9)/(I9-J9))))) -> 0.075 | L9: =IF(K8="N/A",IF(K9="N/A","N/A",K9),"N/A") -> N/A
A10: 9.5 | B10: =IF(ISBLANK('3136'!D18),IF(OR(ISBLANK('3136'!D17),ISBLANK('3136'!D19)),0,B9+(B11-B9)*(C10-C9)/(C11-C9)),'3136'!D18) -> 0 | C10: =LOG10(A10) -> 0.97772361 | D10: =B10-B$4 -> -60 | E10: =IF(D10<=0,E9,IF(D10<E9,D10,E9)) -> 100 | F10: =IF(D10>=0,F9,IF(D10>F9,D10,F9)) -> -60 | G10: =IF(D10>0,C10,G9) -> 1.5740313 | H10: =IF(D10<0,C10,H9) -> 0.97772361 | I10: =B$4+E10 -> 160 | J10: =B$4+F10 -> 0 | K10: =IF(D10=0,A10,IF(E10=100,0.075,IF(F10=-100,"N/A",10^(H10+(G10-H10)*(B$4-J10)/(I10-J10))))) -> 0.075 | L10: =IF(K9="N/A",IF(K10="N/A","N/A",K10),"N/A") -> N/A
A11: 4.75 | B11: =IF(ISBLANK('3136'!D19),IF(OR(ISBLANK('3136'!D18),ISBLANK('3136'!D20)),0,B10+(B12-B10)*(C11-C10)/(C12-C10)),'3136'!D19) -> 0 | C11: =LOG10(A11) -> 0.67669361 | D11: =B11-B$4 -> -60 | E11: =IF(D11<=0,E10,IF(D11<E10,D11,E10)) -> 100 | F11: =IF(D11>=0,F10,IF(D11>F10,D11,F10)) -> -60 | G11: =IF(D11>0,C11,G10) -> 1.5740313 | H11: =IF(D11<0,C11,H10) -> 0.67669361 | I11: =B$4+E11 -> 160 | J11: =B$4+F11 -> 0 | K11: =IF(D11=0,A11,IF(E11=100,0.075,IF(F11=-100,"N/A",10^(H11+(G11-H11)*(B$4-J11)/(I11-J11))))) -> 0.075 | L11: =IF(K10="N/A",IF(K11="N/A","N/A",K11),"N/A") -> N/A
A12: 2 | B12: =IF(ISBLANK('3136'!D20),IF(OR(ISBLANK('3136'!D19),ISBLANK('3136'!D21)),0,B11+(B13-B11)*(C12-C11)/(C13-C11)),'3136'!D20) -> 0 | C12: =LOG10(A12) -> 0.30103 | D12: =B12-B$4 -> -60 | E12: =IF(D12<=0,E11,IF(D12<E11,D12,E11)) -> 100 | F12: =IF(D12>=0,F11,IF(D12>F11,D12,F11)) -> -60 | G12: =IF(D12>0,C12,G11) -> 1.5740313 | H12: =IF(D12<0,C12,H11) -> 0.30103 | I12: =B$4+E12 -> 160 | J12: =B$4+F12 -> 0 | K12: =IF(D12=0,A12,IF(E12=100,0.075,IF(F12=-100,"N/A",10^(H12+(G12-H12)*(B$4-J12)/(I12-J12))))) -> 0.075 | L12: =IF(K11="N/A",IF(K12="N/A","N/A",K12),"N/A") -> N/A
A13: 0.425 | B13: =IF(ISBLANK('3136'!D21),IF(OR(ISBLANK('3136'!D20),ISBLANK('3136'!D22)),0,B12+(B14-B12)*(C13-C12)/(C14-C12)),'3136'!D21) -> 0 | C13: =LOG10(A13) -> -0.37161107 | D13: =B13-B$4 -> -60 | E13: =IF(D13<=0,E12,IF(D13<E12,D13,E12)) -> 100 | F13: =IF(D13>=0,F12,IF(D13>F12,D13,F12)) -> -60 | G13: =IF(D13>0,C13,G12) -> 1.5740313 | H13: =IF(D13<0,C13,H12) -> -0.37161107 | I13: =B$4+E13 -> 160 | J13: =B$4+F13 -> 0 | K13: =IF(D13=0,A13,IF(E13=100,0.075,IF(F13=-100,"N/A",10^(H13+(G13-H13)*(B$4-J13)/(I13-J13))))) -> 0.075 | L13: =IF(K12="N/A",IF(K13="N/A","N/A",K13),"N/A") -> N/A
A14: 0.075 | B14: =IF(ISBLANK('3136'!D22),IF(OR(ISBLANK('3136'!D21),ISBLANK('3136'!D23)),0,B13+(B15-B13)*(C14-C13)/(C15-C13)),'3136'!D22) -> 0 | C14: =LOG10(A14) -> -1.1249387 | D14: =B14-B$4 -> -60 | E14: =IF(D14<=0,E13,IF(D14<E13,D14,E13)) -> 100 | F14: =IF(D14>=0,F13,IF(D14>F13,D14,F13)) -> -60 | G14: =IF(D14>0,C14,G13) -> 1.5740313 | H14: =IF(D14<0,C14,H13) -> -1.1249387 | I14: =B$4+E14 -> 160 | J14: =B$4+F14 -> 0 | K14: =IF(D14=0,A14,IF(E14=100,0.075,IF(F14=-100,"N/A",10^(H14+(G14-H14)*(B$4-J14)/(I14-J14))))) -> 0.075 | L14: =IF(K13="N/A",IF(K14="N/A","N/A",K14),"N/A") -> N/A
A15: 0.001 | B15: 0 | C15: =LOG10(A15) -> -3 | D15: =B15-B$4 -> -60 | E15: =IF(D15<=0,E14,IF(D15<E14,D15,E14)) -> 100 | F15: =IF(D15>=0,F14,IF(D15>F14,D15,F14)) -> -60 | G15: =IF(D15>0,C15,G14) -> 1.5740313 | H15: =IF(D15<0,C15,H14) -> -3 | I15: =B$4+E15 -> 160 | J15: =B$4+F15 -> 0 | K15: =IF(D15=0,A15,IF(E15=100,0.075,IF(F15=-100,"N/A",10^(H15+(G15-H15)*(B$4-J15)/(I15-J15))))) -> 0.075 | L15: =IF(K14="N/A",IF(K15="N/A","N/A",K15),"N/A") -> N/A
A16: 0.001 | B16: 0 | C16: =LOG10(A16) -> -3 | D16: =B16-B$4 -> -60 | E16: =IF(D16<=0,E15,IF(D16<E15,D16,E15)) -> 100 | F16: =IF(D16>=0,F15,IF(D16>F15,D16,F15)) -> -60 | G16: =IF(D16>0,C16,G15) -> 1.5740313 | H16: =IF(D16<0,C16,H15) -> -3 | I16: =B$4+E16 -> 160 | J16: =B$4+F16 -> 0 | K16: =IF(D16=0,A16,IF(E16=100,0.075,IF(F16=-100,"N/A",10^(H16+(G16-H16)*(B$4-J16)/(I16-J16))))) -> 0.075 | L16: =IF(K15="N/A",IF(K16="N/A","N/A",K16),"N/A") -> N/A
A17: 0.001 | B17: 0 | C17: =LOG10(A17) -> -3 | D17: =B17-B$4 -> -60 | E17: =IF(D17<=0,E16,IF(D17<E16,D17,E16)) -> 100 | F17: =IF(D17>=0,F16,IF(D17>F16,D17,F16)) -> -60 | G17: =IF(D17>0,C17,G16) -> 1.5740313 | H17: =IF(D17<0,C17,H16) -> -3 | I17: =B$4+E17 -> 160 | J17: =B$4+F17 -> 0 | K17: =IF(D17=0,A17,IF(E17=100,0.075,IF(F17=-100,"N/A",10^(H17+(G17-H17)*(B$4-J17)/(I17-J17))))) -> 0.075 | L17: =IF(K16="N/A",IF(K17="N/A","N/A",K17),"N/A") -> N/A
A18: 0.001 | B18: 0 | C18: =LOG10(A18) -> -3 | D18: =B18-B$4 -> -60 | E18: =IF(D18<=0,E17,IF(D18<E17,D18,E17)) -> 100 | F18: =IF(D18>=0,F17,IF(D18>F17,D18,F17)) -> -60 | G18: =IF(D18>0,C18,G17) -> 1.5740313 | H18: =IF(D18<0,C18,H17) -> -3 | I18: =B$4+E18 -> 160 | J18: =B$4+F18 -> 0 | K18: =IF(D18=0,A18,IF(E18=100,0.075,IF(F18=-100,"N/A",10^(H18+(G18-H18)*(B$4-J18)/(I18-J18))))) -> 0.075 | L18: =IF(K17="N/A",IF(K18="N/A","N/A",K18),"N/A") -> N/A

Sheet D10
A1: Interpolate the particle diameter for a given percent passing
A4: D | B4: 10 | C4: = | D4: =MAX(L7:L18) -> 0 | E4: mm
E5: delta1 | F5: delta2 | G5: sv1 | H5: sv2
A6: sieve_mm | B6: %Passing | C6: log10 | D6: delta | E6: 100 | F6: -100 | G6: =C7 -> 1.5740313 | H6: =C17 -> -3 | I6: pp1 | J6: pp2 | K6: ret_val
A7: 37.5 | B7: =IF(ISBLANK('3136'!D15),0,'3136'!D15) -> 0 | C7: =LOG10(A7) -> 1.5740313 | D7: =B7-B$4 -> -10 | E7: =IF(D7<=0,E6,IF(D7<E6,D7,E6)) -> 100 | F7: =IF(D7>=0,F6,IF(D7>F6,D7,F6)) -> -10 | G7: =IF(D7>0,C7,G6) -> 1.5740313 | H7: =IF(D7<0,C7,H6) -> 1.5740313 | I7: =B$4+E7 -> 110 | J7: =B$4+F7 -> 0 | K7: =IF(D7=0,A7,IF(E7=100,0.075,IF(F7=-100,"N/A",10^(H7+(G7-H7)*(B$4-J7)/(I7-J7))))) -> 0.075
A8: 25 | B8: =IF(ISBLANK('3136'!D16),IF(OR(ISBLANK('3136'!D15),ISBLANK('3136'!D17)),0,B7+(B9-B7)*(C8-C7)/(C9-C7)),'3136'!D16) -> 0 | C8: =LOG10(A8) -> 1.39794 | D8: =B8-B$4 -> -10 | E8: =IF(D8<=0,E7,IF(D8<E7,D8,E7)) -> 100 | F8: =IF(D8>=0,F7,IF(D8>F7,D8,F7)) -> -10 | G8: =IF(D8>0,C8,G7) -> 1.5740313 | H8: =IF(D8<0,C8,H7) -> 1.39794 | I8: =B$4+E8 -> 110 | J8: =B$4+F8 -> 0 | K8: =IF(D8=0,A8,IF(E8=100,0.075,IF(F8=-100,"N/A",10^(H8+(G8-H8)*(B$4-J8)/(I8-J8))))) -> 0.075 | L8: =IF(K7="N/A",IF(K8="N/A","N/A",K8),"N/A") -> N/A
A9: 19 | B9: =IF(ISBLANK('3136'!D17),IF(OR(ISBLANK('3136'!D16),ISBLANK('3136'!D18)),0,B8+(B10-B8)*(C9-C8)/(C10-C8)),'3136'!D17) -> 0 | C9: =LOG10(A9) -> 1.2787536 | D9: =B9-B$4 -> -10 | E9: =IF(D9<=0,E8,IF(D9<E8,D9,E8)) -> 100 | F9: =IF(D9>=0,F8,IF(D9>F8,D9,F8)) -> -10 | G9: =IF(D9>0,C9,G8) -> 1.5740313 | H9: =IF(D9<0,C9,H8) -> 1.2787536 | I9: =B$4+E9 -> 110 | J9: =B$4+F9 -> 0 | K9: =IF(D9=0,A9,IF(E9=100,0.075,IF(F9=-100,"N/A",10^(H9+(G9-H9)*(B$4-J9)/(I9-J9))))) -> 0.075 | L9: =IF(K8="N/A",IF(K9="N/A","N/A",K9),"N/A") -> N/A
A10: 9.5 | B10: =IF(ISBLANK('3136'!D18),IF(OR(ISBLANK('3136'!D17),ISBLANK('3136'!D19)),0,B9+(B11-B9)*(C10-C9)/(C11-C9)),'3136'!D18) -> 0 | C10: =LOG10(A10) -> 0.97772361 | D10: =B10-B$4 -> -10 | E10: =IF(D10<=0,E9,IF(D10<E9,D10,E9)) -> 100 | F10: =IF(D10>=0,F9,IF(D10>F9,D10,F9)) -> -10 | G10: =IF(D10>0,C10,G9) -> 1.5740313 | H10: =IF(D10<0,C10,H9) -> 0.97772361 | I10: =B$4+E10 -> 110 | J10: =B$4+F10 -> 0 | K10: =IF(D10=0,A10,IF(E10=100,0.075,IF(F10=-100,"N/A",10^(H10+(G10-H10)*(B$4-J10)/(I10-J10))))) -> 0.075 | L10: =IF(K9="N/A",IF(K10="N/A","N/A",K10),"N/A") -> N/A
A11: 4.75 | B11: =IF(ISBLANK('3136'!D19),IF(OR(ISBLANK('3136'!D18),ISBLANK('3136'!D20)),0,B10+(B12-B10)*(C11-C10)/(C12-C10)),'3136'!D19) -> 0 | C11: =LOG10(A11) -> 0.67669361 | D11: =B11-B$4 -> -10 | E11: =IF(D11<=0,E10,IF(D11<E10,D11,E10)) -> 100 | F11: =IF(D11>=0,F10,IF(D11>F10,D11,F10)) -> -10 | G11: =IF(D11>0,C11,G10) -> 1.5740313 | H11: =IF(D11<0,C11,H10) -> 0.67669361 | I11: =B$4+E11 -> 110 | J11: =B$4+F11 -> 0 | K11: =IF(D11=0,A11,IF(E11=100,0.075,IF(F11=-100,"N/A",10^(H11+(G11-H11)*(B$4-J11)/(I11-J11))))) -> 0.075 | L11: =IF(K10="N/A",IF(K11="N/A","N/A",K11),"N/A") -> N/A
A12: 2 | B12: =IF(ISBLANK('3136'!D20),IF(OR(ISBLANK('3136'!D19),ISBLANK('3136'!D21)),0,B11+(B13-B11)*(C12-C11)/(C13-C11)),'3136'!D20) -> 0 | C12: =LOG10(A12) -> 0.30103 | D12: =B12-B$4 -> -10 | E12: =IF(D12<=0,E11,IF(D12<E11,D12,E11)) -> 100 | F12: =IF(D12>=0,F11,IF(D12>F11,D12,F11)) -> -10 | G12: =IF(D12>0,C12,G11) -> 1.5740313 | H12: =IF(D12<0,C12,H11) -> 0.30103 | I12: =B$4+E12 -> 110 | J12: =B$4+F12 -> 0 | K12: =IF(D12=0,A12,IF(E12=100,0.075,IF(F12=-100,"N/A",10^(H12+(G12-H12)*(B$4-J12)/(I12-J12))))) -> 0.075 | L12: =IF(K11="N/A",IF(K12="N/A","N/A",K12),"N/A") -> N/A
A13: 0.425 | B13: =IF(ISBLANK('3136'!D21),IF(OR(ISBLANK('3136'!D20),ISBLANK('3136'!D22)),0,B12+(B14-B12)*(C13-C12)/(C14-C12)),'3136'!D21) -> 0 | C13: =LOG10(A13) -> -0.37161107 | D13: =B13-B$4 -> -10 | E13: =IF(D13<=0,E12,IF(D13<E12,D13,E12)) -> 100 | F13: =IF(D13>=0,F12,IF(D13>F12,D13,F12)) -> -10 | G13: =IF(D13>0,C13,G12) -> 1.5740313 | H13: =IF(D13<0,C13,H12) -> -0.37161107 | I13: =B$4+E13 -> 110 | J13: =B$4+F13 -> 0 | K13: =IF(D13=0,A13,IF(E13=100,0.075,IF(F13=-100,"N/A",10^(H13+(G13-H13)*(B$4-J13)/(I13-J13))))) -> 0.075 | L13: =IF(K12="N/A",IF(K13="N/A","N/A",K13),"N/A") -> N/A
A14: 0.075 | B14: =IF(ISBLANK('3136'!D22),IF(OR(ISBLANK('3136'!D21),ISBLANK('3136'!D23)),0,B13+(B15-B13)*(C14-C13)/(C15-C13)),'3136'!D22) -> 0 | C14: =LOG10(A14) -> -1.1249387 | D14: =B14-B$4 -> -10 | E14: =IF(D14<=0,E13,IF(D14<E13,D14,E13)) -> 100 | F14: =IF(D14>=0,F13,IF(D14>F13,D14,F13)) -> -10 | G14: =IF(D14>0,C14,G13) -> 1.5740313 | H14: =IF(D14<0,C14,H13) -> -1.1249387 | I14: =B$4+E14 -> 110 | J14: =B$4+F14 -> 0 | K14: =IF(D14=0,A14,IF(E14=100,0.075,IF(F14=-100,"N/A",10^(H14+(G14-H14)*(B$4-J14)/(I14-J14))))) -> 0.075 | L14: =IF(K13="N/A",IF(K14="N/A","N/A",K14),"N/A") -> N/A
A15: 0.001 | B15: 0 | C15: =LOG10(A15) -> -3 | D15: =B15-B$4 -> -10 | E15: =IF(D15<=0,E14,IF(D15<E14,D15,E14)) -> 100 | F15: =IF(D15>=0,F14,IF(D15>F14,D15,F14)) -> -10 | G15: =IF(D15>0,C15,G14) -> 1.5740313 | H15: =IF(D15<0,C15,H14) -> -3 | I15: =B$4+E15 -> 110 | J15: =B$4+F15 -> 0 | K15: =IF(D15=0,A15,IF(E15=100,0.075,IF(F15=-100,"N/A",10^(H15+(G15-H15)*(B$4-J15)/(I15-J15))))) -> 0.075 | L15: =IF(K14="N/A",IF(K15="N/A","N/A",K15),"N/A") -> N/A
A16: 0.001 | B16: 0 | C16: =LOG10(A16) -> -3 | D16: =B16-B$4 -> -10 | E16: =IF(D16<=0,E15,IF(D16<E15,D16,E15)) -> 100 | F16: =IF(D16>=0,F15,IF(D16>F15,D16,F15)) -> -10 | G16: =IF(D16>0,C16,G15) -> 1.5740313 | H16: =IF(D16<0,C16,H15) -> -3 | I16: =B$4+E16 -> 110 | J16: =B$4+F16 -> 0 | K16: =IF(D16=0,A16,IF(E16=100,0.075,IF(F16=-100,"N/A",10^(H16+(G16-H16)*(B$4-J16)/(I16-J16))))) -> 0.075 | L16: =IF(K15="N/A",IF(K16="N/A","N/A",K16),"N/A") -> N/A
A17: 0.001 | B17: 0 | C17: =LOG10(A17) -> -3 | D17: =B17-B$4 -> -10 | E17: =IF(D17<=0,E16,IF(D17<E16,D17,E16)) -> 100 | F17: =IF(D17>=0,F16,IF(D17>F16,D17,F16)) -> -10 | G17: =IF(D17>0,C17,G16) -> 1.5740313 | H17: =IF(D17<0,C17,H16) -> -3 | I17: =B$4+E17 -> 110 | J17: =B$4+F17 -> 0 | K17: =IF(D17=0,A17,IF(E17=100,0.075,IF(F17=-100,"N/A",10^(H17+(G17-H17)*(B$4-J17)/(I17-J17))))) -> 0.075 | L17: =IF(K16="N/A",IF(K17="N/A","N/A",K17),"N/A") -> N/A
A18: 0.001 | B18: 0 | C18: =LOG10(A18) -> -3 | D18: =B18-B$4 -> -10 | E18: =IF(D18<=0,E17,IF(D18<E17,D18,E17)) -> 100 | F18: =IF(D18>=0,F17,IF(D18>F17,D18,F17)) -> -10 | G18: =IF(D18>0,C18,G17) -> 1.5740313 | H18: =IF(D18<0,C18,H17) -> -3 | I18: =B$4+E18 -> 110 | J18: =B$4+F18 -> 0 | K18: =IF(D18=0,A18,IF(E18=100,0.075,IF(F18=-100,"N/A",10^(H18+(G18-H18)*(B$4-J18)/(I18-J18))))) -> 0.075 | L18: =IF(K17="N/A",IF(K18="N/A","N/A",K18),"N/A") -> N/A
