Workbook
Name Units: sieves!$B$31:$B$33

Sheet sieves
A1: ID | B1: English
A2: 1
A3: 2 | B3: 3"
A4: 3 | B4: 2.5"
A5: 4 | B5: 2"
A6: 5 | B6: 1.5"
A7: 6 | B7: 1.25"
A8: 7 | B8: 1"
A9: 8 | B9: 3/4"
A10: 9 | B10: 5/8"
A11: 10 | B11: 1/2"
A12: 11 | B12: 3/8"
A13: 12 | B13: 1/4"
A14: 13 | B14: #4
A15: 1
A16: 2 | B16: #4
A17: 3 | B17: #6
A18: 4 | B18: #8
A19: 5 | B19: #10
A20: 6 | B20: #16
A21: 7 | B21: #20
A22: 8 | B22: #30
A23: 9 | B23: #40
A24: 10 | B24: #50
A25: 11 | B25: #60
A26: 12 | B26: #80
A27: 13 | B27: #100
A28: 14 | B28: #200
B31: lbs
B32: kg
B33: gram

Sheet sieve analysis
S1: G&B-101(6/12/20)
D3: Work Sheet for Sieve Analysis of Granular Material (English Sieves)
D4: See Grading & Base Manual, 5-692.215
D5: Weigh Coarse in grams, kg, or pounds and Fines in Grams
D7: Project No: | I7: Date: | M7: Test No:
D9: Material Type: | I9: Station: | N9: Depth From Grading Grade:
D11: Total Wt. of Sample: | I11: Units | L11: Tester Name or Certification No:
L14: (1) | M14: (2) | N14: (3) | P14: (4)
L15: Indiv. | M15: Sieve | N15: Cumulative | P15: Total % | Q15: Gradation
D16: Coarse Sieves: | L16: Weights | M16: Size | N16: Wts. Passing | P16: Passing | Q16: Requirements
D17: *Pass | G17: Sieve, Ret. | I17: 1 | K17: Sieve | N17: =IF(L17="", "", SUM(L17:L23)) | P17: =IF(N17="", "", N17/$L$24)
D18: *Pass | E18: 1 | G18: Sieve, Ret. | I18: 1 | K18: Sieve | M18: =VLOOKUP(I17, sieves!$A$1:$B$14, 2) | N18: =IF(L18="","",SUM(L18:L23)) | P18: =IF(N18="", "", N18/$L$24)
D19: *Pass | G19: Sieve, Ret. | I19: 1 | K19: Sieve | M19: =VLOOKUP(I18, sieves!$A$1:$B$14, 2) | N19: =IF(L19="", "", SUM(L19:L23)) | P19: =IF(N19="", "", N19/$L$24)
D20: *Pass | G20: Sieve, Ret. | I20: 1 | K20: Sieve | M20: =VLOOKUP(I19, sieves!$A$1:$B$14, 2) | N20: =IF(L20="", "", SUM(L20:L23)) | P20: =IF(N20="", "", N20/$L$24)
D21: *Pass | G21: Sieve, Ret. | I21: 1 | K21: Sieve | M21: =VLOOKUP(I20, sieves!$A$1:$B$14, 2) | N21: =IF(L21="", "", SUM(L21:L23)) | P21: =IF(N21="", "", N21/$L$24)
D22: *Pass | G22: Sieve, Ret. | I22: 1 | K22: Sieve | M22: =VLOOKUP(I21, sieves!$A$1:$B$14, 2) | N22: =IF(L22="", "", SUM(L22:L23)) | P22: =IF(N22="", "", N22/$L$24)
D23: *Pass | E23: 1 | G23: Sieve, Ret. Bottom | M23: =VLOOKUP(I22, sieves!$A$1:$B$14, 2) | N23: =IF(L23="", "", L23) | P23: =IF(N23="","",(N23/$L$24))
D24: Check Total - | L24: =IF(L23="", "", SUM(L17:L23)) | M24: - Shall Check Total Wt. Within 100 grams, 0.10 kg, 0.2 lbs
D25: *Enter necessary sieve sizes for class of material to be tested.
D26: Column (1) Enter weights of material between each set of sieves individually.
D27: Column (2) Enter the passing sieves size.
D28: Column (3) Add column (1) from the bottom up to get cumulative weights passing each sieve.
D29: Column (4) Divide column (3) by check total of sample to get total % passing.
D30: Fine Sieves:
D31: (A) Take two samples identical in condition and damp weight from "passing | O31: =IF(M23="", "", M23) | R31: material".
D32: (B) Dry one sample and record weight.
D33: (C) Wash and dry other sample and record weight.
D34: (D) Loss in washing (B-C) (Enter Below) | M34: =IF(M32=0,"",(+M32-M33))
L36: (5) | M36: (6) | N36: (7) | P36: (8) | Q36: (9)
L37: Indiv. | M37: Sieve | N37: Cumulative | P37: Cum. % | Q37: % Passing | R37: Gradation
L38: Weights | M38: Size | N38: Wts. Passing | P38: Passing | Q38: of Total Pass. | R38: Requirements
D39: *Pass | E39: 1 | G39: Sieve, Ret. | I39: 1 | K39: Sieve | M39: =VLOOKUP(E39, sieves!$A$15:$B$28, 2, 0) | N39: =IF(L39="", "", SUM(L39:L47)) | P39: =IF(N39="", "", N39/$L$48) | Q39: =IF(P39="","",((N23/L24)*(N39/L48)))
D40: *Pass | G40: Sieve, Ret. | I40: 1 | K40: Sieve | M40: =VLOOKUP(I39, sieves!$A$15:$B$28, 2, 0) | N40: =IF(L40="", "", SUM(L40:L47)) | P40: =IF(N40="", "", N40/$L$48) | Q40: =IF(P40="","",((N23/L24)*(N40/L48)))
D41: *Pass | G41: Sieve, Ret. | I41: 1 | K41: Sieve | M41: =VLOOKUP(I40, sieves!$A$15:$B$28, 2, 0) | N41: =IF(L41="", "", SUM(L41:L47)) | P41: =IF(N41="", "", N41/$L$48) | Q41: =IF(P41="","",((N23/L24)*(N41/L48)))
D42: *Pass | G42: Sieve, Ret. | I42: 1 | K42: Sieve | M42: =VLOOKUP(I41, sieves!$A$15:$B$28, 2, 0) | N42: =IF(L42="", "", SUM(L42:L47)) | P42: =IF(N42="", "", N42/$L$48) | Q42: =IF(P42="","",((N23/L24)*(N42/L48)))
D43: *Pass | G43: Sieve, Ret. | I43: 1 | K43: Sieve | M43: =VLOOKUP(I42, sieves!$A$15:$B$28, 2, 0) | N43: =IF(L43="", "", SUM(L43:L47)) | P43: =IF(N43="", "", N43/$L$48) | Q43: =IF(P43="","",((N23/L24)*(N43/L48)))
D44: *Pass | G44: Sieve, Ret. | I44: 1 | K44: Sieve | M44: =VLOOKUP(I43, sieves!$A$15:$B$28, 2, 0) | N44: =IF(L44="", "", SUM(L44:L47)) | P44: =IF(N44="", "", N44/$L$48) | Q44: =IF(P44="","",((N23/L24)*(N44/L48)))
D45: *Pass | G45: Sieve, Ret. | I45: 1 | K45: Sieve | M45: =VLOOKUP(I44, sieves!$A$15:$B$28, 2, 0) | N45: =IF(L45="", "", SUM(L45:L47)) | P45: =IF(N45="", "", N45/$L$48) | Q45: =IF(P45="","",((N23/L24)*(N45/L48)))
D46: *Pass | G46: Sieve, Ret. Bottom | M46: =VLOOKUP(I45, sieves!$A$15:$B$28, 2, 0) | N46: =IF(L46="", "", SUM(L46:L47)) | P46: =IF(N46="", "", N46/$L$48) | Q46: =IF(P46="","",((N23/L24)*(N46/L48)))
D47: Loss by washing- | L47: =IF(M34="", "", M34)
...
