Workbook

Sheet Procedures
B4: Contractor Mix Design - MnDOT 3137 Gradation (Pilot Projects)
B6: 1. Click on the "Contractor Mix Design" tab.
B7: - In the blue boxes at the top of the page, complete all project and contact information.
B8: Requests will not be processed if information is not complete.
B10: 2. Identify the proposed aggregates.
B11: - Obtain current specific gravities and absorptions by emailing the Concrete Office
B12: conc1off.dot@state.mn.us
B14: 3. Identify the proposed cementitious and admixture sources.
B15: - Use the specific gravities and abbreviations for cementitious materials on the MnDOT approved/qualified
B16: products list.
B17: http://www.dot.state.mn.us/products/concrete/index.html
B19: 4. Identify the mix by the MnDOT pilot project mix designations. Refer to the Pilot Project Special Provisions
B20: 2461.2.F to determine mix numbers for the intended use.
B22: First | C22: Second | D22: Third | E22: Fourth | F22: Fifth | G22: Sixth | H22: Additional
B23: Digit | C23: Digit | D23: Digit | E23: Digit | F23: Digit | G23: Digit | H23: Digit
B24: Type | C24: Grade | D24: Max Slump | E24: Coarse Agg. | F24: Class of Coarse Agg | G24: Supplementary Cementitious Material | H24: Additional Digits Allowed
B28: 5. Enter the mix design weights for the water and cementitious materials.
B29: - The proportion percentages will then appear to the right of the weight boxes.
B31: 6. Enter the fine aggregate proportion.
B32: - The fine aggregate weight will then appear to the left of the proportion boxes.
B34: 7. Enter the coarse aggregate proportion(s).
B35: - The coarse aggregate weight(s) will then appear to the left of the proportion boxes.
B37: 8. Enter the percent air content, slump range and admixture dosage range.
B38: - Admixture dosage rates must be within the manufacturers recommended
B39: range from the MnDOT approved/qualified products list.
C40: http://www.dot.state.mn.us/products/concrete/index.html
B42: 9. Click on the "Coarse Agg. Gradation" tab.
B43: - Enter gradations in the blue boxes.
B45: 10. For Pilot Projects, click on the "Strength Test Data" tab.
B46: - Enter the required information for each mix design in the blue boxes.
B48: 11. Email the mix design to the MnDOT Concrete Office for approval.
D49: conc1off.dot@state.mn.us

Sheet Contractor Mix Design
K2: (1/2014)
D3: Minnesota Department of Transportation
D4: Contractor Mix Design - MnDOT 3137 Gradation | J4: 2014
G5: Use For: | H5: -Pilot Projects | W5: -1 | X5: -2 | Y5: -3 | Z5: -4 | AA5: -5 | AB5: -6 | AC5: -7 | AD5: -8 | AE5: -9 | AF5: -10 | AG5: -11 | AH5: -12 | AI5: -13 | AJ5: -14 | AK5: -15 | AL5: -16 | AM5: -17 | AN5: -18 | AO5: -19 | AP5: -20 | AQ5: -21 | AR5: -22 | AS5: -23 | AT5: -24 | AU5: -25 | AV5: -26 | AW5: -27 | AX5: -28 | AY5: -29 | AZ5: -30 | BA5: -31 | BB5: -32 | BC5: -33 | BD5: -34 | BE5: -35 | BF5: -36 | BG5: -37 | BH5: -38 | BI5: -39 | BJ5: -40 | BK5: -41 | BL5: -42 | BM5: -43 | BN5: -44 | BO5: -45 | BP5: -46 | BQ5: -47 | BR5: -48 | BS5: -49 | BT5: -50 | BU5: -51 | BV5: -52 | BW5: -53 | BX5: -54 | BY5: -55 | BZ5: -56 | CA5: -57 | CB5: -58 | CC5: -59 | CD5: -60 | CE5: -61 | CF5: -62 | CG5: -63 | CH5: -64 | CI5: -65 | CJ5: -66 | CK5: -67 | CL5: -68 | CM5: -69 | CN5: -70
B6: S.P. Number: | P6: Air Content | Q6: Coarse Aggregate Designation | T6: Cement | U6: Fly Ash | V6: Slag | X6: Admix Units | AC6: Type/Class | AD6: Slump Range
B7: Requested By: | P7: 0.02 | R7: CA-15 | T7: I | U7: C | V7: 100 | W7: A | X7: oz/100# CM | AC7: AEA | AD7: 1/2" - 1"
B8: Company Name: | P8: 0.065 | R8: CA-35 | T8: I/II | U8: C/F | V8: 120 | W8: B | X8: oz/cy | AC8: A | AD8: 1/2" - 3"
B9: Phone: | G9: Coarse Agg. Designation: | P9: 0.07 | R9: CA-50 | T9: IL(10) | U9: F | W9: C | AC9: B | AD9: 1" - 2"
B10: Email: | G10: Plant Name: | R10: CA-60 | W10: R | AC10: C | AD10: 1" - 3"
B11: Agency/Contact: | G11: Contractor: | R11: CA-70 | AC11: D | AD11: 1" - 4"
B12: Agency Phone: | G12: Date Submitted: | R12: CA-80 | AC12: E | AD12: 2" - 4"
B13: Agency Email: | H13: Submit to: | I13: MnDOT Concrete Office | R13: #467 | AC13: F | AD13: 2" - 5"
B14: Proposed Aggregate, Cementitious (CM) and Admixtures Sources | I14: Email: conc1off.dot@state.mn.us | R14: #67 | AC14: G | AD14: 2" - 6"
D15: CA #1 | E15: CA #2 | F15: CA #3 | G15: FA #1 | R15: #7 | AC15: S | AD15: 3" - 6"
B16: Pit Number | R16: #89 | AD16: 3" - 7"
B17: Pit Name
B18: Size/Fraction
B19: Specific Gravity
B20: Absorption
B21: Aggregate Class | I21: Specific Gravity
D22: Manufacturer/Supplier | F22: MnDOT Abbreviation | H22: Type/Class
B23: Cement | I23: =IF(H23="IL(10)",3.1,3.15) -> 3.15
B24: Fly Ash
B25: Other CM
B26: Admix #1
B27: Admix # 2
B28: Admix #3
B29: Admix #4
B30: Color Additive | F30: Color
B31: Proposed Mix Designs | E31: (All weights are in lb/cy, aggregates are considered to be Oven Dry, the unit weight of water is 62.4 lb/cf, admixtures dosages are in oz/100# CM or oz/cy, volume of mix is 27.00 cf +/- 0.10 cf)
B32: MnDOT Mix Number
B33: Water
B34: Cement | E34: =IF(D34="","",(D34/(SUM(D34:D36)))) | G34: =IF(F34="","",(F34/(SUM(F34:F36)))) | I34: =IF(H34="","",(H34/(SUM(H34:H36)))) | K34: =IF(J34="","",(J34/(SUM(J34:J36))))
B35: Fly Ash | E35: =IF(D35="","",(D35/(SUM(D34:D36)))) | G35: =IF(F35="","",(F35/(SUM(F34:F36)))) | I35: =IF(H35="","",(H35/(SUM(H34:H36)))) | K35: =IF(J35="","",(J35/(SUM(J34:J36))))
B36: Other CM | E36: =IF(D36="","",(D36/(SUM(D34:D36)))) | G36: =IF(F36="","",(F36/(SUM(F34:F36)))) | I36: =IF(H36="","",(H36/(SUM(H34:H36)))) | K36: =IF(J36="","",(J36/(SUM(J34:J36))))
B37: Total Cementitious | D37: =IF(D33="","",SUM(D34:D36)) | F37: =IF(F33="","",SUM(F34:F36)) | H37: =IF(H33="","",SUM(H34:H36)) | J37: =IF(J33="","",SUM(J34:J36))
B38: W/CM Ratio | D38: =IF(D33="","",(D33/(SUM(D34:D36)))) | F38: =IF(F33="","",(F33/(SUM(F34:F36)))) | H38: =IF(H33="","",(H33/(SUM(H34:H36)))) | J38: =IF(J33="","",(J33/(SUM(J34:J36))))
E39: % FA | G39: % FA | I39: % FA | K39: % FA
B40: FA #1 | C40: =IF(G$18="","",G$18) | D40: =IF(D$33="","",X$48/100*W$40) | F40: =IF(F$33="","",Z$48/100*Y$40) | H40: =IF(H$33="","",AB$48/100*AA$40) | J40: =IF(J$33="","",AD$48/100*AC$40) | W40: =E40 -> 0 | X40: =((W$40/100*(27-((((((D$33/62.4)+(D$34/(62.4*$I$23)))+(IF($I$24="",0,(D$35/(62.4*$I$24))))+(IF($I$25="",0,(D$36/(62.4*$I$25))))+(D$48*27))))))*(62.4*$G$19))) -> 0 | Y40: =G40 -> 0 | Z40: =((Y$40/100*(27-((((((F$33/62.4)+(F$34/(62.4*$I$23)))+(IF($I$24="",0,(F$35/(62.4*$I$24))))+(IF($I$25="",0,(F$36/(62.4*$I$25))))+(F$48*27))))))*(62.4*$G$19))) -> 0 | AA40: =I40 -> 0 | AB40: =((AA$40/100*(27-((((((H$33/62.4)+(H$34/(62.4*$I$23)))+(IF($I$24="",0,(H$35/(62.4*$I$24))))+(IF($I$25="",0,(H$36/(62.4*$I$25))))+(H$48*27))))))*(62.4*$G$19))) -> 0 | AC40: =K40 -> 0 | AD40: =((AC$40/100*(27-((((((J$33/62.4)+(J$34/(62.4*$I$23)))+(IF($I$24="",0,(J$35/(62.4*$I$24))))+(IF($I$25="",0,(J$36/(62.4*$I$25))))+(J$48*27))))))*(62.4*$G$19))) -> 0
E41: % CA | G41: % CA | I41: % CA | K41: % CA
...

Sheet Coarse Agg. Gradation
D3: Minnesota Department of Transportation
D4: Coarse Aggregate Gradation Specification 3137
C6: SP: | D6: =IF('Contractor Mix Design'!D6:F6="","",'Contractor Mix Design'!$D$6:$F$6) | I6: Coarse Aggregate Designation: | N6: =IF('Contractor Mix Design'!I9="","",'Contractor Mix Design'!$I$9)
C8: Mix Numbers: | E8: =IF('Contractor Mix Design'!$D$32="","",'Contractor Mix Design'!$D$32) | G8: =IF('Contractor Mix Design'!$E$32="","",'Contractor Mix Design'!$E$32) | I8: =IF('Contractor Mix Design'!$F$32="","",'Contractor Mix Design'!$F$32) | K8: =IF('Contractor Mix Design'!$G$32="","",'Contractor Mix Design'!$G$32) | L8: =IF('Contractor Mix Design'!$H$32="","",'Contractor Mix Design'!$H$32) | N8: =IF('Contractor Mix Design'!$I$32="","",'Contractor Mix Design'!$I$32) | O8: =IF('Contractor Mix Design'!$J$32="","",'Contractor Mix Design'!$J$32) | Q8: =IF('Contractor Mix Design'!$K$32="","",'Contractor Mix Design'!$K$32)
E10: CA #1 | G10: CA #2 | I10: CA #3
C11: Aggregate Size | E11: =IF('Contractor Mix Design'!$D$18="","",'Contractor Mix Design'!$D$18) | G11: =IF('Contractor Mix Design'!$E$18="","",'Contractor Mix Design'!$E$18) | I11: =IF('Contractor Mix Design'!$F$18="","",'Contractor Mix Design'!$F$18) | K11: Total % Passing | N11: Gradation Specification | AD11: #467 | AE11: #67 | AF11: #7 | AG11: #89 | AH11: CA-15 | AI11: CA-35 | AJ11: CA-50 | AK11: CA-60 | AL11: CA-70 | AM11: CA-80
C12: Proportion, % | E12: =IF('Contractor Mix Design'!$E$45="","",'Contractor Mix Design'!$E$45) | G12: =IF('Contractor Mix Design'!$E$46="","",'Contractor Mix Design'!$E$46) | I12: =IF('Contractor Mix Design'!$E$47="","",'Contractor Mix Design'!$E$47) | AC12: 2" | AD12: 100 | AE12: - | AF12: - | AG12: - | AH12: 100 | AI12: - | AJ12: - | AK12: - | AL12: - | AM12: -
C13: Sieves | D13: 2" | K13: =IF($E$13="","",(($E$13*$E$12/100))+((IF($G$13="",0,$G$13*$G$12/100)))+((IF($I$13="",0,$I$13*$I$12/100)))) | N13: =IF('Contractor Mix Design'!I9="","",LOOKUP($N$6,$AD$11:$AM$11,$AD$12:$AM$12)) | O13: - | P13: =IF('Contractor Mix Design'!I9="","",LOOKUP($N$6,$AD$29:$AM$29,$AD$30:$AM$30)) | AC13: 1 1/2" | AD13: 95 | AE13: - | AF13: - | AG13: - | AH13: 90 | AI13: 100 | AJ13: - | AK13: - | AL13: - | AM13: -
D14: 1 1/2" | K14: =IF($E$14="","",(($E$14*$E$12/100))+((IF($G$14="",0,$G$14*$G$12/100)))+((IF($I$14="",0,$I$14*$I$12/100)))) | N14: =IF('Contractor Mix Design'!I9="","",LOOKUP($N$6,$AD$11:$AM$11,$AD$13:$AM$13)) | O14: - | P14: =IF('Contractor Mix Design'!I9="","",LOOKUP($N$6,$AD$29:$AM$29,$AD$31:$AM$31)) | AC14: 1 1/4" | AD14: - | AE14: - | AF14: - | AG14: - | AH14: - | AI14: 95 | AJ14: - | AK14: - | AL14: - | AM14: -
D15: 1 1/4" | K15: =IF($E$15="","",(($E$15*$E$12/100))+((IF($G$15="",0,$G$15*$G$12/100)))+((IF($I$15="",0,$I$15*$I$12/100)))) | N15: =IF('Contractor Mix Design'!I9="","",LOOKUP($N$6,$AD$11:$AM$11,$AD$14:$AM$14)) | O15: - | P15: =IF('Contractor Mix Design'!I9="","",LOOKUP($N$6,$AD$29:$AM$29,$AD$32:$AM$32)) | AC15: 1" | AD15: - | AE15: 100 | AF15: - | AG15: - | AH15: - | AI15: - | AJ15: 100 | AK15: - | AL15: - | AM15: -
D16: 1" | K16: =IF($E$16="","",(($E$16*$E$12/100))+((IF($G$16="",0,$G$16*$G$12/100)))+((IF($I$16="",0,$I$16*$I$12/100)))) | N16: =IF('Contractor Mix Design'!I9="","",LOOKUP($N$6,$AD$11:$AM$11,$AD$15:$AM$15)) | O16: - | P16: =IF('Contractor Mix Design'!I9="","",LOOKUP($N$6,$AD$29:$AM$29,$AD$33:$AM$33)) | AC16: 3/4" | AD16: 35 | AE16: 90 | AF16: 100 | AG16: - | AH16: 35 | AI16: 55 | AJ16: 85 | AK16: 100 | AL16: - | AM16: -
D17: 3/4" | K17: =IF($E$17="","",(($E$17*$E$12/100))+((IF($G$17="",0,$G$17*$G$12/100)))+((IF($I$17="",0,$I$17*$I$12/100)))) | N17: =IF('Contractor Mix Design'!I9="","",LOOKUP($N$6,$AD$11:$AM$11,$AD$16:$AM$16)) | O17: - | P17: =IF('Contractor Mix Design'!I9="","",LOOKUP($N$6,$AD$29:$AM$29,$AD$34:$AM$34)) | AC17: 5/8" | AD17: - | AE17: - | AF17: - | AG17: - | AH17: - | AI17: - | AJ17: - | AK17: 85 | AL17: 100 | AM17: -
D18: 5/8" | K18: =IF($E$18="","",(($E$18*$E$12/100))+((IF($G$18="",0,$G$18*$G$12/100)))+((IF($I$18="",0,$I$18*$I$12/100)))) | N18: =IF('Contractor Mix Design'!I9="","",LOOKUP($N$6,$AD$11:$AM$11,$AD$17:$AM$17)) | O18: - | P18: =IF('Contractor Mix Design'!I9="","",LOOKUP($N$6,$AD$29:$AM$29,$AD$35:$AM$35)) | AC18: 1/2" | AD18: - | AE18: - | AF18: 90 | AG18: 100 | AH18: - | AI18: - | AJ18: - | AK18: - | AL18: 85 | AM18: -
D19: 1/2" | K19: =IF($E$19="","",(($E$19*$E$12/100))+((IF($G$19="",0,$G$19*$G$12/100)))+((IF($I$19="",0,$I$19*$I$12/100)))) | N19: =IF('Contractor Mix Design'!I9="","",LOOKUP($N$6,$AD$11:$AM$11,$AD$18:$AM$18)) | O19: - | P19: =IF('Contractor Mix Design'!I9="","",LOOKUP($N$6,$AD$29:$AM$29,$AD$36:$AM$36)) | AC19: 3/8" | AD19: 10 | AE19: 20 | AF19: 40 | AG19: 90 | AH19: 5 | AI19: 20 | AJ19: 30 | AK19: 40 | AL19: 50 | AM19: 100
D20: 3/8" | K20: =IF($E$20="","",(($E$20*$E$12/100))+((IF($G$20="",0,$G$20*$G$12/100)))+((IF($I$20="",0,$I$20*$I$12/100)))) | N20: =IF('Contractor Mix Design'!I9="","",LOOKUP($N$6,$AD$11:$AM$11,$AD$19:$AM$19)) | O20: - | P20: =IF('Contractor Mix Design'!I9="","",LOOKUP($N$6,$AD$29:$AM$29,$AD$37:$AM$37)) | AC20: #4 | AD20: 0 | AE20: 0 | AF20: 0 | AG20: 20 | AH20: 0 | AI20: 0 | AJ20: 0 | AK20: 0 | AL20: 0 | AM20: 55
D21: #4 | K21: =IF($E$21="","",(($E$21*$E$12/100))+((IF($G$21="",0,$G$21*$G$12/100)))+((IF($I$21="",0,$I$21*$I$12/100)))) | N21: =IF('Contractor Mix Design'!I9="","",LOOKUP($N$6,$AD$11:$AM$11,$AD$20:$AM$20)) | O21: - | P21: =IF('Contractor Mix Design'!I9="","",LOOKUP($N$6,$AD$29:$AM$29,$AD$38:$AM$38)) | AC21: #8 | AD21: - | AE21: - | AF21: - | AG21: - | AH21: - | AI21: - | AJ21: - | AK21: - | AL21: - | AM21: -
D22: #8 | K22: =IF($E$22="","",(($E$22*$E$12/100))+((IF($G$22="",0,$G$22*$G$12/100)))+((IF($I$22="",0,$I$22*$I$12/100)))) | N22: =IF('Contractor Mix Design'!I9="","",LOOKUP($N$6,$AD$11:$AM$11,$AD$21:$AM$21)) | O22: - | P22: =IF('Contractor Mix Design'!I9="","",LOOKUP($N$6,$AD$29:$AM$29,$AD$39:$AM$39)) | AC22: #16 | AD22: - | AE22: - | AF22: - | AG22: 0 | AH22: - | AI22: - | AJ22: - | AK22: - | AL22: - | AM22: -
D23: #16 | K23: =IF($E$23="","",(($E$23*$E$12/100))+((IF($G$23="",0,$G$23*$G$12/100)))+((IF($I$23="",0,$I$23*$I$12/100)))) | N23: =IF('Contractor Mix Design'!I9="","",LOOKUP($N$6,$AD$11:$AM$11,$AD$22:$AM$22)) | O23: - | P23: =IF('Contractor Mix Design'!I9="","",LOOKUP($N$6,$AD$29:$AM$29,$AD$40:$AM$40)) | AC23: #50 | AD23: - | AE23: - | AF23: - | AG23: 0 | AH23: - | AI23: - | AJ23: - | AK23: - | AL23: - | AM23: -
D24: #50 | K24: =IF($E$24="","",(($E$24*$E$12/100))+((IF($G$24="",0,$G$24*$G$12/100)))+((IF($I$24="",0,$I$24*$I$12/100)))) | N24: =IF('Contractor Mix Design'!I9="","",LOOKUP($N$6,$AD$11:$AM$11,$AD$23:$AM$23)) | O24: - | P24: =IF('Contractor Mix Design'!I9="","",LOOKUP($N$6,$AD$29:$AM$29,$AD$41:$AM$41))
AD29: #467 | AE29: #67 | AF29: #7 | AG29: #89 | AH29: CA-15 | AI29: CA-35 | AJ29: CA-50 | AK29: CA-60 | AL29: CA-70 | AM29: CA-80
AC30: 2" | AD30: 100 | AE30: - | AF30: - | AG30: - | AH30: 100 | AI30: - | AJ30: - | AK30: - | AL30: - | AM30: -
AC31: 1 1/2" | AD31: 100 | AE31: - | AF31: - | AG31: - | AH31: 100 | AI31: 100 | AJ31: - | AK31: - | AL31: - | AM31: -
AC32: 1 1/4" | AD32: - | AE32: - | AF32: - | AG32: - | AH32: - | AI32: 100 | AJ32: - | AK32: - | AL32: - | AM32: -
AC33: 1" | AD33: - | AE33: 100 | AF33: - | AG33: - | AH33: - | AI33: - | AJ33: 100 | AK33: - | AL33: - | AM33: -
AC34: 3/4" | AD34: 70 | AE34: 100 | AF34: 100 | AG34: - | AH34: 65 | AI34: 85 | AJ34: 100 | AK34: 100 | AL34: - | AM34: -
AC35: 5/8" | AD35: - | AE35: - | AF35: - | AG35: - | AH35: - | AI35: - | AJ35: - | AK35: 100 | AL35: 100 | AM35: -
AC36: 1/2" | AD36: - | AE36: - | AF36: 100 | AG36: 100 | AH36: - | AI36: - | AJ36: - | AK36: - | AL36: 100 | AM36: -
AC37: 3/8" | AD37: 30 | AE37: 55 | AF37: 70 | AG37: 100 | AH37: 25 | AI37: 45 | AJ37: 60 | AK37: 70 | AL37: 100 | AM37: 100
AC38: #4 | AD38: 5 | AE38: 10 | AF38: 15 | AG38: 55 | AH38: 7 | AI38: 7 | AJ38: 12 | AK38: 12 | AL38: 25 | AM38: 95
AC39: #8 | AD39: - | AE39: - | AF39: - | AG39: - | AH39: - | AI39: - | AJ39: - | AK39: - | AL39: - | AM39: -
AC40: #16 | AD40: - | AE40: - | AF40: - | AG40: 10 | AH40: - | AI40: - | AJ40: - | AK40: - | AL40: - | AM40: -
AC41: #50 | AD41: - | AE41: - | AF41: - | AG41: 5 | AH41: - | AI41: - | AJ41: - | AK41: - | AL41: - | AM41: -

Sheet Strength Test Data
D3: Minnesota Department of Transportation | L3: 1/2014 | O3: Minnesota Department of Transportation | W3: 1/2014 | Z3: Minnesota Department of Transportation | AH3: 1/2014 | AK3: Minnesota Department of Transportation | AS3: 1/2014
D4: Strength Test Data | O4: Strength Test Data | Z4: Strength Test Data | AK4: Strength Test Data
B6: Company: | M6: Company: | X6: Company: | AI6: Company:
B7: Mix Designation: | M7: Mix Designation: | X7: Mix Designation: | AI7: Mix Designation:
B8: Specified Strength: | G8: psi | M8: Specified Strength: | R8: psi | X8: Specified Strength: | AC8: psi | AI8: Specified Strength: | AN8: psi
B10: Strength Test Evaluation | M10: Strength Test Evaluation | X10: Strength Test Evaluation | AI10: Strength Test Evaluation
F11: Conc. | G11: 28D | H11: 28D | I11: 28D | K11: Ave. | L11: Moving | Q11: Conc. | R11: 28D | S11: 28D | T11: 28D | V11: Ave. | W11: Moving | AB11: Conc. | AC11: 28D | AD11: 28D | AE11: 28D | AG11: Ave. | AH11: Moving | AM11: Conc. | AN11: 28D | AO11: 28D | AP11: 28D | AR11: Ave. | AS11: Moving
B12: Test | D12: Slump | E12: Air | F12: Temp. | G12: Cyl.#1 | H12: Cyl.#2 | I12: Cyl.#3 | K12: Strength | L12: Ave. of | M12: Test | O12: Slump | P12: Air | Q12: Temp. | R12: Cyl.#1 | S12: Cyl.#2 | T12: Cyl.#3 | V12: Strength | W12: Ave. of | X12: Test | Z12: Slump | AA12: Air | AB12: Temp. | AC12: Cyl.#1 | AD12: Cyl.#2 | AE12: Cyl.#3 | AG12: Strength | AH12: Ave. of | AI12: Test | AK12: Slump | AL12: Air | AM12: Temp. | AN12: Cyl.#1 | AO12: Cyl.#2 | AP12: Cyl.#3 | AR12: Strength | AS12: Ave. of
B13: No. | C13: Date | D13: in. | E13: % | F13: F | G13: psi | H13: psi | I13: psi | J13: Range | K13: psi | L13: Three | M13: No. | N13: Date | O13: in. | P13: % | Q13: F | R13: psi | S13: psi | T13: psi | U13: Range | V13: psi | W13: Three | X13: No. | Y13: Date | Z13: in. | AA13: % | AB13: F | AC13: psi | AD13: psi | AE13: psi | AF13: Range | AG13: psi | AH13: Three | AI13: No. | AJ13: Date | AK13: in. | AL13: % | AM13: F | AN13: psi | AO13: psi | AP13: psi | AQ13: Range | AR13: psi | AS13: Three
J14: =IF(AND(AND(G14="",H14="",I14="")),"",MAX(G14:I14)-MIN(G14:I14)) | K14: =IF(AND(AND(G14="",H14="",I14="")),"",AVERAGE(G14:I14)) | U14: =IF(AND(AND(R14="",S14="",T14="")),"",MAX(R14:T14)-MIN(R14:T14)) | V14: =IF(AND(AND(R14="",S14="",T14="")),"",AVERAGE(R14:T14)) | AF14: =IF(AND(AND(AC14="",AD14="",AE14="")),"",MAX(AC14:AE14)-MIN(AC14:AE14)) | AG14: =IF(AND(AND(AC14="",AD14="",AE14="")),"",AVERAGE(AC14:AE14)) | AQ14: =IF(AND(AND(AN14="",AO14="",AP14="")),"",MAX(AN14:AP14)-MIN(AN14:AP14)) | AR14: =IF(AND(AND(AN14="",AO14="",AP14="")),"",AVERAGE(AN14:AP14))
J15: =IF(AND(AND(G15="",H15="",I15="")),"",MAX(G15:I15)-MIN(G15:I15)) | K15: =IF(AND(AND(G15="",H15="",I15="")),"",AVERAGE(G15:I15)) | U15: =IF(AND(AND(R15="",S15="",T15="")),"",MAX(R15:T15)-MIN(R15:T15)) | V15: =IF(AND(AND(R15="",S15="",T15="")),"",AVERAGE(R15:T15)) | AF15: =IF(AND(AND(AC15="",AD15="",AE15="")),"",MAX(AC15:AE15)-MIN(AC15:AE15)) | AG15: =IF(AND(AND(AC15="",AD15="",AE15="")),"",AVERAGE(AC15:AE15)) | AQ15: =IF(AND(AND(AN15="",AO15="",AP15="")),"",MAX(AN15:AP15)-MIN(AN15:AP15)) | AR15: =IF(AND(AND(AN15="",AO15="",AP15="")),"",AVERAGE(AN15:AP15))
J16: =IF(AND(AND(G16="",H16="",I16="")),"",MAX(G16:I16)-MIN(G16:I16)) | K16: =IF(AND(AND(G16="",H16="",I16="")),"",AVERAGE(G16:I16)) | L16: =IF(AND(AND(G16="",H16="",I16="")),"",AVERAGE(K14:K16)) | U16: =IF(AND(AND(R16="",S16="",T16="")),"",MAX(R16:T16)-MIN(R16:T16)) | V16: =IF(AND(AND(R16="",S16="",T16="")),"",AVERAGE(R16:T16)) | W16: =IF(AND(AND(R16="",S16="",T16="")),"",AVERAGE(V14:V16)) | AF16: =IF(AND(AND(AC16="",AD16="",AE16="")),"",MAX(AC16:AE16)-MIN(AC16:AE16)) | AG16: =IF(AND(AND(AC16="",AD16="",AE16="")),"",AVERAGE(AC16:AE16)) | AH16: =IF(AND(AND(AC16="",AD16="",AE16="")),"",AVERAGE(AG14:AG16)) | AQ16: =IF(AND(AND(AN16="",AO16="",AP16="")),"",MAX(AN16:AP16)-MIN(AN16:AP16)) | AR16: =IF(AND(AND(AN16="",AO16="",AP16="")),"",AVERAGE(AN16:AP16)) | AS16: =IF(AND(AND(AN16="",AO16="",AP16="")),"",AVERAGE(AR14:AR16))
J17: =IF(AND(AND(G17="",H17="",I17="")),"",MAX(G17:I17)-MIN(G17:I17)) | K17: =IF(AND(AND(G17="",H17="",I17="")),"",AVERAGE(G17:I17)) | L17: =IF(AND(AND(G17="",H17="",I17="")),"",AVERAGE(K15:K17)) | U17: =IF(AND(AND(R17="",S17="",T17="")),"",MAX(R17:T17)-MIN(R17:T17)) | V17: =IF(AND(AND(R17="",S17="",T17="")),"",AVERAGE(R17:T17)) | W17: =IF(AND(AND(R17="",S17="",T17="")),"",AVERAGE(V15:V17)) | AF17: =IF(AND(AND(AC17="",AD17="",AE17="")),"",MAX(AC17:AE17)-MIN(AC17:AE17)) | AG17: =IF(AND(AND(AC17="",AD17="",AE17="")),"",AVERAGE(AC17:AE17)) | AH17: =IF(AND(AND(AC17="",AD17="",AE17="")),"",AVERAGE(AG15:AG17)) | AQ17: =IF(AND(AND(AN17="",AO17="",AP17="")),"",MAX(AN17:AP17)-MIN(AN17:AP17)) | AR17: =IF(AND(AND(AN17="",AO17="",AP17="")),"",AVERAGE(AN17:AP17)) | AS17: =IF(AND(AND(AN17="",AO17="",AP17="")),"",AVERAGE(AR15:AR17))
J18: =IF(AND(AND(G18="",H18="",I18="")),"",MAX(G18:I18)-MIN(G18:I18)) | K18: =IF(AND(AND(G18="",H18="",I18="")),"",AVERAGE(G18:I18)) | L18: =IF(AND(AND(G18="",H18="",I18="")),"",AVERAGE(K16:K18)) | U18: =IF(AND(AND(R18="",S18="",T18="")),"",MAX(R18:T18)-MIN(R18:T18)) | V18: =IF(AND(AND(R18="",S18="",T18="")),"",AVERAGE(R18:T18)) | W18: =IF(AND(AND(R18="",S18="",T18="")),"",AVERAGE(V16:V18)) | AF18: =IF(AND(AND(AC18="",AD18="",AE18="")),"",MAX(AC18:AE18)-MIN(AC18:AE18)) | AG18: =IF(AND(AND(AC18="",AD18="",AE18="")),"",AVERAGE(AC18:AE18)) | AH18: =IF(AND(AND(AC18="",AD18="",AE18="")),"",AVERAGE(AG16:AG18)) | AQ18: =IF(AND(AND(AN18="",AO18="",AP18="")),"",MAX(AN18:AP18)-MIN(AN18:AP18)) | AR18: =IF(AND(AND(AN18="",AO18="",AP18="")),"",AVERAGE(AN18:AP18)) | AS18: =IF(AND(AND(AN18="",AO18="",AP18="")),"",AVERAGE(AR16:AR18))
J19: =IF(AND(AND(G19="",H19="",I19="")),"",MAX(G19:I19)-MIN(G19:I19)) | K19: =IF(AND(AND(G19="",H19="",I19="")),"",AVERAGE(G19:I19)) | L19: =IF(AND(AND(G19="",H19="",I19="")),"",AVERAGE(K17:K19)) | U19: =IF(AND(AND(R19="",S19="",T19="")),"",MAX(R19:T19)-MIN(R19:T19)) | V19: =IF(AND(AND(R19="",S19="",T19="")),"",AVERAGE(R19:T19)) | W19: =IF(AND(AND(R19="",S19="",T19="")),"",AVERAGE(V17:V19)) | AF19: =IF(AND(AND(AC19="",AD19="",AE19="")),"",MAX(AC19:AE19)-MIN(AC19:AE19)) | AG19: =IF(AND(AND(AC19="",AD19="",AE19="")),"",AVERAGE(AC19:AE19)) | AH19: =IF(AND(AND(AC19="",AD19="",AE19="")),"",AVERAGE(AG17:AG19)) | AQ19: =IF(AND(AND(AN19="",AO19="",AP19="")),"",MAX(AN19:AP19)-MIN(AN19:AP19)) | AR19: =IF(AND(AND(AN19="",AO19="",AP19="")),"",AVERAGE(AN19:AP19)) | AS19: =IF(AND(AND(AN19="",AO19="",AP19="")),"",AVERAGE(AR17:AR19))
J20: =IF(AND(AND(G20="",H20="",I20="")),"",MAX(G20:I20)-MIN(G20:I20)) | K20: =IF(AND(AND(G20="",H20="",I20="")),"",AVERAGE(G20:I20)) | L20: =IF(AND(AND(G20="",H20="",I20="")),"",AVERAGE(K18:K20)) | U20: =IF(AND(AND(R20="",S20="",T20="")),"",MAX(R20:T20)-MIN(R20:T20)) | V20: =IF(AND(AND(R20="",S20="",T20="")),"",AVERAGE(R20:T20)) | W20: =IF(AND(AND(R20="",S20="",T20="")),"",AVERAGE(V18:V20)) | AF20: =IF(AND(AND(AC20="",AD20="",AE20="")),"",MAX(AC20:AE20)-MIN(AC20:AE20)) | AG20: =IF(AND(AND(AC20="",AD20="",AE20="")),"",AVERAGE(AC20:AE20)) | AH20: =IF(AND(AND(AC20="",AD20="",AE20="")),"",AVERAGE(AG18:AG20)) | AQ20: =IF(AND(AND(AN20="",AO20="",AP20="")),"",MAX(AN20:AP20)-MIN(AN20:AP20)) | AR20: =IF(AND(AND(AN20="",AO20="",AP20="")),"",AVERAGE(AN20:AP20)) | AS20: =IF(AND(AND(AN20="",AO20="",AP20="")),"",AVERAGE(AR18:AR20))
J21: =IF(AND(AND(G21="",H21="",I21="")),"",MAX(G21:I21)-MIN(G21:I21)) | K21: =IF(AND(AND(G21="",H21="",I21="")),"",AVERAGE(G21:I21)) | L21: =IF(AND(AND(G21="",H21="",I21="")),"",AVERAGE(K19:K21)) | U21: =IF(AND(AND(R21="",S21="",T21="")),"",MAX(R21:T21)-MIN(R21:T21)) | V21: =IF(AND(AND(R21="",S21="",T21="")),"",AVERAGE(R21:T21)) | W21: =IF(AND(AND(R21="",S21="",T21="")),"",AVERAGE(V19:V21)) | AF21: =IF(AND(AND(AC21="",AD21="",AE21="")),"",MAX(AC21:AE21)-MIN(AC21:AE21)) | AG21: =IF(AND(AND(AC21="",AD21="",AE21="")),"",AVERAGE(AC21:AE21)) | AH21: =IF(AND(AND(AC21="",AD21="",AE21="")),"",AVERAGE(AG19:AG21)) | AQ21: =IF(AND(AND(AN21="",AO21="",AP21="")),"",MAX(AN21:AP21)-MIN(AN21:AP21)) | AR21: =IF(AND(AND(AN21="",AO21="",AP21="")),"",AVERAGE(AN21:AP21)) | AS21: =IF(AND(AND(AN21="",AO21="",AP21="")),"",AVERAGE(AR19:AR21))
J22: =IF(AND(AND(G22="",H22="",I22="")),"",MAX(G22:I22)-MIN(G22:I22)) | K22: =IF(AND(AND(G22="",H22="",I22="")),"",AVERAGE(G22:I22)) | L22: =IF(AND(AND(G22="",H22="",I22="")),"",AVERAGE(K20:K22)) | U22: =IF(AND(AND(R22="",S22="",T22="")),"",MAX(R22:T22)-MIN(R22:T22)) | V22: =IF(AND(AND(R22="",S22="",T22="")),"",AVERAGE(R22:T22)) | W22: =IF(AND(AND(R22="",S22="",T22="")),"",AVERAGE(V20:V22)) | AF22: =IF(AND(AND(AC22="",AD22="",AE22="")),"",MAX(AC22:AE22)-MIN(AC22:AE22)) | AG22: =IF(AND(AND(AC22="",AD22="",AE22="")),"",AVERAGE(AC22:AE22)) | AH22: =IF(AND(AND(AC22="",AD22="",AE22="")),"",AVERAGE(AG20:AG22)) | AQ22: =IF(AND(AND(AN22="",AO22="",AP22="")),"",MAX(AN22:AP22)-MIN(AN22:AP22)) | AR22: =IF(AND(AND(AN22="",AO22="",AP22="")),"",AVERAGE(AN22:AP22)) | AS22: =IF(AND(AND(AN22="",AO22="",AP22="")),"",AVERAGE(AR20:AR22))
J23: =IF(AND(AND(G23="",H23="",I23="")),"",MAX(G23:I23)-MIN(G23:I23)) | K23: =IF(AND(AND(G23="",H23="",I23="")),"",AVERAGE(G23:I23)) | L23: =IF(AND(AND(G23="",H23="",I23="")),"",AVERAGE(K21:K23)) | U23: =IF(AND(AND(R23="",S23="",T23="")),"",MAX(R23:T23)-MIN(R23:T23)) | V23: =IF(AND(AND(R23="",S23="",T23="")),"",AVERAGE(R23:T23)) | W23: =IF(AND(AND(R23="",S23="",T23="")),"",AVERAGE(V21:V23)) | AF23: =IF(AND(AND(AC23="",AD23="",AE23="")),"",MAX(AC23:AE23)-MIN(AC23:AE23)) | AG23: =IF(AND(AND(AC23="",AD23="",AE23="")),"",AVERAGE(AC23:AE23)) | AH23: =IF(AND(AND(AC23="",AD23="",AE23="")),"",AVERAGE(AG21:AG23)) | AQ23: =IF(AND(AND(AN23="",AO23="",AP23="")),"",MAX(AN23:AP23)-MIN(AN23:AP23)) | AR23: =IF(AND(AND(AN23="",AO23="",AP23="")),"",AVERAGE(AN23:AP23)) | AS23: =IF(AND(AND(AN23="",AO23="",AP23="")),"",AVERAGE(AR21:AR23))
J24: =IF(AND(AND(G24="",H24="",I24="")),"",MAX(G24:I24)-MIN(G24:I24)) | K24: =IF(AND(AND(G24="",H24="",I24="")),"",AVERAGE(G24:I24)) | L24: =IF(AND(AND(G24="",H24="",I24="")),"",AVERAGE(K22:K24)) | U24: =IF(AND(AND(R24="",S24="",T24="")),"",MAX(R24:T24)-MIN(R24:T24)) | V24: =IF(AND(AND(R24="",S24="",T24="")),"",AVERAGE(R24:T24)) | W24: =IF(AND(AND(R24="",S24="",T24="")),"",AVERAGE(V22:V24)) | AF24: =IF(AND(AND(AC24="",AD24="",AE24="")),"",MAX(AC24:AE24)-MIN(AC24:AE24)) | AG24: =IF(AND(AND(AC24="",AD24="",AE24="")),"",AVERAGE(AC24:AE24)) | AH24: =IF(AND(AND(AC24="",AD24="",AE24="")),"",AVERAGE(AG22:AG24)) | AQ24: =IF(AND(AND(AN24="",AO24="",AP24="")),"",MAX(AN24:AP24)-MIN(AN24:AP24)) | AR24: =IF(AND(AND(AN24="",AO24="",AP24="")),"",AVERAGE(AN24:AP24)) | AS24: =IF(AND(AND(AN24="",AO24="",AP24="")),"",AVERAGE(AR22:AR24))
J25: =IF(AND(AND(G25="",H25="",I25="")),"",MAX(G25:I25)-MIN(G25:I25)) | K25: =IF(AND(AND(G25="",H25="",I25="")),"",AVERAGE(G25:I25)) | L25: =IF(AND(AND(G25="",H25="",I25="")),"",AVERAGE(K23:K25)) | U25: =IF(AND(AND(R25="",S25="",T25="")),"",MAX(R25:T25)-MIN(R25:T25)) | V25: =IF(AND(AND(R25="",S25="",T25="")),"",AVERAGE(R25:T25)) | W25: =IF(AND(AND(R25="",S25="",T25="")),"",AVERAGE(V23:V25)) | AF25: =IF(AND(AND(AC25="",AD25="",AE25="")),"",MAX(AC25:AE25)-MIN(AC25:AE25)) | AG25: =IF(AND(AND(AC25="",AD25="",AE25="")),"",AVERAGE(AC25:AE25)) | AH25: =IF(AND(AND(AC25="",AD25="",AE25="")),"",AVERAGE(AG23:AG25)) | AQ25: =IF(AND(AND(AN25="",AO25="",AP25="")),"",MAX(AN25:AP25)-MIN(AN25:AP25)) | AR25: =IF(AND(AND(AN25="",AO25="",AP25="")),"",AVERAGE(AN25:AP25)) | AS25: =IF(AND(AND(AN25="",AO25="",AP25="")),"",AVERAGE(AR23:AR25))
J26: =IF(AND(AND(G26="",H26="",I26="")),"",MAX(G26:I26)-MIN(G26:I26)) | K26: =IF(AND(AND(G26="",H26="",I26="")),"",AVERAGE(G26:I26)) | L26: =IF(AND(AND(G26="",H26="",I26="")),"",AVERAGE(K24:K26)) | U26: =IF(AND(AND(R26="",S26="",T26="")),"",MAX(R26:T26)-MIN(R26:T26)) | V26: =IF(AND(AND(R26="",S26="",T26="")),"",AVERAGE(R26:T26)) | W26: =IF(AND(AND(R26="",S26="",T26="")),"",AVERAGE(V24:V26)) | AF26: =IF(AND(AND(AC26="",AD26="",AE26="")),"",MAX(AC26:AE26)-MIN(AC26:AE26)) | AG26: =IF(AND(AND(AC26="",AD26="",AE26="")),"",AVERAGE(AC26:AE26)) | AH26: =IF(AND(AND(AC26="",AD26="",AE26="")),"",AVERAGE(AG24:AG26)) | AQ26: =IF(AND(AND(AN26="",AO26="",AP26="")),"",MAX(AN26:AP26)-MIN(AN26:AP26)) | AR26: =IF(AND(AND(AN26="",AO26="",AP26="")),"",AVERAGE(AN26:AP26)) | AS26: =IF(AND(AND(AN26="",AO26="",AP26="")),"",AVERAGE(AR24:AR26))
J27: =IF(AND(AND(G27="",H27="",I27="")),"",MAX(G27:I27)-MIN(G27:I27)) | K27: =IF(AND(AND(G27="",H27="",I27="")),"",AVERAGE(G27:I27)) | L27: =IF(AND(AND(G27="",H27="",I27="")),"",AVERAGE(K25:K27)) | U27: =IF(AND(AND(R27="",S27="",T27="")),"",MAX(R27:T27)-MIN(R27:T27)) | V27: =IF(AND(AND(R27="",S27="",T27="")),"",AVERAGE(R27:T27)) | W27: =IF(AND(AND(R27="",S27="",T27="")),"",AVERAGE(V25:V27)) | AF27: =IF(AND(AND(AC27="",AD27="",AE27="")),"",MAX(AC27:AE27)-MIN(AC27:AE27)) | AG27: =IF(AND(AND(AC27="",AD27="",AE27="")),"",AVERAGE(AC27:AE27)) | AH27: =IF(AND(AND(AC27="",AD27="",AE27="")),"",AVERAGE(AG25:AG27)) | AQ27: =IF(AND(AND(AN27="",AO27="",AP27="")),"",MAX(AN27:AP27)-MIN(AN27:AP27)) | AR27: =IF(AND(AND(AN27="",AO27="",AP27="")),"",AVERAGE(AN27:AP27)) | AS27: =IF(AND(AND(AN27="",AO27="",AP27="")),"",AVERAGE(AR25:AR27))
... J48: =IF(AND(AND(G48="",H48="",I48="")),"",MAX(G48:I48)-MIN(G48:I48)) | K48: =IF(AND(AND(G48="",H48="",I48="")),"",AVERAGE(G48:I48)) | L48: =IF(AND(AND(G48="",H48="",I48="")),"",AVERAGE(K46:K48)) | U48: =IF(AND(AND(R48="",S48="",T48="")),"",MAX(R48:T48)-MIN(R48:T48)) | V48: =IF(AND(AND(R48="",S48="",T48="")),"",AVERAGE(R48:T48)) | W48: =IF(AND(AND(R48="",S48="",T48="")),"",AVERAGE(V46:V48)) | AF48: =IF(AND(AND(AC48="",AD48="",AE48="")),"",MAX(AC48:AE48)-MIN(AC48:AE48)) | AG48: =IF(AND(AND(AC48="",AD48="",AE48="")),"",AVERAGE(AC48:AE48)) | AH48: =IF(AND(AND(AC48="",AD48="",AE48="")),"",AVERAGE(AG46:AG48)) | AQ48: =IF(AND(AND(AN48="",AO48="",AP48="")),"",MAX(AN48:AP48)-MIN(AN48:AP48)) | AR48: =IF(AND(AND(AN48="",AO48="",AP48="")),"",AVERAGE(AN48:AP48)) | AS48: =IF(AND(AND(AN48="",AO48="",AP48="")),"",AVERAGE(AR46:AR48))
B49: Average | D49: =IF(D14="","",AVERAGE(D14:D48)) | E49: =IF(E14="","",AVERAGE(E14:E48)) | F49: =IF(F14="","",AVERAGE(F14:F48)) | J49: =IF(B14="","",AVERAGE(J14:J48)) | K49: =IF(B14="","",AVERAGE(K14:K48)) | M49: Average | O49: =IF(O14="","",AVERAGE(O14:O48)) | P49: =IF(P14="","",AVERAGE(P14:P48)) | Q49: =IF(Q14="","",AVERAGE(Q14:Q48)) | U49: =IF(M14="","",AVERAGE(U14:U48)) | V49: =IF(M14="","",AVERAGE(V14:V48)) | X49: Average | Z49: =IF(Z14="","",AVERAGE(Z14:Z48)) | AA49: =IF(AA14="","",AVERAGE(AA14:AA48)) | AB49: =IF(AB14="","",AVERAGE(AB14:AB48)) | AF49: =IF(X14="","",AVERAGE(AF14:AF48)) | AG49: =IF(X14="","",AVERAGE(AG14:AG48)) | AI49: Average | AK49: =IF(AK14="","",AVERAGE(AK14:AK48)) | AL49: =IF(AL14="","",AVERAGE(AL14:AL48)) | AM49: =IF(AM14="","",AVERAGE(AM14:AM48)) | AQ49: =IF(AI14="","",AVERAGE(AQ14:AQ48)) | AR49: =IF(AI14="","",AVERAGE(AR14:AR48))
B51: Strength Analysis | M51: Strength Analysis | X51: Strength Analysis | AI51: Strength Analysis
B53: Average Strength, X | F53: =IF(B14="","",K49) | G53: psi | H53: Min Strength | K53: =IF(B14="","",MIN(K14:K48)) | L53: psi | M53: Average Strength, X | Q53: =IF(M14="","",V49) | R53: psi | S53: Min Strength | V53: =IF(M14="","",MIN(V14:V48)) | W53: psi | X53: Average Strength, X | AB53: =IF(X14="","",AG49) | AC53: psi | AD53: Min Strength | AG53: =IF(X14="","",MIN(AG14:AG48)) | AH53: psi | AI53: Average Strength, X | AM53: =IF(AI14="","",AR49) | AN53: psi | AO53: Min Strength | AR53: =IF(AI14="","",MIN(AR14:AR48)) | AS53: psi
B54: No. of Tests, N | F54: =IF(B14="","",COUNT(B14:B48)) | H54: Avg Strength | K54: =IF(B14="","",K49) | L54: psi | M54: No. of Tests, N | Q54: =IF(M14="","",COUNT(M14:M48)) | S54: Avg Strength | V54: =IF(M14="","",V49) | W54: psi | X54: No. of Tests, N | AB54: =IF(X14="","",COUNT(X14:X48)) | AD54: Avg Strength | AG54: =IF(X14="","",AG49) | AH54: psi | AI54: No. of Tests, N | AM54: =IF(AI14="","",COUNT(AI14:AI48)) | AO54: Avg Strength | AR54: =IF(AI14="","",AR49) | AS54: psi
H55: Max Strength | K55: =IF(B14="","",MAX(K14:K48)) | L55: psi | S55: Max Strength | V55: =IF(M14="","",MAX(V14:V48)) | W55: psi | AD55: Max Strength | AG55: =IF(X14="","",MAX(AG14:AG48)) | AH55: psi | AO55: Max Strength | AR55: =IF(AI14="","",MAX(AR14:AR48)) | AS55: psi
B56: Average Range, R | F56: =IF(B14="","",J49) | G56: psi | M56: Average Range, R | Q56: =IF(M14="","",U49) | R56: psi | X56: Average Range, R | AB56: =IF(X14="","",AF49) | AC56: psi | AI56: Average Range, R | AM56: =IF(AI14="","",AQ49) | AN56: psi
H57: Min Slump | K57: =IF(B14="","",MIN(D14:D48)) | L57: in | S57: Min Slump | V57: =IF(M14="","",MIN(O14:O48)) | W57: in | AD57: Min Slump | AG57: =IF(X14="","",MIN(Z14:Z48)) | AH57: in | AO57: Min Slump | AR57: =IF(AI14="","",MIN(AK14:AK48)) | AS57: in
B58: Standard Deviation, S | F58: =IF(B14="","",STDEV(K14:K48)) | G58: psi | H58: Avg Slump | K58: =IF(B14="","",D49) | L58: in | M58: Standard Deviation, S | Q58: =IF(M14="","",STDEV(V14:V48)) | R58: psi | S58: Avg Slump | V58: =IF(M14="","",O49) | W58: in | X58: Standard Deviation, S | AB58: =IF(X14="","",STDEV(AG14:AG48)) | AC58: psi | AD58: Avg Slump | AG58: =IF(X14="","",Z49) | AH58: in | AI58: Standard Deviation, S | AM58: =IF(AI14="","",STDEV(AR14:AR48)) | AN58: psi | AO58: Avg Slump | AR58: =IF(AI14="","",AK49) | AS58: in
B59: Coefficient of Variation, V | F59: =IF(B14="","",F58/F53*100) | G59: % | H59: Max Slump | K59: =IF(B14="","",MAX(D14:D48)) | L59: in | M59: Coefficient of Variation, V | Q59: =IF(M14="","",Q58/Q53*100) | R59: % | S59: Max Slump | V59: =IF(M14="","",MAX(O14:O48)) | W59: in | X59: Coefficient of Variation, V | AB59: =IF(X14="","",AB58/AB53*100) | AC59: % | AD59: Max Slump | AG59: =IF(X14="","",MAX(Z14:Z48)) | AH59: in | AI59: Coefficient of Variation, V | AM59: =IF(AI14="","",AM58/AM53*100) | AN59: % | AO59: Max Slump | AR59: =IF(AI14="","",MAX(AK14:AK48)) | AS59: in
B61: Within-Test Std Dev. | F61: =IF(B14="","",F58/1.128) | G61: psi | H61: Min Air Content | K61: =IF(B14="","",MIN(E14:E48)) | L61: % | M61: Within-Test Std Dev. | Q61: =IF(M14="","",Q58/1.128) | R61: psi | S61: Min Air Content | V61: =IF(M14="","",MIN(P14:P48)) | W61: % | X61: Within-Test Std Dev. | AB61: =IF(X14="","",AB58/1.128) | AC61: psi | AD61: Min Air Content | AG61: =IF(X14="","",MIN(AA14:AA48)) | AH61: % | AI61: Within-Test Std Dev. | AM61: =IF(AI14="","",AM58/1.128) | AN61: psi | AO61: Min Air Content | AR61: =IF(AI14="","",MIN(AL14:AL48)) | AS61: %
B62: Within-Test Coeff. of Var. | F62: =IF(B14="","",F61/F53*100) | G62: % | H62: Avg Air Content | K62: =IF(B14="","",E49) | L62: % | M62: Within-Test Coeff. of Var. | Q62: =IF(M14="","",Q61/Q53*100) | R62: % | S62: Avg Air Content | V62: =IF(M14="","",P49) | W62: % | X62: Within-Test Coeff. of Var. | AB62: =IF(X14="","",AB61/AB53*100) | AC62: % | AD62: Avg Air Content | AG62: =IF(X14="","",AA49) | AH62: % | AI62: Within-Test Coeff. of Var. | AM62: =IF(AI14="","",AM61/AM53*100) | AN62: % | AO62: Avg Air Content | AR62: =IF(AI14="","",AL49) | AS62: %
H63: Max Air Content | K63: =IF(B14="","",MAX(E14:E48)) | L63: % | S63: Max Air Content | V63: =IF(M14="","",MAX(P14:P48)) | W63: % | AD63: Max Air Content | AG63: =IF(X14="","",MAX(AA14:AA48)) | AH63: % | AO63: Max Air Content | AR63: =IF(AI14="","",MAX(AL14:AL48)) | AS63: %
B64: Batch-to-Batch Std Dev. | F64: =IF(B14="","",SQRT((F58*F58)-(F61*F61))) | G64: psi | M64: Batch-to-Batch Std Dev. | Q64: =IF(M14="","",SQRT((Q58*Q58)-(Q61*Q61))) | R64: psi | X64: Batch-to-Batch Std Dev. | AB64: =IF(X14="","",SQRT((AB58*AB58)-(AB61*AB61))) | AC64: psi | AI64: Batch-to-Batch Std Dev. | AM64: =IF(AI14="","",SQRT((AM58*AM58)-(AM61*AM61))) | AN64: psi
B65: Batch-to-Batch Coeff. Of Var. | F65: =IF(B14="","",(F64/F53)*100) | G65: % | H65: Min Conc. Temp | K65: =IF(B14="","",MIN(F14:F48)) | L65: F | M65: Batch-to-Batch Coeff. Of Var. | Q65: =IF(M14="","",(Q64/Q53)*100) | R65: % | S65: Min Conc. Temp | V65: =IF(M14="","",MIN(Q14:Q48)) | W65: F | X65: Batch-to-Batch Coeff. Of Var. | AB65: =IF(X14="","",(AB64/AB53)*100) | AC65: % | AD65: Min Conc. Temp | AG65: =IF(X14="","",MIN(AB14:AB48)) | AH65: F | AI65: Batch-to-Batch Coeff. Of Var. | AM65: =IF(AI14="","",(AM64/AM53)*100) | AN65: % | AO65: Min Conc. Temp | AR65: =IF(AI14="","",MIN(AM14:AM48)) | AS65: F
H66: Avg Conc. Temp | K66: =IF(B14="","",F49) | L66: F | S66: Avg Conc. Temp | V66: =IF(M14="","",Q49) | W66: F | AD66: Avg Conc. Temp | AG66: =IF(X14="","",AB49) | AH66: F | AO66: Avg Conc. Temp | AR66: =IF(AI14="","",AM49) | AS66: F
H67: Max Conc. Temp | K67: =IF(B14="","",MAX(F14:F48)) | L67: F | S67: Max Conc. Temp | V67: =IF(M14="","",MAX(Q14:Q48)) | W67: F | AD67: Max Conc. Temp | AG67: =IF(X14="","",MAX(AB14:AB48)) | AH67: F | AO67: Max Conc. Temp | AR67: =IF(AI14="","",MAX(AM14:AM48)) | AS67: F
...
